Workbook

Sheet （別紙１）車両内訳表
A1: リース車両内訳表
A2: № | B2: ﾘｰｽ期間 | C2: 電気自動車の種別 | E2: 納入場所 | F2: 月額ﾘｰｽ料 | G2: 消費税 | H2: ﾘｰｽ | I2: ﾘｰｽ料 | J2: 備考
C3: 用途等 | F3: （円） | G3: （円） | H3: 月数 | I3: 合計（円）
A4: 1 | B4: R9.4.1 ～R14.2.29 | C4: 軽自動車 乗用 | D4: 自家用 | E4: 教育支援課 （岡山市教育センター） | G4: =INT(F4*0.1) -> 0 | H4: 59 | I4: =(F4+G4)*H4 -> 0 | J4: 冬タイヤ
A5: 2 | B5: R9.4.1 ～R14.2.29 | C5: 軽自動車 乗用 | D5: 自家用 | E5: 教育支援課 （岡山市教育センター） | G5: =INT(F5*0.1) -> 0 | H5: 59 | I5: =(F5+G5)*H5 -> 0 | J5: 冬タイヤ
A6: 3 | B6: R9.4.1 ～R14.2.29 | C6: 軽自動車 乗用 | D6: 自家用 | E6: 教育支援課 （岡山市教育センター） | G6: =INT(F6*0.1) -> 0 | H6: 59 | I6: =(F6+G6)*H6 -> 0 | J6: 冬タイヤ
A7: 4 | B7: R9.4.1 ～R14.2.29 | C7: 軽自動車 乗用 | D7: 自家用 | E7: 教育支援課 （岡山市教育センター） | G7: =INT(F7*0.1) -> 0 | H7: 59 | I7: =(F7+G7)*H7 -> 0 | J7: 冬タイヤ
A8: 5 | B8: R9.4.1 ～R14.2.29 | C8: 軽自動車 乗用 | D8: 自家用 | E8: 教育支援課 （岡山市教育センター） | G8: =INT(F8*0.1) -> 0 | H8: 59 | I8: =(F8+G8)*H8 -> 0 | J8: 冬タイヤ
A9: 6 | B9: R9.4.1 ～R14.2.29 | C9: 軽自動車 乗用 | D9: 自家用 | E9: 教育支援課 （岡山市教育センター） | G9: =INT(F9*0.1) -> 0 | H9: 59 | I9: =(F9+G9)*H9 -> 0 | J9: 冬タイヤ
A10: 7 | B10: R9.4.1 ～R14.2.29 | C10: 軽自動車 乗用 | D10: 自家用 | E10: 教育支援課 （岡山市教育センター） | G10: =INT(F10*0.1) -> 0 | H10: 59 | I10: =(F10+G10)*H10 -> 0 | J10: 冬タイヤ
A11: 8 | B11: R9.6.1 ～R14.4.30 | C11: 軽自動車 貨物 | D11: 自家用 | E11: 消防企画総務課（岡山市消防教育訓練センター総合訓練施設） | G11: =INT(F11*0.1) -> 0 | H11: 59 | I11: =(F11+G11)*H11 -> 0
A12: 9 | B12: R9.7.1 ～R14.5.31 | C12: 軽自動車 乗用 | D12: 自家用 | E12: 健康づくり課 （東区保健センター） | G12: =INT(F12*0.1) -> 0 | H12: 59 | I12: =(F12+G12)*H12 -> 0
A13: 10 | B13: R9.7.1 ～R14.5.31 | C13: 軽自動車 貨物 | D13: 自家用 | E13: 環境事業課 （南区ごみ対策班） | G13: =INT(F13*0.1) -> 0 | H13: 59 | I13: =(F13+G13)*H13 -> 0 | J13: 冬タイヤ
A14: 11 | B14: R10.1.1 ～R14.11.30 | C14: 軽自動車 貨物 | D14: 自家用 | E14: 東区役所市民保険年金課 | G14: =INT(F14*0.1) -> 0 | H14: 59 | I14: =(F14+G14)*H14 -> 0
A15: 12 | B15: R10.1.1 ～R14.11.30 | C15: 軽自動車 貨物 | D15: 自家用 | E15: 中区福祉事務所 | G15: =INT(F15*0.1) -> 0 | H15: 59 | I15: =(F15+G15)*H15 -> 0
A16: 13 | B16: R10.1.1 ～R14.11.30 | C16: 軽自動車 貨物 | D16: 自家用 | E16: 南区西福祉事務所 | G16: =INT(F16*0.1) -> 0 | H16: 59 | I16: =(F16+G16)*H16 -> 0
A17: 14 | B17: R10.1.1 ～R14.11.30 | C17: 軽自動車 乗用 | D17: 自家用 | E17: 南区西福祉事務所 | G17: =INT(F17*0.1) -> 0 | H17: 59 | I17: =(F17+G17)*H17 -> 0
A18: 15 | B18: R10.1.1 ～R14.11.30 | C18: 軽自動車 貨物 | D18: 自家用 | E18: 北区北福祉事務所 | G18: =INT(F18*0.1) -> 0 | H18: 59 | I18: =(F18+G18)*H18 -> 0
A19: 16 | B19: R10.1.1 ～R14.11.30 | C19: 軽自動車 乗用 | D19: 自家用 | E19: 健康づくり課 （中区保健センター） | G19: =INT(F19*0.1) -> 0 | H19: 59 | I19: =(F19+G19)*H19 -> 0
A20: 17 | B20: R10.3.1 ～R15.1.31 | C20: 軽自動車 貨物 | D20: 自家用 | E20: 第１事業所 | G20: =INT(F20*0.1) -> 0 | H20: 59 | I20: =(F20+G20)*H20 -> 0
A21: 18 | B21: R10.3.1 ～R15.1.31 | C21: 軽自動車 貨物 | D21: 自家用 | E21: 北区役所津高地域センター | G21: =INT(F21*0.1) -> 0 | H21: 59 | I21: =(F21+G21)*H21 -> 0 | J21: 車載用放送設備
A22: 19 | B22: R10.3.1 ～R15.1.31 | C22: 軽自動車 貨物 | D22: 自家用 | E22: 南区西福祉事務所 | G22: =INT(F22*0.1) -> 0 | H22: 59 | I22: =(F22+G22)*H22 -> 0
F23: 総 計 | I23: =SUM(I4:I22) -> 0

Sheet （別紙２）月別
E1: 9年度 | AO1: 10年度 | BY1: 11年度 | DI1: 12年度 | ES1: 13年度 | GC1: 14年度
A2: № | B2: 納入先 | C2: リース | D2: リース | E2: 4月 | H2: 5月 | K2: 6月 | N2: 7月 | Q2: 8月 | T2: 9月 | W2: 10月 | Z2: 11月 | AC2: 12月 | AF2: 1月 | AI2: 2月 | AL2: 3月 | AO2: 4月 | AR2: 5月 | AU2: 6月 | AX2: 7月 | BA2: 8月 | BD2: 9月 | BG2: 10月 | BJ2: 11月 | BM2: 12月 | BP2: 1月 | BS2: 2月 | BV2: 3月 | BY2: 4月 | CB2: 5月 | CE2: 6月 | CH2: 7月 | CK2: 8月 | CN2: 9月 | CQ2: 10月 | CT2: 11月 | CW2: 12月 | CZ2: 1月 | DC2: 2月 | DF2: 3月 | DI2: 4月 | DL2: 5月 | DO2: 6月 | DR2: 7月 | DU2: 8月 | DX2: 9月 | EA2: 9月 | ED2: 11月 | EG2: 12月 | EJ2: 1月 | EM2: 2月 | EP2: 3月 | ES2: 4月 | EV2: 5月 | EY2: 6月 | FB2: 7月 | FE2: 8月 | FH2: 9月 | FK2: 10月 | FN2: 11月 | FQ2: 12月 | FT2: 1月 | FW2: 2月 | FZ2: 3月 | GC2: 4月 | GF2: 5月 | GI2: 6月 | GL2: 7月 | GO2: 8月 | GR2: 9月 | GU2: 10月 | GX2: 11月 | HA2: 12月 | HD2: 1月 | HG2: 2月 | HJ2: 3月
C3: 開始日 | D3: 満了日 | E3: 月額 | F3: 税 | G3: 計 | H3: 月額 | I3: 税 | J3: 計 | K3: 月額 | L3: 税 | M3: 計 | N3: 月額 | O3: 税 | P3: 計 | Q3: 月額 | R3: 税 | S3: 計 | T3: 月額 | U3: 税 | V3: 計 | W3: 月額 | X3: 税 | Y3: 計 | Z3: 月額 | AA3: 税 | AB3: 計 | AC3: 月額 | AD3: 税 | AE3: 計 | AF3: 月額 | AG3: 税 | AH3: 計 | AI3: 月額 | AJ3: 税 | AK3: 計 | AL3: 月額 | AM3: 税 | AN3: 計 | AO3: 月額 | AP3: 税 | AQ3: 計 | AR3: 月額 | AS3: 税 | AT3: 計 | AU3: 月額 | AV3: 税 | AW3: 計 | AX3: 月額 | AY3: 税 | AZ3: 計 | BA3: 月額 | BB3: 税 | BC3: 計 | BD3: 月額 | BE3: 税 | BF3: 計 | BG3: 月額 | BH3: 税 | BI3: 計 | BJ3: 月額 | BK3: 税 | BL3: 計 | BM3: 月額 | BN3: 税 | BO3: 計 | BP3: 月額 | BQ3: 税 | BR3: 計 | BS3: 月額 | BT3: 税 | BU3: 計 | BV3: 月額 | BW3: 税 | BX3: 計 | BY3: 月額 | BZ3: 税 | CA3: 計 | CB3: 月額 | CC3: 税 | CD3: 計 | CE3: 月額 | CF3: 税 | CG3: 計 | CH3: 月額 | CI3: 税 | CJ3: 計 | CK3: 月額 | CL3: 税 | CM3: 計 | CN3: 月額 | CO3: 税 | CP3: 計 | CQ3: 月額 | CR3: 税 | CS3: 計 | CT3: 月額 | CU3: 税 | CV3: 計 | CW3: 月額 | CX3: 税 | CY3: 計 | CZ3: 月額 | DA3: 税 | DB3: 計 | DC3: 月額 | DD3: 税 | DE3: 計 | DF3: 月額 | DG3: 税 | DH3: 計 | DI3: 月額 | DJ3: 税 | DK3: 計 | DL3: 月額 | DM3: 税 | DN3: 計 | DO3: 月額 | DP3: 税 | DQ3: 計 | DR3: 月額 | DS3: 税 | DT3: 計 | DU3: 月額 | DV3: 税 | DW3: 計 | DX3: 月額 | DY3: 税 | DZ3: 計 | EA3: 月額 | EB3: 税 | EC3: 計 | ED3: 月額 | EE3: 税 | EF3: 計 | EG3: 月額 | EH3: 税 | EI3: 計 | EJ3: 月額 | EK3: 税 | EL3: 計 | EM3: 月額 | EN3: 税 | EO3: 計 | EP3: 月額 | EQ3: 税 | ER3: 計 | ES3: 月額 | ET3: 税 | EU3: 計 | EV3: 月額 | EW3: 税 | EX3: 計 | EY3: 月額 | EZ3: 税 | FA3: 計 | FB3: 月額 | FC3: 税 | FD3: 計 | FE3: 月額 | FF3: 税 | FG3: 計 | FH3: 月額 | FI3: 税 | FJ3: 計 | FK3: 月額 | FL3: 税 | FM3: 計 | FN3: 月額 | FO3: 税 | FP3: 計 | FQ3: 月額 | FR3: 税 | FS3: 計 | FT3: 月額 | FU3: 税 | FV3: 計 | FW3: 月額 | FX3: 税 | FY3: 計 | FZ3: 月額 | GA3: 税 | GB3: 計 | GC3: 月額 | GD3: 税 | GE3: 計 | GF3: 月額 | GG3: 税 | GH3: 計 | GI3: 月額 | GJ3: 税 | GK3: 計 | GL3: 月額 | GM3: 税 | GN3: 計 | GO3: 月額 | GP3: 税 | GQ3: 計 | GR3: 月額 | GS3: 税 | GT3: 計 | GU3: 月額 | GV3: 税 | GW3: 計 | GX3: 月額 | GY3: 税 | GZ3: 計 | HA3: 月額 | HB3: 税 | HC3: 計 | HD3: 月額 | HE3: 税 | HF3: 計 | HG3: 月額 | HH3: 税 | HI3: 計 | HJ3: 月額 | HK3: 税 | HL3: 計
A4: 1 | B4: 教育支援課 （岡山市教育センター） | C4: 46478 | D4: =EDATE(C4,59)-1 -> 48273 | E4: ='（別紙１）車両内訳表'!$F4 -> 0 | F4: =INT(E4*0.1) -> 0 | G4: =SUM(E4:F4) -> 0 | H4: ='（別紙１）車両内訳表'!$F4 -> 0 | I4: =INT(H4*0.1) -> 0 | J4: =SUM(H4:I4) -> 0 | K4: ='（別紙１）車両内訳表'!$F4 -> 0 | L4: =INT(K4*0.1) -> 0 | M4: =SUM(K4:L4) -> 0 | N4: ='（別紙１）車両内訳表'!$F4 -> 0 | O4: =INT(N4*0.1) -> 0 | P4: =SUM(N4:O4) -> 0 | Q4: ='（別紙１）車両内訳表'!$F4 -> 0 | R4: =INT(Q4*0.1) -> 0 | S4: =SUM(Q4:R4) -> 0 | T4: ='（別紙１）車両内訳表'!$F4 -> 0 | U4: =INT(T4*0.1) -> 0 | V4: =SUM(T4:U4) -> 0 | W4: ='（別紙１）車両内訳表'!$F4 -> 0 | X4: =INT(W4*0.1) -> 0 | Y4: =SUM(W4:X4) -> 0 | Z4: ='（別紙１）車両内訳表'!$F4 -> 0 | AA4: =INT(Z4*0.1) -> 0 | AB4: =SUM(Z4:AA4) -> 0 | AC4: ='（別紙１）車両内訳表'!$F4 -> 0 | AD4: =INT(AC4*0.1) -> 0 | AE4: =SUM(AC4:AD4) -> 0 | AF4: ='（別紙１）車両内訳表'!$F4 -> 0 | AG4: =INT(AF4*0.1) -> 0 | AH4: =SUM(AF4:AG4) -> 0 | AI4: ='（別紙１）車両内訳表'!$F4 -> 0 | AJ4: =INT(AI4*0.1) -> 0 | AK4: =SUM(AI4:AJ4) -> 0 | AL4: ='（別紙１）車両内訳表'!$F4 -> 0 | AM4: =INT(AL4*0.1) -> 0 | AN4: =SUM(AL4:AM4) -> 0 | AO4: ='（別紙１）車両内訳表'!$F4 -> 0 | AP4: =INT(AO4*0.1) -> 0 | AQ4: =SUM(AO4:AP4) -> 0 | AR4: ='（別紙１）車両内訳表'!$F4 -> 0 | AS4: =INT(AR4*0.1) -> 0 | AT4: =SUM(AR4:AS4) -> 0 | AU4: ='（別紙１）車両内訳表'!$F4 -> 0 | AV4: =INT(AU4*0.1) -> 0 | AW4: =SUM(AU4:AV4) -> 0 | AX4: ='（別紙１）車両内訳表'!$F4 -> 0 | AY4: =INT(AX4*0.1) -> 0 | AZ4: =SUM(AX4:AY4) -> 0 | BA4: ='（別紙１）車両内訳表'!$F4 -> 0 | BB4: =INT(BA4*0.1) -> 0 | BC4: =SUM(BA4:BB4) -> 0 | BD4: ='（別紙１）車両内訳表'!$F4 -> 0 | BE4: =INT(BD4*0.1) -> 0 | BF4: =SUM(BD4:BE4) -> 0 | BG4: ='（別紙１）車両内訳表'!$F4 -> 0 | BH4: =INT(BG4*0.1) -> 0 | BI4: =SUM(BG4:BH4) -> 0 | BJ4: ='（別紙１）車両内訳表'!$F4 -> 0 | BK4: =INT(BJ4*0.1) -> 0 | BL4: =SUM(BJ4:BK4) -> 0 | BM4: ='（別紙１）車両内訳表'!$F4 -> 0 | BN4: =INT(BM4*0.1) -> 0 | BO4: =SUM(BM4:BN4) -> 0 | BP4: ='（別紙１）車両内訳表'!$F4 -> 0 | BQ4: =INT(BP4*0.1) -> 0 | BR4: =SUM(BP4:BQ4) -> 0 | BS4: ='（別紙１）車両内訳表'!$F4 -> 0 | BT4: =INT(BS4*0.1) -> 0 | BU4: =SUM(BS4:BT4) -> 0 | BV4: ='（別紙１）車両内訳表'!$F4 -> 0 | BW4: =INT(BV4*0.1) -> 0 | BX4: =SUM(BV4:BW4) -> 0 | BY4: ='（別紙１）車両内訳表'!$F4 -> 0 | BZ4: =INT(BY4*0.1) -> 0 | CA4: =SUM(BY4:BZ4) -> 0 | CB4: ='（別紙１）車両内訳表'!$F4 -> 0 | CC4: =INT(CB4*0.1) -> 0 | CD4: =SUM(CB4:CC4) -> 0 | CE4: ='（別紙１）車両内訳表'!$F4 -> 0 | CF4: =INT(CE4*0.1) -> 0 | CG4: =SUM(CE4:CF4) -> 0 | CH4: ='（別紙１）車両内訳表'!$F4 -> 0 | CI4: =INT(CH4*0.1) -> 0 | CJ4: =SUM(CH4:CI4) -> 0 | CK4: ='（別紙１）車両内訳表'!$F4 -> 0 | CL4: =INT(CK4*0.1) -> 0 | CM4: =SUM(CK4:CL4) -> 0 | CN4: ='（別紙１）車両内訳表'!$F4 -> 0 | CO4: =INT(CN4*0.1) -> 0 | CP4: =SUM(CN4:CO4) -> 0 | CQ4: ='（別紙１）車両内訳表'!$F4 -> 0 | CR4: =INT(CQ4*0.1) -> 0 | CS4: =SUM(CQ4:CR4) -> 0 | CT4: ='（別紙１）車両内訳表'!$F4 -> 0 | CU4: =INT(CT4*0.1) -> 0 | CV4: =SUM(CT4:CU4) -> 0 | CW4: ='（別紙１）車両内訳表'!$F4 -> 0 | CX4: =INT(CW4*0.1) -> 0 | CY4: =SUM(CW4:CX4) -> 0 | CZ4: ='（別紙１）車両内訳表'!$F4 -> 0 | DA4: =INT(CZ4*0.1) -> 0 | DB4: =SUM(CZ4:DA4) -> 0 | DC4: ='（別紙１）車両内訳表'!$F4 -> 0 | DD4: =INT(DC4*0.1) -> 0 | DE4: =SUM(DC4:DD4) -> 0 | DF4: ='（別紙１）車両内訳表'!$F4 -> 0 | DG4: =INT(DF4*0.1) -> 0 | DH4: =SUM(DF4:DG4) -> 0 | DI4: ='（別紙１）車両内訳表'!$F4 -> 0 | DJ4: =INT(DI4*0.1) -> 0 | DK4: =SUM(DI4:DJ4) -> 0 | DL4: ='（別紙１）車両内訳表'!$F4 -> 0 | DM4: =INT(DL4*0.1) -> 0 | DN4: =SUM(DL4:DM4) -> 0 | DO4: ='（別紙１）車両内訳表'!$F4 -> 0 | DP4: =INT(DO4*0.1) -> 0 | DQ4: =SUM(DO4:DP4) -> 0 | DR4: ='（別紙１）車両内訳表'!$F4 -> 0 | DS4: =INT(DR4*0.1) -> 0 | DT4: =SUM(DR4:DS4) -> 0 | DU4: ='（別紙１）車両内訳表'!$F4 -> 0 | DV4: =INT(DU4*0.1) -> 0 | DW4: =SUM(DU4:DV4) -> 0 | DX4: ='（別紙１）車両内訳表'!$F4 -> 0 | DY4: =INT(DX4*0.1) -> 0 | DZ4: =SUM(DX4:DY4) -> 0 | EA4: ='（別紙１）車両内訳表'!$F4 -> 0 | EB4: =INT(EA4*0.1) -> 0 | EC4: =SUM(EA4:EB4) -> 0 | ED4: ='（別紙１）車両内訳表'!$F4 -> 0 | EE4: =INT(ED4*0.1) -> 0 | EF4: =SUM(ED4:EE4) -> 0 | EG4: ='（別紙１）車両内訳表'!$F4 -> 0 | EH4: =INT(EG4*0.1) -> 0 | EI4: =SUM(EG4:EH4) -> 0 | EJ4: ='（別紙１）車両内訳表'!$F4 -> 0 | EK4: =INT(EJ4*0.1) -> 0 | EL4: =SUM(EJ4:EK4) -> 0 | EM4: ='（別紙１）車両内訳表'!$F4 -> 0 | EN4: =INT(EM4*0.1) -> 0 | EO4: =SUM(EM4:EN4) -> 0 | EP4: ='（別紙１）車両内訳表'!$F4 -> 0 | EQ4: =INT(EP4*0.1) -> 0 | ER4: =SUM(EP4:EQ4) -> 0 | ES4: ='（別紙１）車両内訳表'!$F4 -> 0 | ET4: =INT(ES4*0.1) -> 0 | EU4: =SUM(ES4:ET4) -> 0 | EV4: ='（別紙１）車両内訳表'!$F4 -> 0 | EW4: =INT(EV4*0.1) -> 0 | EX4: =SUM(EV4:EW4) -> 0 | EY4: ='（別紙１）車両内訳表'!$F4 -> 0 | EZ4: =INT(EY4*0.1) -> 0 | FA4: =SUM(EY4:EZ4) -> 0 | FB4: ='（別紙１）車両内訳表'!$F4 -> 0 | FC4: =INT(FB4*0.1) -> 0 | FD4: =SUM(FB4:FC4) -> 0 | FE4: ='（別紙１）車両内訳表'!$F4 -> 0 | FF4: =INT(FE4*0.1) -> 0 | FG4: =SUM(FE4:FF4) -> 0 | FH4: ='（別紙１）車両内訳表'!$F4 -> 0 | FI4: =INT(FH4*0.1) -> 0 | FJ4: =SUM(FH4:FI4) -> 0 | FK4: ='（別紙１）車両内訳表'!$F4 -> 0 | FL4: =INT(FK4*0.1) -> 0 | FM4: =SUM(FK4:FL4) -> 0 | FN4: ='（別紙１）車両内訳表'!$F4 -> 0 | FO4: =INT(FN4*0.1) -> 0 | FP4: =SUM(FN4:FO4) -> 0 | FQ4: ='（別紙１）車両内訳表'!$F4 -> 0 | FR4: =INT(FQ4*0.1) -> 0 | FS4: =SUM(FQ4:FR4) -> 0 | FT4: ='（別紙１）車両内訳表'!$F4 -> 0 | FU4: =INT(FT4*0.1) -> 0 | FV4: =SUM(FT4:FU4) -> 0 | FW4: ='（別紙１）車両内訳表'!$F4 -> 0 | FX4: =INT(FW4*0.1) -> 0 | FY4: =SUM(FW4:FX4) -> 0
A5: 2 | B5: 教育支援課 （岡山市教育センター） | C5: 46478 | D5: =EDATE(C5,59)-1 -> 48273 | E5: ='（別紙１）車両内訳表'!$F5 -> 0 | F5: =INT(E5*0.1) -> 0 | G5: =SUM(E5:F5) -> 0 | H5: ='（別紙１）車両内訳表'!$F5 -> 0 | I5: =INT(H5*0.1) -> 0 | J5: =SUM(H5:I5) -> 0 | K5: ='（別紙１）車両内訳表'!$F5 -> 0 | L5: =INT(K5*0.1) -> 0 | M5: =SUM(K5:L5) -> 0 | N5: ='（別紙１）車両内訳表'!$F5 -> 0 | O5: =INT(N5*0.1) -> 0 | P5: =SUM(N5:O5) -> 0 | Q5: ='（別紙１）車両内訳表'!$F5 -> 0 | R5: =INT(Q5*0.1) -> 0 | S5: =SUM(Q5:R5) -> 0 | T5: ='（別紙１）車両内訳表'!$F5 -> 0 | U5: =INT(T5*0.1) -> 0 | V5: =SUM(T5:U5) -> 0 | W5: ='（別紙１）車両内訳表'!$F5 -> 0 | X5: =INT(W5*0.1) -> 0 | Y5: =SUM(W5:X5) -> 0 | Z5: ='（別紙１）車両内訳表'!$F5 -> 0 | AA5: =INT(Z5*0.1) -> 0 | AB5: =SUM(Z5:AA5) -> 0 | AC5: ='（別紙１）車両内訳表'!$F5 -> 0 | AD5: =INT(AC5*0.1) -> 0 | AE5: =SUM(AC5:AD5) -> 0 | AF5: ='（別紙１）車両内訳表'!$F5 -> 0 | AG5: =INT(AF5*0.1) -> 0 | AH5: =SUM(AF5:AG5) -> 0 | AI5: ='（別紙１）車両内訳表'!$F5 -> 0 | AJ5: =INT(AI5*0.1) -> 0 | AK5: =SUM(AI5:AJ5) -> 0 | AL5: ='（別紙１）車両内訳表'!$F5 -> 0 | AM5: =INT(AL5*0.1) -> 0 | AN5: =SUM(AL5:AM5) -> 0 | AO5: ='（別紙１）車両内訳表'!$F5 -> 0 | AP5: =INT(AO5*0.1) -> 0 | AQ5: =SUM(AO5:AP5) -> 0 | AR5: ='（別紙１）車両内訳表'!$F5 -> 0 | AS5: =INT(AR5*0.1) -> 0 | AT5: =SUM(AR5:AS5) -> 0 | AU5: ='（別紙１）車両内訳表'!$F5 -> 0 | AV5: =INT(AU5*0.1) -> 0 | AW5: =SUM(AU5:AV5) -> 0 | AX5: ='（別紙１）車両内訳表'!$F5 -> 0 | AY5: =INT(AX5*0.1) -> 0 | AZ5: =SUM(AX5:AY5) -> 0 | BA5: ='（別紙１）車両内訳表'!$F5 -> 0 | BB5: =INT(BA5*0.1) -> 0 | BC5: =SUM(BA5:BB5) -> 0 | BD5: ='（別紙１）車両内訳表'!$F5 -> 0 | BE5: =INT(BD5*0.1) -> 0 | BF5: =SUM(BD5:BE5) -> 0 | BG5: ='（別紙１）車両内訳表'!$F5 -> 0 | BH5: =INT(BG5*0.1) -> 0 | BI5: =SUM(BG5:BH5) -> 0 | BJ5: ='（別紙１）車両内訳表'!$F5 -> 0 | BK5: =INT(BJ5*0.1) -> 0 | BL5: =SUM(BJ5:BK5) -> 0 | BM5: ='（別紙１）車両内訳表'!$F5 -> 0 | BN5: =INT(BM5*0.1) -> 0 | BO5: =SUM(BM5:BN5) -> 0 | BP5: ='（別紙１）車両内訳表'!$F5 -> 0 | BQ5: =INT(BP5*0.1) -> 0 | BR5: =SUM(BP5:BQ5) -> 0 | BS5: ='（別紙１）車両内訳表'!$F5 -> 0 | BT5: =INT(BS5*0.1) -> 0 | BU5: =SUM(BS5:BT5) -> 0 | BV5: ='（別紙１）車両内訳表'!$F5 -> 0 | BW5: =INT(BV5*0.1) -> 0 | BX5: =SUM(BV5:BW5) -> 0 | BY5: ='（別紙１）車両内訳表'!$F5 -> 0 | BZ5: =INT(BY5*0.1) -> 0 | CA5: =SUM(BY5:BZ5) -> 0 | CB5: ='（別紙１）車両内訳表'!$F5 -> 0 | CC5: =INT(CB5*0.1) -> 0 | CD5: =SUM(CB5:CC5) -> 0 | CE5: ='（別紙１）車両内訳表'!$F5 -> 0 | CF5: =INT(CE5*0.1) -> 0 | CG5: =SUM(CE5:CF5) -> 0 | CH5: ='（別紙１）車両内訳表'!$F5 -> 0 | CI5: =INT(CH5*0.1) -> 0 | CJ5: =SUM(CH5:CI5) -> 0 | CK5: ='（別紙１）車両内訳表'!$F5 -> 0 | CL5: =INT(CK5*0.1) -> 0 | CM5: =SUM(CK5:CL5) -> 0 | CN5: ='（別紙１）車両内訳表'!$F5 -> 0 | CO5: =INT(CN5*0.1) -> 0 | CP5: =SUM(CN5:CO5) -> 0 | CQ5: ='（別紙１）車両内訳表'!$F5 -> 0 | CR5: =INT(CQ5*0.1) -> 0 | CS5: =SUM(CQ5:CR5) -> 0 | CT5: ='（別紙１）車両内訳表'!$F5 -> 0 | CU5: =INT(CT5*0.1) -> 0 | CV5: =SUM(CT5:CU5) -> 0 | CW5: ='（別紙１）車両内訳表'!$F5 -> 0 | CX5: =INT(CW5*0.1) -> 0 | CY5: =SUM(CW5:CX5) -> 0 | CZ5: ='（別紙１）車両内訳表'!$F5 -> 0 | DA5: =INT(CZ5*0.1) -> 0 | DB5: =SUM(CZ5:DA5) -> 0 | DC5: ='（別紙１）車両内訳表'!$F5 -> 0 | DD5: =INT(DC5*0.1) -> 0 | DE5: =SUM(DC5:DD5) -> 0 | DF5: ='（別紙１）車両内訳表'!$F5 -> 0 | DG5: =INT(DF5*0.1) -> 0 | DH5: =SUM(DF5:DG5) -> 0 | DI5: ='（別紙１）車両内訳表'!$F5 -> 0 | DJ5: =INT(DI5*0.1) -> 0 | DK5: =SUM(DI5:DJ5) -> 0 | DL5: ='（別紙１）車両内訳表'!$F5 -> 0 | DM5: =INT(DL5*0.1) -> 0 | DN5: =SUM(DL5:DM5) -> 0 | DO5: ='（別紙１）車両内訳表'!$F5 -> 0 | DP5: =INT(DO5*0.1) -> 0 | DQ5: =SUM(DO5:DP5) -> 0 | DR5: ='（別紙１）車両内訳表'!$F5 -> 0 | DS5: =INT(DR5*0.1) -> 0 | DT5: =SUM(DR5:DS5) -> 0 | DU5: ='（別紙１）車両内訳表'!$F5 -> 0 | DV5: =INT(DU5*0.1) -> 0 | DW5: =SUM(DU5:DV5) -> 0 | DX5: ='（別紙１）車両内訳表'!$F5 -> 0 | DY5: =INT(DX5*0.1) -> 0 | DZ5: =SUM(DX5:DY5) -> 0 | EA5: ='（別紙１）車両内訳表'!$F5 -> 0 | EB5: =INT(EA5*0.1) -> 0 | EC5: =SUM(EA5:EB5) -> 0 | ED5: ='（別紙１）車両内訳表'!$F5 -> 0 | EE5: =INT(ED5*0.1) -> 0 | EF5: =SUM(ED5:EE5) -> 0 | EG5: ='（別紙１）車両内訳表'!$F5 -> 0 | EH5: =INT(EG5*0.1) -> 0 | EI5: =SUM(EG5:EH5) -> 0 | EJ5: ='（別紙１）車両内訳表'!$F5 -> 0 | EK5: =INT(EJ5*0.1) -> 0 | EL5: =SUM(EJ5:EK5) -> 0 | EM5: ='（別紙１）車両内訳表'!$F5 -> 0 | EN5: =INT(EM5*0.1) -> 0 | EO5: =SUM(EM5:EN5) -> 0 | EP5: ='（別紙１）車両内訳表'!$F5 -> 0 | EQ5: =INT(EP5*0.1) -> 0 | ER5: =SUM(EP5:EQ5) -> 0 | ES5: ='（別紙１）車両内訳表'!$F5 -> 0 | ET5: =INT(ES5*0.1) -> 0 | EU5: =SUM(ES5:ET5) -> 0 | EV5: ='（別紙１）車両内訳表'!$F5 -> 0 | EW5: =INT(EV5*0.1) -> 0 | EX5: =SUM(EV5:EW5) -> 0 | EY5: ='（別紙１）車両内訳表'!$F5 -> 0 | EZ5: =INT(EY5*0.1) -> 0 | FA5: =SUM(EY5:EZ5) -> 0 | FB5: ='（別紙１）車両内訳表'!$F5 -> 0 | FC5: =INT(FB5*0.1) -> 0 | FD5: =SUM(FB5:FC5) -> 0 | FE5: ='（別紙１）車両内訳表'!$F5 -> 0 | FF5: =INT(FE5*0.1) -> 0 | FG5: =SUM(FE5:FF5) -> 0 | FH5: ='（別紙１）車両内訳表'!$F5 -> 0 | FI5: =INT(FH5*0.1) -> 0 | FJ5: =SUM(FH5:FI5) -> 0 | FK5: ='（別紙１）車両内訳表'!$F5 -> 0 | FL5: =INT(FK5*0.1) -> 0 | FM5: =SUM(FK5:FL5) -> 0 | FN5: ='（別紙１）車両内訳表'!$F5 -> 0 | FO5: =INT(FN5*0.1) -> 0 | FP5: =SUM(FN5:FO5) -> 0 | FQ5: ='（別紙１）車両内訳表'!$F5 -> 0 | FR5: =INT(FQ5*0.1) -> 0 | FS5: =SUM(FQ5:FR5) -> 0 | FT5: ='（別紙１）車両内訳表'!$F5 -> 0 | FU5: =INT(FT5*0.1) -> 0 | FV5: =SUM(FT5:FU5) -> 0 | FW5: ='（別紙１）車両内訳表'!$F5 -> 0 | FX5: =INT(FW5*0.1) -> 0 | FY5: =SUM(FW5:FX5) -> 0
A6: 3 | B6: 教育支援課 （岡山市教育センター） | C6: 46478 | D6: =EDATE(C6,59)-1 -> 48273 | E6: ='（別紙１）車両内訳表'!$F6 -> 0 | F6: =INT(E6*0.1) -> 0 | G6: =SUM(E6:F6) -> 0 | H6: ='（別紙１）車両内訳表'!$F6 -> 0 | I6: =INT(H6*0.1) -> 0 | J6: =SUM(H6:I6) -> 0 | K6: ='（別紙１）車両内訳表'!$F6 -> 0 | L6: =INT(K6*0.1) -> 0 | M6: =SUM(K6:L6) -> 0 | N6: ='（別紙１）車両内訳表'!$F6 -> 0 | O6: =INT(N6*0.1) -> 0 | P6: =SUM(N6:O6) -> 0 | Q6: ='（別紙１）車両内訳表'!$F6 -> 0 | R6: =INT(Q6*0.1) -> 0 | S6: =SUM(Q6:R6) -> 0 | T6: ='（別紙１）車両内訳表'!$F6 -> 0 | U6: =INT(T6*0.1) -> 0 | V6: =SUM(T6:U6) -> 0 | W6: ='（別紙１）車両内訳表'!$F6 -> 0 | X6: =INT(W6*0.1) -> 0 | Y6: =SUM(W6:X6) -> 0 | Z6: ='（別紙１）車両内訳表'!$F6 -> 0 | AA6: =INT(Z6*0.1) -> 0 | AB6: =SUM(Z6:AA6) -> 0 | AC6: ='（別紙１）車両内訳表'!$F6 -> 0 | AD6: =INT(AC6*0.1) -> 0 | AE6: =SUM(AC6:AD6) -> 0 | AF6: ='（別紙１）車両内訳表'!$F6 -> 0 | AG6: =INT(AF6*0.1) -> 0 | AH6: =SUM(AF6:AG6) -> 0 | AI6: ='（別紙１）車両内訳表'!$F6 -> 0 | AJ6: =INT(AI6*0.1) -> 0 | AK6: =SUM(AI6:AJ6) -> 0 | AL6: ='（別紙１）車両内訳表'!$F6 -> 0 | AM6: =INT(AL6*0.1) -> 0 | AN6: =SUM(AL6:AM6) -> 0 | AO6: ='（別紙１）車両内訳表'!$F6 -> 0 | AP6: =INT(AO6*0.1) -> 0 | AQ6: =SUM(AO6:AP6) -> 0 | AR6: ='（別紙１）車両内訳表'!$F6 -> 0 | AS6: =INT(AR6*0.1) -> 0 | AT6: =SUM(AR6:AS6) -> 0 | AU6: ='（別紙１）車両内訳表'!$F6 -> 0 | AV6: =INT(AU6*0.1) -> 0 | AW6: =SUM(AU6:AV6) -> 0 | AX6: ='（別紙１）車両内訳表'!$F6 -> 0 | AY6: =INT(AX6*0.1) -> 0 | AZ6: =SUM(AX6:AY6) -> 0 | BA6: ='（別紙１）車両内訳表'!$F6 -> 0 | BB6: =INT(BA6*0.1) -> 0 | BC6: =SUM(BA6:BB6) -> 0 | BD6: ='（別紙１）車両内訳表'!$F6 -> 0 | BE6: =INT(BD6*0.1) -> 0 | BF6: =SUM(BD6:BE6) -> 0 | BG6: ='（別紙１）車両内訳表'!$F6 -> 0 | BH6: =INT(BG6*0.1) -> 0 | BI6: =SUM(BG6:BH6) -> 0 | BJ6: ='（別紙１）車両内訳表'!$F6 -> 0 | BK6: =INT(BJ6*0.1) -> 0 | BL6: =SUM(BJ6:BK6) -> 0 | BM6: ='（別紙１）車両内訳表'!$F6 -> 0 | BN6: =INT(BM6*0.1) -> 0 | BO6: =SUM(BM6:BN6) -> 0 | BP6: ='（別紙１）車両内訳表'!$F6 -> 0 | BQ6: =INT(BP6*0.1) -> 0 | BR6: =SUM(BP6:BQ6) -> 0 | BS6: ='（別紙１）車両内訳表'!$F6 -> 0 | BT6: =INT(BS6*0.1) -> 0 | BU6: =SUM(BS6:BT6) -> 0 | BV6: ='（別紙１）車両内訳表'!$F6 -> 0 | BW6: =INT(BV6*0.1) -> 0 | BX6: =SUM(BV6:BW6) -> 0 | BY6: ='（別紙１）車両内訳表'!$F6 -> 0 | BZ6: =INT(BY6*0.1) -> 0 | CA6: =SUM(BY6:BZ6) -> 0 | CB6: ='（別紙１）車両内訳表'!$F6 -> 0 | CC6: =INT(CB6*0.1) -> 0 | CD6: =SUM(CB6:CC6) -> 0 | CE6: ='（別紙１）車両内訳表'!$F6 -> 0 | CF6: =INT(CE6*0.1) -> 0 | CG6: =SUM(CE6:CF6) -> 0 | CH6: ='（別紙１）車両内訳表'!$F6 -> 0 | CI6: =INT(CH6*0.1) -> 0 | CJ6: =SUM(CH6:CI6) -> 0 | CK6: ='（別紙１）車両内訳表'!$F6 -> 0 | CL6: =INT(CK6*0.1) -> 0 | CM6: =SUM(CK6:CL6) -> 0 | CN6: ='（別紙１）車両内訳表'!$F6 -> 0 | CO6: =INT(CN6*0.1) -> 0 | CP6: =SUM(CN6:CO6) -> 0 | CQ6: ='（別紙１）車両内訳表'!$F6 -> 0 | CR6: =INT(CQ6*0.1) -> 0 | CS6: =SUM(CQ6:CR6) -> 0 | CT6: ='（別紙１）車両内訳表'!$F6 -> 0 | CU6: =INT(CT6*0.1) -> 0 | CV6: =SUM(CT6:CU6) -> 0 | CW6: ='（別紙１）車両内訳表'!$F6 -> 0 | CX6: =INT(CW6*0.1) -> 0 | CY6: =SUM(CW6:CX6) -> 0 | CZ6: ='（別紙１）車両内訳表'!$F6 -> 0 | DA6: =INT(CZ6*0.1) -> 0 | DB6: =SUM(CZ6:DA6) -> 0 | DC6: ='（別紙１）車両内訳表'!$F6 -> 0 | DD6: =INT(DC6*0.1) -> 0 | DE6: =SUM(DC6:DD6) -> 0 | DF6: ='（別紙１）車両内訳表'!$F6 -> 0 | DG6: =INT(DF6*0.1) -> 0 | DH6: =SUM(DF6:DG6) -> 0 | DI6: ='（別紙１）車両内訳表'!$F6 -> 0 | DJ6: =INT(DI6*0.1) -> 0 | DK6: =SUM(DI6:DJ6) -> 0 | DL6: ='（別紙１）車両内訳表'!$F6 -> 0 | DM6: =INT(DL6*0.1) -> 0 | DN6: =SUM(DL6:DM6) -> 0 | DO6: ='（別紙１）車両内訳表'!$F6 -> 0 | DP6: =INT(DO6*0.1) -> 0 | DQ6: =SUM(DO6:DP6) -> 0 | DR6: ='（別紙１）車両内訳表'!$F6 -> 0 | DS6: =INT(DR6*0.1) -> 0 | DT6: =SUM(DR6:DS6) -> 0 | DU6: ='（別紙１）車両内訳表'!$F6 -> 0 | DV6: =INT(DU6*0.1) -> 0 | DW6: =SUM(DU6:DV6) -> 0 | DX6: ='（別紙１）車両内訳表'!$F6 -> 0 | DY6: =INT(DX6*0.1) -> 0 | DZ6: =SUM(DX6:DY6) -> 0 | EA6: ='（別紙１）車両内訳表'!$F6 -> 0 | EB6: =INT(EA6*0.1) -> 0 | EC6: =SUM(EA6:EB6) -> 0 | ED6: ='（別紙１）車両内訳表'!$F6 -> 0 | EE6: =INT(ED6*0.1) -> 0 | EF6: =SUM(ED6:EE6) -> 0 | EG6: ='（別紙１）車両内訳表'!$F6 -> 0 | EH6: =INT(EG6*0.1) -> 0 | EI6: =SUM(EG6:EH6) -> 0 | EJ6: ='（別紙１）車両内訳表'!$F6 -> 0 | EK6: =INT(EJ6*0.1) -> 0 | EL6: =SUM(EJ6:EK6) -> 0 | EM6: ='（別紙１）車両内訳表'!$F6 -> 0 | EN6: =INT(EM6*0.1) -> 0 | EO6: =SUM(EM6:EN6) -> 0 | EP6: ='（別紙１）車両内訳表'!$F6 -> 0 | EQ6: =INT(EP6*0.1) -> 0 | ER6: =SUM(EP6:EQ6) -> 0 | ES6: ='（別紙１）車両内訳表'!$F6 -> 0 | ET6: =INT(ES6*0.1) -> 0 | EU6: =SUM(ES6:ET6) -> 0 | EV6: ='（別紙１）車両内訳表'!$F6 -> 0 | EW6: =INT(EV6*0.1) -> 0 | EX6: =SUM(EV6:EW6) -> 0 | EY6: ='（別紙１）車両内訳表'!$F6 -> 0 | EZ6: =INT(EY6*0.1) -> 0 | FA6: =SUM(EY6:EZ6) -> 0 | FB6: ='（別紙１）車両内訳表'!$F6 -> 0 | FC6: =INT(FB6*0.1) -> 0 | FD6: =SUM(FB6:FC6) -> 0 | FE6: ='（別紙１）車両内訳表'!$F6 -> 0 | FF6: =INT(FE6*0.1) -> 0 | FG6: =SUM(FE6:FF6) -> 0 | FH6: ='（別紙１）車両内訳表'!$F6 -> 0 | FI6: =INT(FH6*0.1) -> 0 | FJ6: =SUM(FH6:FI6) -> 0 | FK6: ='（別紙１）車両内訳表'!$F6 -> 0 | FL6: =INT(FK6*0.1) -> 0 | FM6: =SUM(FK6:FL6) -> 0 | FN6: ='（別紙１）車両内訳表'!$F6 -> 0 | FO6: =INT(FN6*0.1) -> 0 | FP6: =SUM(FN6:FO6) -> 0 | FQ6: ='（別紙１）車両内訳表'!$F6 -> 0 | FR6: =INT(FQ6*0.1) -> 0 | FS6: =SUM(FQ6:FR6) -> 0 | FT6: ='（別紙１）車両内訳表'!$F6 -> 0 | FU6: =INT(FT6*0.1) -> 0 | FV6: =SUM(FT6:FU6) -> 0 | FW6: ='（別紙１）車両内訳表'!$F6 -> 0 | FX6: =INT(FW6*0.1) -> 0 | FY6: =SUM(FW6:FX6) -> 0
A7: 4 | B7: 教育支援課 （岡山市教育センター） | C7: 46478 | D7: =EDATE(C7,59)-1 -> 48273 | E7: ='（別紙１）車両内訳表'!$F7 -> 0 | F7: =INT(E7*0.1) -> 0 | G7: =SUM(E7:F7) -> 0 | H7: ='（別紙１）車両内訳表'!$F7 -> 0 | I7: =INT(H7*0.1) -> 0 | J7: =SUM(H7:I7) -> 0 | K7: ='（別紙１）車両内訳表'!$F7 -> 0 | L7: =INT(K7*0.1) -> 0 | M7: =SUM(K7:L7) -> 0 | N7: ='（別紙１）車両内訳表'!$F7 -> 0 | O7: =INT(N7*0.1) -> 0 | P7: =SUM(N7:O7) -> 0 | Q7: ='（別紙１）車両内訳表'!$F7 -> 0 | R7: =INT(Q7*0.1) -> 0 | S7: =SUM(Q7:R7) -> 0 | T7: ='（別紙１）車両内訳表'!$F7 -> 0 | U7: =INT(T7*0.1) -> 0 | V7: =SUM(T7:U7) -> 0 | W7: ='（別紙１）車両内訳表'!$F7 -> 0 | X7: =INT(W7*0.1) -> 0 | Y7: =SUM(W7:X7) -> 0 | Z7: ='（別紙１）車両内訳表'!$F7 -> 0 | AA7: =INT(Z7*0.1) -> 0 | AB7: =SUM(Z7:AA7) -> 0 | AC7: ='（別紙１）車両内訳表'!$F7 -> 0 | AD7: =INT(AC7*0.1) -> 0 | AE7: =SUM(AC7:AD7) -> 0 | AF7: ='（別紙１）車両内訳表'!$F7 -> 0 | AG7: =INT(AF7*0.1) -> 0 | AH7: =SUM(AF7:AG7) -> 0 | AI7: ='（別紙１）車両内訳表'!$F7 -> 0 | AJ7: =INT(AI7*0.1) -> 0 | AK7: =SUM(AI7:AJ7) -> 0 | AL7: ='（別紙１）車両内訳表'!$F7 -> 0 | AM7: =INT(AL7*0.1) -> 0 | AN7: =SUM(AL7:AM7) -> 0 | AO7: ='（別紙１）車両内訳表'!$F7 -> 0 | AP7: =INT(AO7*0.1) -> 0 | AQ7: =SUM(AO7:AP7) -> 0 | AR7: ='（別紙１）車両内訳表'!$F7 -> 0 | AS7: =INT(AR7*0.1) -> 0 | AT7: =SUM(AR7:AS7) -> 0 | AU7: ='（別紙１）車両内訳表'!$F7 -> 0 | AV7: =INT(AU7*0.1) -> 0 | AW7: =SUM(AU7:AV7) -> 0 | AX7: ='（別紙１）車両内訳表'!$F7 -> 0 | AY7: =INT(AX7*0.1) -> 0 | AZ7: =SUM(AX7:AY7) -> 0 | BA7: ='（別紙１）車両内訳表'!$F7 -> 0 | BB7: =INT(BA7*0.1) -> 0 | BC7: =SUM(BA7:BB7) -> 0 | BD7: ='（別紙１）車両内訳表'!$F7 -> 0 | BE7: =INT(BD7*0.1) -> 0 | BF7: =SUM(BD7:BE7) -> 0 | BG7: ='（別紙１）車両内訳表'!$F7 -> 0 | BH7: =INT(BG7*0.1) -> 0 | BI7: =SUM(BG7:BH7) -> 0 | BJ7: ='（別紙１）車両内訳表'!$F7 -> 0 | BK7: =INT(BJ7*0.1) -> 0 | BL7: =SUM(BJ7:BK7) -> 0 | BM7: ='（別紙１）車両内訳表'!$F7 -> 0 | BN7: =INT(BM7*0.1) -> 0 | BO7: =SUM(BM7:BN7) -> 0 | BP7: ='（別紙１）車両内訳表'!$F7 -> 0 | BQ7: =INT(BP7*0.1) -> 0 | BR7: =SUM(BP7:BQ7) -> 0 | BS7: ='（別紙１）車両内訳表'!$F7 -> 0 | BT7: =INT(BS7*0.1) -> 0 | BU7: =SUM(BS7:BT7) -> 0 | BV7: ='（別紙１）車両内訳表'!$F7 -> 0 | BW7: =INT(BV7*0.1) -> 0 | BX7: =SUM(BV7:BW7) -> 0 | BY7: ='（別紙１）車両内訳表'!$F7 -> 0 | BZ7: =INT(BY7*0.1) -> 0 | CA7: =SUM(BY7:BZ7) -> 0 | CB7: ='（別紙１）車両内訳表'!$F7 -> 0 | CC7: =INT(CB7*0.1) -> 0 | CD7: =SUM(CB7:CC7) -> 0 | CE7: ='（別紙１）車両内訳表'!$F7 -> 0 | CF7: =INT(CE7*0.1) -> 0 | CG7: =SUM(CE7:CF7) -> 0 | CH7: ='（別紙１）車両内訳表'!$F7 -> 0 | CI7: =INT(CH7*0.1) -> 0 | CJ7: =SUM(CH7:CI7) -> 0 | CK7: ='（別紙１）車両内訳表'!$F7 -> 0 | CL7: =INT(CK7*0.1) -> 0 | CM7: =SUM(CK7:CL7) -> 0 | CN7: ='（別紙１）車両内訳表'!$F7 -> 0 | CO7: =INT(CN7*0.1) -> 0 | CP7: =SUM(CN7:CO7) -> 0 | CQ7: ='（別紙１）車両内訳表'!$F7 -> 0 | CR7: =INT(CQ7*0.1) -> 0 | CS7: =SUM(CQ7:CR7) -> 0 | CT7: ='（別紙１）車両内訳表'!$F7 -> 0 | CU7: =INT(CT7*0.1) -> 0 | CV7: =SUM(CT7:CU7) -> 0 | CW7: ='（別紙１）車両内訳表'!$F7 -> 0 | CX7: =INT(CW7*0.1) -> 0 | CY7: =SUM(CW7:CX7) -> 0 | CZ7: ='（別紙１）車両内訳表'!$F7 -> 0 | DA7: =INT(CZ7*0.1) -> 0 | DB7: =SUM(CZ7:DA7) -> 0 | DC7: ='（別紙１）車両内訳表'!$F7 -> 0 | DD7: =INT(DC7*0.1) -> 0 | DE7: =SUM(DC7:DD7) -> 0 | DF7: ='（別紙１）車両内訳表'!$F7 -> 0 | DG7: =INT(DF7*0.1) -> 0 | DH7: =SUM(DF7:DG7) -> 0 | DI7: ='（別紙１）車両内訳表'!$F7 -> 0 | DJ7: =INT(DI7*0.1) -> 0 | DK7: =SUM(DI7:DJ7) -> 0 | DL7: ='（別紙１）車両内訳表'!$F7 -> 0 | DM7: =INT(DL7*0.1) -> 0 | DN7: =SUM(DL7:DM7) -> 0 | DO7: ='（別紙１）車両内訳表'!$F7 -> 0 | DP7: =INT(DO7*0.1) -> 0 | DQ7: =SUM(DO7:DP7) -> 0 | DR7: ='（別紙１）車両内訳表'!$F7 -> 0 | DS7: =INT(DR7*0.1) -> 0 | DT7: =SUM(DR7:DS7) -> 0 | DU7: ='（別紙１）車両内訳表'!$F7 -> 0 | DV7: =INT(DU7*0.1) -> 0 | DW7: =SUM(DU7:DV7) -> 0 | DX7: ='（別紙１）車両内訳表'!$F7 -> 0 | DY7: =INT(DX7*0.1) -> 0 | DZ7: =SUM(DX7:DY7) -> 0 | EA7: ='（別紙１）車両内訳表'!$F7 -> 0 | EB7: =INT(EA7*0.1) -> 0 | EC7: =SUM(EA7:EB7) -> 0 | ED7: ='（別紙１）車両内訳表'!$F7 -> 0 | EE7: =INT(ED7*0.1) -> 0 | EF7: =SUM(ED7:EE7) -> 0 | EG7: ='（別紙１）車両内訳表'!$F7 -> 0 | EH7: =INT(EG7*0.1) -> 0 | EI7: =SUM(EG7:EH7) -> 0 | EJ7: ='（別紙１）車両内訳表'!$F7 -> 0 | EK7: =INT(EJ7*0.1) -> 0 | EL7: =SUM(EJ7:EK7) -> 0 | EM7: ='（別紙１）車両内訳表'!$F7 -> 0 | EN7: =INT(EM7*0.1) -> 0 | EO7: =SUM(EM7:EN7) -> 0 | EP7: ='（別紙１）車両内訳表'!$F7 -> 0 | EQ7: =INT(EP7*0.1) -> 0 | ER7: =SUM(EP7:EQ7) -> 0 | ES7: ='（別紙１）車両内訳表'!$F7 -> 0 | ET7: =INT(ES7*0.1) -> 0 | EU7: =SUM(ES7:ET7) -> 0 | EV7: ='（別紙１）車両内訳表'!$F7 -> 0 | EW7: =INT(EV7*0.1) -> 0 | EX7: =SUM(EV7:EW7) -> 0 | EY7: ='（別紙１）車両内訳表'!$F7 -> 0 | EZ7: =INT(EY7*0.1) -> 0 | FA7: =SUM(EY7:EZ7) -> 0 | FB7: ='（別紙１）車両内訳表'!$F7 -> 0 | FC7: =INT(FB7*0.1) -> 0 | FD7: =SUM(FB7:FC7) -> 0 | FE7: ='（別紙１）車両内訳表'!$F7 -> 0 | FF7: =INT(FE7*0.1) -> 0 | FG7: =SUM(FE7:FF7) -> 0 | FH7: ='（別紙１）車両内訳表'!$F7 -> 0 | FI7: =INT(FH7*0.1) -> 0 | FJ7: =SUM(FH7:FI7) -> 0 | FK7: ='（別紙１）車両内訳表'!$F7 -> 0 | FL7: =INT(FK7*0.1) -> 0 | FM7: =SUM(FK7:FL7) -> 0 | FN7: ='（別紙１）車両内訳表'!$F7 -> 0 | FO7: =INT(FN7*0.1) -> 0 | FP7: =SUM(FN7:FO7) -> 0 | FQ7: ='（別紙１）車両内訳表'!$F7 -> 0 | FR7: =INT(FQ7*0.1) -> 0 | FS7: =SUM(FQ7:FR7) -> 0 | FT7: ='（別紙１）車両内訳表'!$F7 -> 0 | FU7: =INT(FT7*0.1) -> 0 | FV7: =SUM(FT7:FU7) -> 0 | FW7: ='（別紙１）車両内訳表'!$F7 -> 0 | FX7: =INT(FW7*0.1) -> 0 | FY7: =SUM(FW7:FX7) -> 0
A8: 5 | B8: 教育支援課 （岡山市教育センター） | C8: 46478 | D8: =EDATE(C8,59)-1 -> 48273 | E8: ='（別紙１）車両内訳表'!$F8 -> 0 | F8: =INT(E8*0.1) -> 0 | G8: =SUM(E8:F8) -> 0 | H8: ='（別紙１）車両内訳表'!$F8 -> 0 | I8: =INT(H8*0.1) -> 0 | J8: =SUM(H8:I8) -> 0 | K8: ='（別紙１）車両内訳表'!$F8 -> 0 | L8: =INT(K8*0.1) -> 0 | M8: =SUM(K8:L8) -> 0 | N8: ='（別紙１）車両内訳表'!$F8 -> 0 | O8: =INT(N8*0.1) -> 0 | P8: =SUM(N8:O8) -> 0 | Q8: ='（別紙１）車両内訳表'!$F8 -> 0 | R8: =INT(Q8*0.1) -> 0 | S8: =SUM(Q8:R8) -> 0 | T8: ='（別紙１）車両内訳表'!$F8 -> 0 | U8: =INT(T8*0.1) -> 0 | V8: =SUM(T8:U8) -> 0 | W8: ='（別紙１）車両内訳表'!$F8 -> 0 | X8: =INT(W8*0.1) -> 0 | Y8: =SUM(W8:X8) -> 0 | Z8: ='（別紙１）車両内訳表'!$F8 -> 0 | AA8: =INT(Z8*0.1) -> 0 | AB8: =SUM(Z8:AA8) -> 0 | AC8: ='（別紙１）車両内訳表'!$F8 -> 0 | AD8: =INT(AC8*0.1) -> 0 | AE8: =SUM(AC8:AD8) -> 0 | AF8: ='（別紙１）車両内訳表'!$F8 -> 0 | AG8: =INT(AF8*0.1) -> 0 | AH8: =SUM(AF8:AG8) -> 0 | AI8: ='（別紙１）車両内訳表'!$F8 -> 0 | AJ8: =INT(AI8*0.1) -> 0 | AK8: =SUM(AI8:AJ8) -> 0 | AL8: ='（別紙１）車両内訳表'!$F8 -> 0 | AM8: =INT(AL8*0.1) -> 0 | AN8: =SUM(AL8:AM8) -> 0 | AO8: ='（別紙１）車両内訳表'!$F8 -> 0 | AP8: =INT(AO8*0.1) -> 0 | AQ8: =SUM(AO8:AP8) -> 0 | AR8: ='（別紙１）車両内訳表'!$F8 -> 0 | AS8: =INT(AR8*0.1) -> 0 | AT8: =SUM(AR8:AS8) -> 0 | AU8: ='（別紙１）車両内訳表'!$F8 -> 0 | AV8: =INT(AU8*0.1) -> 0 | AW8: =SUM(AU8:AV8) -> 0 | AX8: ='（別紙１）車両内訳表'!$F8 -> 0 | AY8: =INT(AX8*0.1) -> 0 | AZ8: =SUM(AX8:AY8) -> 0 | BA8: ='（別紙１）車両内訳表'!$F8 -> 0 | BB8: =INT(BA8*0.1) -> 0 | BC8: =SUM(BA8:BB8) -> 0 | BD8: ='（別紙１）車両内訳表'!$F8 -> 0 | BE8: =INT(BD8*0.1) -> 0 | BF8: =SUM(BD8:BE8) -> 0 | BG8: ='（別紙１）車両内訳表'!$F8 -> 0 | BH8: =INT(BG8*0.1) -> 0 | BI8: =SUM(BG8:BH8) -> 0 | BJ8: ='（別紙１）車両内訳表'!$F8 -> 0 | BK8: =INT(BJ8*0.1) -> 0 | BL8: =SUM(BJ8:BK8) -> 0 | BM8: ='（別紙１）車両内訳表'!$F8 -> 0 | BN8: =INT(BM8*0.1) -> 0 | BO8: =SUM(BM8:BN8) -> 0 | BP8: ='（別紙１）車両内訳表'!$F8 -> 0 | BQ8: =INT(BP8*0.1) -> 0 | BR8: =SUM(BP8:BQ8) -> 0 | BS8: ='（別紙１）車両内訳表'!$F8 -> 0 | BT8: =INT(BS8*0.1) -> 0 | BU8: =SUM(BS8:BT8) -> 0 | BV8: ='（別紙１）車両内訳表'!$F8 -> 0 | BW8: =INT(BV8*0.1) -> 0 | BX8: =SUM(BV8:BW8) -> 0 | BY8: ='（別紙１）車両内訳表'!$F8 -> 0 | BZ8: =INT(BY8*0.1) -> 0 | CA8: =SUM(BY8:BZ8) -> 0 | CB8: ='（別紙１）車両内訳表'!$F8 -> 0 | CC8: =INT(CB8*0.1) -> 0 | CD8: =SUM(CB8:CC8) -> 0 | CE8: ='（別紙１）車両内訳表'!$F8 -> 0 | CF8: =INT(CE8*0.1) -> 0 | CG8: =SUM(CE8:CF8) -> 0 | CH8: ='（別紙１）車両内訳表'!$F8 -> 0 | CI8: =INT(CH8*0.1) -> 0 | CJ8: =SUM(CH8:CI8) -> 0 | CK8: ='（別紙１）車両内訳表'!$F8 -> 0 | CL8: =INT(CK8*0.1) -> 0 | CM8: =SUM(CK8:CL8) -> 0 | CN8: ='（別紙１）車両内訳表'!$F8 -> 0 | CO8: =INT(CN8*0.1) -> 0 | CP8: =SUM(CN8:CO8) -> 0 | CQ8: ='（別紙１）車両内訳表'!$F8 -> 0 | CR8: =INT(CQ8*0.1) -> 0 | CS8: =SUM(CQ8:CR8) -> 0 | CT8: ='（別紙１）車両内訳表'!$F8 -> 0 | CU8: =INT(CT8*0.1) -> 0 | CV8: =SUM(CT8:CU8) -> 0 | CW8: ='（別紙１）車両内訳表'!$F8 -> 0 | CX8: =INT(CW8*0.1) -> 0 | CY8: =SUM(CW8:CX8) -> 0 | CZ8: ='（別紙１）車両内訳表'!$F8 -> 0 | DA8: =INT(CZ8*0.1) -> 0 | DB8: =SUM(CZ8:DA8) -> 0 | DC8: ='（別紙１）車両内訳表'!$F8 -> 0 | DD8: =INT(DC8*0.1) -> 0 | DE8: =SUM(DC8:DD8) -> 0 | DF8: ='（別紙１）車両内訳表'!$F8 -> 0 | DG8: =INT(DF8*0.1) -> 0 | DH8: =SUM(DF8:DG8) -> 0 | DI8: ='（別紙１）車両内訳表'!$F8 -> 0 | DJ8: =INT(DI8*0.1) -> 0 | DK8: =SUM(DI8:DJ8) -> 0 | DL8: ='（別紙１）車両内訳表'!$F8 -> 0 | DM8: =INT(DL8*0.1) -> 0 | DN8: =SUM(DL8:DM8) -> 0 | DO8: ='（別紙１）車両内訳表'!$F8 -> 0 | DP8: =INT(DO8*0.1) -> 0 | DQ8: =SUM(DO8:DP8) -> 0 | DR8: ='（別紙１）車両内訳表'!$F8 -> 0 | DS8: =INT(DR8*0.1) -> 0 | DT8: =SUM(DR8:DS8) -> 0 | DU8: ='（別紙１）車両内訳表'!$F8 -> 0 | DV8: =INT(DU8*0.1) -> 0 | DW8: =SUM(DU8:DV8) -> 0 | DX8: ='（別紙１）車両内訳表'!$F8 -> 0 | DY8: =INT(DX8*0.1) -> 0 | DZ8: =SUM(DX8:DY8) -> 0 | EA8: ='（別紙１）車両内訳表'!$F8 -> 0 | EB8: =INT(EA8*0.1) -> 0 | EC8: =SUM(EA8:EB8) -> 0 | ED8: ='（別紙１）車両内訳表'!$F8 -> 0 | EE8: =INT(ED8*0.1) -> 0 | EF8: =SUM(ED8:EE8) -> 0 | EG8: ='（別紙１）車両内訳表'!$F8 -> 0 | EH8: =INT(EG8*0.1) -> 0 | EI8: =SUM(EG8:EH8) -> 0 | EJ8: ='（別紙１）車両内訳表'!$F8 -> 0 | EK8: =INT(EJ8*0.1) -> 0 | EL8: =SUM(EJ8:EK8) -> 0 | EM8: ='（別紙１）車両内訳表'!$F8 -> 0 | EN8: =INT(EM8*0.1) -> 0 | EO8: =SUM(EM8:EN8) -> 0 | EP8: ='（別紙１）車両内訳表'!$F8 -> 0 | EQ8: =INT(EP8*0.1) -> 0 | ER8: =SUM(EP8:EQ8) -> 0 | ES8: ='（別紙１）車両内訳表'!$F8 -> 0 | ET8: =INT(ES8*0.1) -> 0 | EU8: =SUM(ES8:ET8) -> 0 | EV8: ='（別紙１）車両内訳表'!$F8 -> 0 | EW8: =INT(EV8*0.1) -> 0 | EX8: =SUM(EV8:EW8) -> 0 | EY8: ='（別紙１）車両内訳表'!$F8 -> 0 | EZ8: =INT(EY8*0.1) -> 0 | FA8: =SUM(EY8:EZ8) -> 0 | FB8: ='（別紙１）車両内訳表'!$F8 -> 0 | FC8: =INT(FB8*0.1) -> 0 | FD8: =SUM(FB8:FC8) -> 0 | FE8: ='（別紙１）車両内訳表'!$F8 -> 0 | FF8: =INT(FE8*0.1) -> 0 | FG8: =SUM(FE8:FF8) -> 0 | FH8: ='（別紙１）車両内訳表'!$F8 -> 0 | FI8: =INT(FH8*0.1) -> 0 | FJ8: =SUM(FH8:FI8) -> 0 | FK8: ='（別紙１）車両内訳表'!$F8 -> 0 | FL8: =INT(FK8*0.1) -> 0 | FM8: =SUM(FK8:FL8) -> 0 | FN8: ='（別紙１）車両内訳表'!$F8 -> 0 | FO8: =INT(FN8*0.1) -> 0 | FP8: =SUM(FN8:FO8) -> 0 | FQ8: ='（別紙１）車両内訳表'!$F8 -> 0 | FR8: =INT(FQ8*0.1) -> 0 | FS8: =SUM(FQ8:FR8) -> 0 | FT8: ='（別紙１）車両内訳表'!$F8 -> 0 | FU8: =INT(FT8*0.1) -> 0 | FV8: =SUM(FT8:FU8) -> 0 | FW8: ='（別紙１）車両内訳表'!$F8 -> 0 | FX8: =INT(FW8*0.1) -> 0 | FY8: =SUM(FW8:FX8) -> 0
A9: 6 | B9: 教育支援課 （岡山市教育センター） | C9: 46478 | D9: =EDATE(C9,59)-1 -> 48273 | E9: ='（別紙１）車両内訳表'!$F9 -> 0 | F9: =INT(E9*0.1) -> 0 | G9: =SUM(E9:F9) -> 0 | H9: ='（別紙１）車両内訳表'!$F9 -> 0 | I9: =INT(H9*0.1) -> 0 | J9: =SUM(H9:I9) -> 0 | K9: ='（別紙１）車両内訳表'!$F9 -> 0 | L9: =INT(K9*0.1) -> 0 | M9: =SUM(K9:L9) -> 0 | N9: ='（別紙１）車両内訳表'!$F9 -> 0 | O9: =INT(N9*0.1) -> 0 | P9: =SUM(N9:O9) -> 0 | Q9: ='（別紙１）車両内訳表'!$F9 -> 0 | R9: =INT(Q9*0.1) -> 0 | S9: =SUM(Q9:R9) -> 0 | T9: ='（別紙１）車両内訳表'!$F9 -> 0 | U9: =INT(T9*0.1) -> 0 | V9: =SUM(T9:U9) -> 0 | W9: ='（別紙１）車両内訳表'!$F9 -> 0 | X9: =INT(W9*0.1) -> 0 | Y9: =SUM(W9:X9) -> 0 | Z9: ='（別紙１）車両内訳表'!$F9 -> 0 | AA9: =INT(Z9*0.1) -> 0 | AB9: =SUM(Z9:AA9) -> 0 | AC9: ='（別紙１）車両内訳表'!$F9 -> 0 | AD9: =INT(AC9*0.1) -> 0 | AE9: =SUM(AC9:AD9) -> 0 | AF9: ='（別紙１）車両内訳表'!$F9 -> 0 | AG9: =INT(AF9*0.1) -> 0 | AH9: =SUM(AF9:AG9) -> 0 | AI9: ='（別紙１）車両内訳表'!$F9 -> 0 | AJ9: =INT(AI9*0.1) -> 0 | AK9: =SUM(AI9:AJ9) -> 0 | AL9: ='（別紙１）車両内訳表'!$F9 -> 0 | AM9: =INT(AL9*0.1) -> 0 | AN9: =SUM(AL9:AM9) -> 0 | AO9: ='（別紙１）車両内訳表'!$F9 -> 0 | AP9: =INT(AO9*0.1) -> 0 | AQ9: =SUM(AO9:AP9) -> 0 | AR9: ='（別紙１）車両内訳表'!$F9 -> 0 | AS9: =INT(AR9*0.1) -> 0 | AT9: =SUM(AR9:AS9) -> 0 | AU9: ='（別紙１）車両内訳表'!$F9 -> 0 | AV9: =INT(AU9*0.1) -> 0 | AW9: =SUM(AU9:AV9) -> 0 | AX9: ='（別紙１）車両内訳表'!$F9 -> 0 | AY9: =INT(AX9*0.1) -> 0 | AZ9: =SUM(AX9:AY9) -> 0 | BA9: ='（別紙１）車両内訳表'!$F9 -> 0 | BB9: =INT(BA9*0.1) -> 0 | BC9: =SUM(BA9:BB9) -> 0 | BD9: ='（別紙１）車両内訳表'!$F9 -> 0 | BE9: =INT(BD9*0.1) -> 0 | BF9: =SUM(BD9:BE9) -> 0 | BG9: ='（別紙１）車両内訳表'!$F9 -> 0 | BH9: =INT(BG9*0.1) -> 0 | BI9: =SUM(BG9:BH9) -> 0 | BJ9: ='（別紙１）車両内訳表'!$F9 -> 0 | BK9: =INT(BJ9*0.1) -> 0 | BL9: =SUM(BJ9:BK9) -> 0 | BM9: ='（別紙１）車両内訳表'!$F9 -> 0 | BN9: =INT(BM9*0.1) -> 0 | BO9: =SUM(BM9:BN9) -> 0 | BP9: ='（別紙１）車両内訳表'!$F9 -> 0 | BQ9: =INT(BP9*0.1) -> 0 | BR9: =SUM(BP9:BQ9) -> 0 | BS9: ='（別紙１）車両内訳表'!$F9 -> 0 | BT9: =INT(BS9*0.1) -> 0 | BU9: =SUM(BS9:BT9) -> 0 | BV9: ='（別紙１）車両内訳表'!$F9 -> 0 | BW9: =INT(BV9*0.1) -> 0 | BX9: =SUM(BV9:BW9) -> 0 | BY9: ='（別紙１）車両内訳表'!$F9 -> 0 | BZ9: =INT(BY9*0.1) -> 0 | CA9: =SUM(BY9:BZ9) -> 0 | CB9: ='（別紙１）車両内訳表'!$F9 -> 0 | CC9: =INT(CB9*0.1) -> 0 | CD9: =SUM(CB9:CC9) -> 0 | CE9: ='（別紙１）車両内訳表'!$F9 -> 0 | CF9: =INT(CE9*0.1) -> 0 | CG9: =SUM(CE9:CF9) -> 0 | CH9: ='（別紙１）車両内訳表'!$F9 -> 0 | CI9: =INT(CH9*0.1) -> 0 | CJ9: =SUM(CH9:CI9) -> 0 | CK9: ='（別紙１）車両内訳表'!$F9 -> 0 | CL9: =INT(CK9*0.1) -> 0 | CM9: =SUM(CK9:CL9) -> 0 | CN9: ='（別紙１）車両内訳表'!$F9 -> 0 | CO9: =INT(CN9*0.1) -> 0 | CP9: =SUM(CN9:CO9) -> 0 | CQ9: ='（別紙１）車両内訳表'!$F9 -> 0 | CR9: =INT(CQ9*0.1) -> 0 | CS9: =SUM(CQ9:CR9) -> 0 | CT9: ='（別紙１）車両内訳表'!$F9 -> 0 | CU9: =INT(CT9*0.1) -> 0 | CV9: =SUM(CT9:CU9) -> 0 | CW9: ='（別紙１）車両内訳表'!$F9 -> 0 | CX9: =INT(CW9*0.1) -> 0 | CY9: =SUM(CW9:CX9) -> 0 | CZ9: ='（別紙１）車両内訳表'!$F9 -> 0 | DA9: =INT(CZ9*0.1) -> 0 | DB9: =SUM(CZ9:DA9) -> 0 | DC9: ='（別紙１）車両内訳表'!$F9 -> 0 | DD9: =INT(DC9*0.1) -> 0 | DE9: =SUM(DC9:DD9) -> 0 | DF9: ='（別紙１）車両内訳表'!$F9 -> 0 | DG9: =INT(DF9*0.1) -> 0 | DH9: =SUM(DF9:DG9) -> 0 | DI9: ='（別紙１）車両内訳表'!$F9 -> 0 | DJ9: =INT(DI9*0.1) -> 0 | DK9: =SUM(DI9:DJ9) -> 0 | DL9: ='（別紙１）車両内訳表'!$F9 -> 0 | DM9: =INT(DL9*0.1) -> 0 | DN9: =SUM(DL9:DM9) -> 0 | DO9: ='（別紙１）車両内訳表'!$F9 -> 0 | DP9: =INT(DO9*0.1) -> 0 | DQ9: =SUM(DO9:DP9) -> 0 | DR9: ='（別紙１）車両内訳表'!$F9 -> 0 | DS9: =INT(DR9*0.1) -> 0 | DT9: =SUM(DR9:DS9) -> 0 | DU9: ='（別紙１）車両内訳表'!$F9 -> 0 | DV9: =INT(DU9*0.1) -> 0 | DW9: =SUM(DU9:DV9) -> 0 | DX9: ='（別紙１）車両内訳表'!$F9 -> 0 | DY9: =INT(DX9*0.1) -> 0 | DZ9: =SUM(DX9:DY9) -> 0 | EA9: ='（別紙１）車両内訳表'!$F9 -> 0 | EB9: =INT(EA9*0.1) -> 0 | EC9: =SUM(EA9:EB9) -> 0 | ED9: ='（別紙１）車両内訳表'!$F9 -> 0 | EE9: =INT(ED9*0.1) -> 0 | EF9: =SUM(ED9:EE9) -> 0 | EG9: ='（別紙１）車両内訳表'!$F9 -> 0 | EH9: =INT(EG9*0.1) -> 0 | EI9: =SUM(EG9:EH9) -> 0 | EJ9: ='（別紙１）車両内訳表'!$F9 -> 0 | EK9: =INT(EJ9*0.1) -> 0 | EL9: =SUM(EJ9:EK9) -> 0 | EM9: ='（別紙１）車両内訳表'!$F9 -> 0 | EN9: =INT(EM9*0.1) -> 0 | EO9: =SUM(EM9:EN9) -> 0 | EP9: ='（別紙１）車両内訳表'!$F9 -> 0 | EQ9: =INT(EP9*0.1) -> 0 | ER9: =SUM(EP9:EQ9) -> 0 | ES9: ='（別紙１）車両内訳表'!$F9 -> 0 | ET9: =INT(ES9*0.1) -> 0 | EU9: =SUM(ES9:ET9) -> 0 | EV9: ='（別紙１）車両内訳表'!$F9 -> 0 | EW9: =INT(EV9*0.1) -> 0 | EX9: =SUM(EV9:EW9) -> 0 | EY9: ='（別紙１）車両内訳表'!$F9 -> 0 | EZ9: =INT(EY9*0.1) -> 0 | FA9: =SUM(EY9:EZ9) -> 0 | FB9: ='（別紙１）車両内訳表'!$F9 -> 0 | FC9: =INT(FB9*0.1) -> 0 | FD9: =SUM(FB9:FC9) -> 0 | FE9: ='（別紙１）車両内訳表'!$F9 -> 0 | FF9: =INT(FE9*0.1) -> 0 | FG9: =SUM(FE9:FF9) -> 0 | FH9: ='（別紙１）車両内訳表'!$F9 -> 0 | FI9: =INT(FH9*0.1) -> 0 | FJ9: =SUM(FH9:FI9) -> 0 | FK9: ='（別紙１）車両内訳表'!$F9 -> 0 | FL9: =INT(FK9*0.1) -> 0 | FM9: =SUM(FK9:FL9) -> 0 | FN9: ='（別紙１）車両内訳表'!$F9 -> 0 | FO9: =INT(FN9*0.1) -> 0 | FP9: =SUM(FN9:FO9) -> 0 | FQ9: ='（別紙１）車両内訳表'!$F9 -> 0 | FR9: =INT(FQ9*0.1) -> 0 | FS9: =SUM(FQ9:FR9) -> 0 | FT9: ='（別紙１）車両内訳表'!$F9 -> 0 | FU9: =INT(FT9*0.1) -> 0 | FV9: =SUM(FT9:FU9) -> 0 | FW9: ='（別紙１）車両内訳表'!$F9 -> 0 | FX9: =INT(FW9*0.1) -> 0 | FY9: =SUM(FW9:FX9) -> 0
A10: 7 | B10: 教育支援課 （岡山市教育センター） | C10: 46478 | D10: =EDATE(C10,59)-1 -> 48273 | E10: ='（別紙１）車両内訳表'!$F10 -> 0 | F10: =INT(E10*0.1) -> 0 | G10: =SUM(E10:F10) -> 0 | H10: ='（別紙１）車両内訳表'!$F10 -> 0 | I10: =INT(H10*0.1) -> 0 | J10: =SUM(H10:I10) -> 0 | K10: ='（別紙１）車両内訳表'!$F10 -> 0 | L10: =INT(K10*0.1) -> 0 | M10: =SUM(K10:L10) -> 0 | N10: ='（別紙１）車両内訳表'!$F10 -> 0 | O10: =INT(N10*0.1) -> 0 | P10: =SUM(N10:O10) -> 0 | Q10: ='（別紙１）車両内訳表'!$F10 -> 0 | R10: =INT(Q10*0.1) -> 0 | S10: =SUM(Q10:R10) -> 0 | T10: ='（別紙１）車両内訳表'!$F10 -> 0 | U10: =INT(T10*0.1) -> 0 | V10: =SUM(T10:U10) -> 0 | W10: ='（別紙１）車両内訳表'!$F10 -> 0 | X10: =INT(W10*0.1) -> 0 | Y10: =SUM(W10:X10) -> 0 | Z10: ='（別紙１）車両内訳表'!$F10 -> 0 | AA10: =INT(Z10*0.1) -> 0 | AB10: =SUM(Z10:AA10) -> 0 | AC10: ='（別紙１）車両内訳表'!$F10 -> 0 | AD10: =INT(AC10*0.1) -> 0 | AE10: =SUM(AC10:AD10) -> 0 | AF10: ='（別紙１）車両内訳表'!$F10 -> 0 | AG10: =INT(AF10*0.1) -> 0 | AH10: =SUM(AF10:AG10) -> 0 | AI10: ='（別紙１）車両内訳表'!$F10 -> 0 | AJ10: =INT(AI10*0.1) -> 0 | AK10: =SUM(AI10:AJ10) -> 0 | AL10: ='（別紙１）車両内訳表'!$F10 -> 0 | AM10: =INT(AL10*0.1) -> 0 | AN10: =SUM(AL10:AM10) -> 0 | AO10: ='（別紙１）車両内訳表'!$F10 -> 0 | AP10: =INT(AO10*0.1) -> 0 | AQ10: =SUM(AO10:AP10) -> 0 | AR10: ='（別紙１）車両内訳表'!$F10 -> 0 | AS10: =INT(AR10*0.1) -> 0 | AT10: =SUM(AR10:AS10) -> 0 | AU10: ='（別紙１）車両内訳表'!$F10 -> 0 | AV10: =INT(AU10*0.1) -> 0 | AW10: =SUM(AU10:AV10) -> 0 | AX10: ='（別紙１）車両内訳表'!$F10 -> 0 | AY10: =INT(AX10*0.1) -> 0 | AZ10: =SUM(AX10:AY10) -> 0 | BA10: ='（別紙１）車両内訳表'!$F10 -> 0 | BB10: =INT(BA10*0.1) -> 0 | BC10: =SUM(BA10:BB10) -> 0 | BD10: ='（別紙１）車両内訳表'!$F10 -> 0 | BE10: =INT(BD10*0.1) -> 0 | BF10: =SUM(BD10:BE10) -> 0 | BG10: ='（別紙１）車両内訳表'!$F10 -> 0 | BH10: =INT(BG10*0.1) -> 0 | BI10: =SUM(BG10:BH10) -> 0 | BJ10: ='（別紙１）車両内訳表'!$F10 -> 0 | BK10: =INT(BJ10*0.1) -> 0 | BL10: =SUM(BJ10:BK10) -> 0 | BM10: ='（別紙１）車両内訳表'!$F10 -> 0 | BN10: =INT(BM10*0.1) -> 0 | BO10: =SUM(BM10:BN10) -> 0 | BP10: ='（別紙１）車両内訳表'!$F10 -> 0 | BQ10: =INT(BP10*0.1) -> 0 | BR10: =SUM(BP10:BQ10) -> 0 | BS10: ='（別紙１）車両内訳表'!$F10 -> 0 | BT10: =INT(BS10*0.1) -> 0 | BU10: =SUM(BS10:BT10) -> 0 | BV10: ='（別紙１）車両内訳表'!$F10 -> 0 | BW10: =INT(BV10*0.1) -> 0 | BX10: =SUM(BV10:BW10) -> 0 | BY10: ='（別紙１）車両内訳表'!$F10 -> 0 | BZ10: =INT(BY10*0.1) -> 0 | CA10: =SUM(BY10:BZ10) -> 0 | CB10: ='（別紙１）車両内訳表'!$F10 -> 0 | CC10: =INT(CB10*0.1) -> 0 | CD10: =SUM(CB10:CC10) -> 0 | CE10: ='（別紙１）車両内訳表'!$F10 -> 0 | CF10: =INT(CE10*0.1) -> 0 | CG10: =SUM(CE10:CF10) -> 0 | CH10: ='（別紙１）車両内訳表'!$F10 -> 0 | CI10: =INT(CH10*0.1) -> 0 | CJ10: =SUM(CH10:CI10) -> 0 | CK10: ='（別紙１）車両内訳表'!$F10 -> 0 | CL10: =INT(CK10*0.1) -> 0 | CM10: =SUM(CK10:CL10) -> 0 | CN10: ='（別紙１）車両内訳表'!$F10 -> 0 | CO10: =INT(CN10*0.1) -> 0 | CP10: =SUM(CN10:CO10) -> 0 | CQ10: ='（別紙１）車両内訳表'!$F10 -> 0 | CR10: =INT(CQ10*0.1) -> 0 | CS10: =SUM(CQ10:CR10) -> 0 | CT10: ='（別紙１）車両内訳表'!$F10 -> 0 | CU10: =INT(CT10*0.1) -> 0 | CV10: =SUM(CT10:CU10) -> 0 | CW10: ='（別紙１）車両内訳表'!$F10 -> 0 | CX10: =INT(CW10*0.1) -> 0 | CY10: =SUM(CW10:CX10) -> 0 | CZ10: ='（別紙１）車両内訳表'!$F10 -> 0 | DA10: =INT(CZ10*0.1) -> 0 | DB10: =SUM(CZ10:DA10) -> 0 | DC10: ='（別紙１）車両内訳表'!$F10 -> 0 | DD10: =INT(DC10*0.1) -> 0 | DE10: =SUM(DC10:DD10) -> 0 | DF10: ='（別紙１）車両内訳表'!$F10 -> 0 | DG10: =INT(DF10*0.1) -> 0 | DH10: =SUM(DF10:DG10) -> 0 | DI10: ='（別紙１）車両内訳表'!$F10 -> 0 | DJ10: =INT(DI10*0.1) -> 0 | DK10: =SUM(DI10:DJ10) -> 0 | DL10: ='（別紙１）車両内訳表'!$F10 -> 0 | DM10: =INT(DL10*0.1) -> 0 | DN10: =SUM(DL10:DM10) -> 0 | DO10: ='（別紙１）車両内訳表'!$F10 -> 0 | DP10: =INT(DO10*0.1) -> 0 | DQ10: =SUM(DO10:DP10) -> 0 | DR10: ='（別紙１）車両内訳表'!$F10 -> 0 | DS10: =INT(DR10*0.1) -> 0 | DT10: =SUM(DR10:DS10) -> 0 | DU10: ='（別紙１）車両内訳表'!$F10 -> 0 | DV10: =INT(DU10*0.1) -> 0 | DW10: =SUM(DU10:DV10) -> 0 | DX10: ='（別紙１）車両内訳表'!$F10 -> 0 | DY10: =INT(DX10*0.1) -> 0 | DZ10: =SUM(DX10:DY10) -> 0 | EA10: ='（別紙１）車両内訳表'!$F10 -> 0 | EB10: =INT(EA10*0.1) -> 0 | EC10: =SUM(EA10:EB10) -> 0 | ED10: ='（別紙１）車両内訳表'!$F10 -> 0 | EE10: =INT(ED10*0.1) -> 0 | EF10: =SUM(ED10:EE10) -> 0 | EG10: ='（別紙１）車両内訳表'!$F10 -> 0 | EH10: =INT(EG10*0.1) -> 0 | EI10: =SUM(EG10:EH10) -> 0 | EJ10: ='（別紙１）車両内訳表'!$F10 -> 0 | EK10: =INT(EJ10*0.1) -> 0 | EL10: =SUM(EJ10:EK10) -> 0 | EM10: ='（別紙１）車両内訳表'!$F10 -> 0 | EN10: =INT(EM10*0.1) -> 0 | EO10: =SUM(EM10:EN10) -> 0 | EP10: ='（別紙１）車両内訳表'!$F10 -> 0 | EQ10: =INT(EP10*0.1) -> 0 | ER10: =SUM(EP10:EQ10) -> 0 | ES10: ='（別紙１）車両内訳表'!$F10 -> 0 | ET10: =INT(ES10*0.1) -> 0 | EU10: =SUM(ES10:ET10) -> 0 | EV10: ='（別紙１）車両内訳表'!$F10 -> 0 | EW10: =INT(EV10*0.1) -> 0 | EX10: =SUM(EV10:EW10) -> 0 | EY10: ='（別紙１）車両内訳表'!$F10 -> 0 | EZ10: =INT(EY10*0.1) -> 0 | FA10: =SUM(EY10:EZ10) -> 0 | FB10: ='（別紙１）車両内訳表'!$F10 -> 0 | FC10: =INT(FB10*0.1) -> 0 | FD10: =SUM(FB10:FC10) -> 0 | FE10: ='（別紙１）車両内訳表'!$F10 -> 0 | FF10: =INT(FE10*0.1) -> 0 | FG10: =SUM(FE10:FF10) -> 0 | FH10: ='（別紙１）車両内訳表'!$F10 -> 0 | FI10: =INT(FH10*0.1) -> 0 | FJ10: =SUM(FH10:FI10) -> 0 | FK10: ='（別紙１）車両内訳表'!$F10 -> 0 | FL10: =INT(FK10*0.1) -> 0 | FM10: =SUM(FK10:FL10) -> 0 | FN10: ='（別紙１）車両内訳表'!$F10 -> 0 | FO10: =INT(FN10*0.1) -> 0 | FP10: =SUM(FN10:FO10) -> 0 | FQ10: ='（別紙１）車両内訳表'!$F10 -> 0 | FR10: =INT(FQ10*0.1) -> 0 | FS10: =SUM(FQ10:FR10) -> 0 | FT10: ='（別紙１）車両内訳表'!$F10 -> 0 | FU10: =INT(FT10*0.1) -> 0 | FV10: =SUM(FT10:FU10) -> 0 | FW10: ='（別紙１）車両内訳表'!$F10 -> 0 | FX10: =INT(FW10*0.1) -> 0 | FY10: =SUM(FW10:FX10) -> 0
A11: 8 | B11: 消防企画総務課（岡山市消防教育訓練センター総合訓練施設） | C11: 46539 | D11: =EDATE(C11,59)-1 -> 48334 | K11: ='（別紙１）車両内訳表'!$F11 -> 0 | L11: =INT(K11*0.1) -> 0 | M11: =SUM(K11:L11) -> 0 | N11: ='（別紙１）車両内訳表'!$F11 -> 0 | O11: =INT(N11*0.1) -> 0 | P11: =SUM(N11:O11) -> 0 | Q11: ='（別紙１）車両内訳表'!$F11 -> 0 | R11: =INT(Q11*0.1) -> 0 | S11: =SUM(Q11:R11) -> 0 | T11: ='（別紙１）車両内訳表'!$F11 -> 0 | U11: =INT(T11*0.1) -> 0 | V11: =SUM(T11:U11) -> 0 | W11: ='（別紙１）車両内訳表'!$F11 -> 0 | X11: =INT(W11*0.1) -> 0 | Y11: =SUM(W11:X11) -> 0 | Z11: ='（別紙１）車両内訳表'!$F11 -> 0 | AA11: =INT(Z11*0.1) -> 0 | AB11: =SUM(Z11:AA11) -> 0 | AC11: ='（別紙１）車両内訳表'!$F11 -> 0 | AD11: =INT(AC11*0.1) -> 0 | AE11: =SUM(AC11:AD11) -> 0 | AF11: ='（別紙１）車両内訳表'!$F11 -> 0 | AG11: =INT(AF11*0.1) -> 0 | AH11: =SUM(AF11:AG11) -> 0 | AI11: ='（別紙１）車両内訳表'!$F11 -> 0 | AJ11: =INT(AI11*0.1) -> 0 | AK11: =SUM(AI11:AJ11) -> 0 | AL11: ='（別紙１）車両内訳表'!$F11 -> 0 | AM11: =INT(AL11*0.1) -> 0 | AN11: =SUM(AL11:AM11) -> 0 | AO11: ='（別紙１）車両内訳表'!$F11 -> 0 | AP11: =INT(AO11*0.1) -> 0 | AQ11: =SUM(AO11:AP11) -> 0 | AR11: ='（別紙１）車両内訳表'!$F11 -> 0 | AS11: =INT(AR11*0.1) -> 0 | AT11: =SUM(AR11:AS11) -> 0 | AU11: ='（別紙１）車両内訳表'!$F11 -> 0 | AV11: =INT(AU11*0.1) -> 0 | AW11: =SUM(AU11:AV11) -> 0 | AX11: ='（別紙１）車両内訳表'!$F11 -> 0 | AY11: =INT(AX11*0.1) -> 0 | AZ11: =SUM(AX11:AY11) -> 0 | BA11: ='（別紙１）車両内訳表'!$F11 -> 0 | BB11: =INT(BA11*0.1) -> 0 | BC11: =SUM(BA11:BB11) -> 0 | BD11: ='（別紙１）車両内訳表'!$F11 -> 0 | BE11: =INT(BD11*0.1) -> 0 | BF11: =SUM(BD11:BE11) -> 0 | BG11: ='（別紙１）車両内訳表'!$F11 -> 0 | BH11: =INT(BG11*0.1) -> 0 | BI11: =SUM(BG11:BH11) -> 0 | BJ11: ='（別紙１）車両内訳表'!$F11 -> 0 | BK11: =INT(BJ11*0.1) -> 0 | BL11: =SUM(BJ11:BK11) -> 0 | BM11: ='（別紙１）車両内訳表'!$F11 -> 0 | BN11: =INT(BM11*0.1) -> 0 | BO11: =SUM(BM11:BN11) -> 0 | BP11: ='（別紙１）車両内訳表'!$F11 -> 0 | BQ11: =INT(BP11*0.1) -> 0 | BR11: =SUM(BP11:BQ11) -> 0 | BS11: ='（別紙１）車両内訳表'!$F11 -> 0 | BT11: =INT(BS11*0.1) -> 0 | BU11: =SUM(BS11:BT11) -> 0 | BV11: ='（別紙１）車両内訳表'!$F11 -> 0 | BW11: =INT(BV11*0.1) -> 0 | BX11: =SUM(BV11:BW11) -> 0 | BY11: ='（別紙１）車両内訳表'!$F11 -> 0 | BZ11: =INT(BY11*0.1) -> 0 | CA11: =SUM(BY11:BZ11) -> 0 | CB11: ='（別紙１）車両内訳表'!$F11 -> 0 | CC11: =INT(CB11*0.1) -> 0 | CD11: =SUM(CB11:CC11) -> 0 | CE11: ='（別紙１）車両内訳表'!$F11 -> 0 | CF11: =INT(CE11*0.1) -> 0 | CG11: =SUM(CE11:CF11) -> 0 | CH11: ='（別紙１）車両内訳表'!$F11 -> 0 | CI11: =INT(CH11*0.1) -> 0 | CJ11: =SUM(CH11:CI11) -> 0 | CK11: ='（別紙１）車両内訳表'!$F11 -> 0 | CL11: =INT(CK11*0.1) -> 0 | CM11: =SUM(CK11:CL11) -> 0 | CN11: ='（別紙１）車両内訳表'!$F11 -> 0 | CO11: =INT(CN11*0.1) -> 0 | CP11: =SUM(CN11:CO11) -> 0 | CQ11: ='（別紙１）車両内訳表'!$F11 -> 0 | CR11: =INT(CQ11*0.1) -> 0 | CS11: =SUM(CQ11:CR11) -> 0 | CT11: ='（別紙１）車両内訳表'!$F11 -> 0 | CU11: =INT(CT11*0.1) -> 0 | CV11: =SUM(CT11:CU11) -> 0 | CW11: ='（別紙１）車両内訳表'!$F11 -> 0 | CX11: =INT(CW11*0.1) -> 0 | CY11: =SUM(CW11:CX11) -> 0 | CZ11: ='（別紙１）車両内訳表'!$F11 -> 0 | DA11: =INT(CZ11*0.1) -> 0 | DB11: =SUM(CZ11:DA11) -> 0 | DC11: ='（別紙１）車両内訳表'!$F11 -> 0 | DD11: =INT(DC11*0.1) -> 0 | DE11: =SUM(DC11:DD11) -> 0 | DF11: ='（別紙１）車両内訳表'!$F11 -> 0 | DG11: =INT(DF11*0.1) -> 0 | DH11: =SUM(DF11:DG11) -> 0 | DI11: ='（別紙１）車両内訳表'!$F11 -> 0 | DJ11: =INT(DI11*0.1) -> 0 | DK11: =SUM(DI11:DJ11) -> 0 | DL11: ='（別紙１）車両内訳表'!$F11 -> 0 | DM11: =INT(DL11*0.1) -> 0 | DN11: =SUM(DL11:DM11) -> 0 | DO11: ='（別紙１）車両内訳表'!$F11 -> 0 | DP11: =INT(DO11*0.1) -> 0 | DQ11: =SUM(DO11:DP11) -> 0 | DR11: ='（別紙１）車両内訳表'!$F11 -> 0 | DS11: =INT(DR11*0.1) -> 0 | DT11: =SUM(DR11:DS11) -> 0 | DU11: ='（別紙１）車両内訳表'!$F11 -> 0 | DV11: =INT(DU11*0.1) -> 0 | DW11: =SUM(DU11:DV11) -> 0 | DX11: ='（別紙１）車両内訳表'!$F11 -> 0 | DY11: =INT(DX11*0.1) -> 0 | DZ11: =SUM(DX11:DY11) -> 0 | EA11: ='（別紙１）車両内訳表'!$F11 -> 0 | EB11: =INT(EA11*0.1) -> 0 | EC11: =SUM(EA11:EB11) -> 0 | ED11: ='（別紙１）車両内訳表'!$F11 -> 0 | EE11: =INT(ED11*0.1) -> 0 | EF11: =SUM(ED11:EE11) -> 0 | EG11: ='（別紙１）車両内訳表'!$F11 -> 0 | EH11: =INT(EG11*0.1) -> 0 | EI11: =SUM(EG11:EH11) -> 0 | EJ11: ='（別紙１）車両内訳表'!$F11 -> 0 | EK11: =INT(EJ11*0.1) -> 0 | EL11: =SUM(EJ11:EK11) -> 0 | EM11: ='（別紙１）車両内訳表'!$F11 -> 0 | EN11: =INT(EM11*0.1) -> 0 | EO11: =SUM(EM11:EN11) -> 0 | EP11: ='（別紙１）車両内訳表'!$F11 -> 0 | EQ11: =INT(EP11*0.1) -> 0 | ER11: =SUM(EP11:EQ11) -> 0 | ES11: ='（別紙１）車両内訳表'!$F11 -> 0 | ET11: =INT(ES11*0.1) -> 0 | EU11: =SUM(ES11:ET11) -> 0 | EV11: ='（別紙１）車両内訳表'!$F11 -> 0 | EW11: =INT(EV11*0.1) -> 0 | EX11: =SUM(EV11:EW11) -> 0 | EY11: ='（別紙１）車両内訳表'!$F11 -> 0 | EZ11: =INT(EY11*0.1) -> 0 | FA11: =SUM(EY11:EZ11) -> 0 | FB11: ='（別紙１）車両内訳表'!$F11 -> 0 | FC11: =INT(FB11*0.1) -> 0 | FD11: =SUM(FB11:FC11) -> 0 | FE11: ='（別紙１）車両内訳表'!$F11 -> 0 | FF11: =INT(FE11*0.1) -> 0 | FG11: =SUM(FE11:FF11) -> 0 | FH11: ='（別紙１）車両内訳表'!$F11 -> 0 | FI11: =INT(FH11*0.1) -> 0 | FJ11: =SUM(FH11:FI11) -> 0 | FK11: ='（別紙１）車両内訳表'!$F11 -> 0 | FL11: =INT(FK11*0.1) -> 0 | FM11: =SUM(FK11:FL11) -> 0 | FN11: ='（別紙１）車両内訳表'!$F11 -> 0 | FO11: =INT(FN11*0.1) -> 0 | FP11: =SUM(FN11:FO11) -> 0 | FQ11: ='（別紙１）車両内訳表'!$F11 -> 0 | FR11: =INT(FQ11*0.1) -> 0 | FS11: =SUM(FQ11:FR11) -> 0 | FT11: ='（別紙１）車両内訳表'!$F11 -> 0 | FU11: =INT(FT11*0.1) -> 0 | FV11: =SUM(FT11:FU11) -> 0 | FW11: ='（別紙１）車両内訳表'!$F11 -> 0 | FX11: =INT(FW11*0.1) -> 0 | FY11: =SUM(FW11:FX11) -> 0 | FZ11: ='（別紙１）車両内訳表'!$F11 -> 0 | GA11: =INT(FZ11*0.1) -> 0 | GB11: =SUM(FZ11:GA11) -> 0 | GC11: ='（別紙１）車両内訳表'!$F11 -> 0 | GD11: =INT(GC11*0.1) -> 0 | GE11: =SUM(GC11:GD11) -> 0
A12: 9 | B12: 健康づくり課 （東区保健センター） | C12: 46569 | D12: =EDATE(C12,59)-1 -> 48365 | N12: ='（別紙１）車両内訳表'!$F12 -> 0 | O12: =INT(N12*0.1) -> 0 | P12: =SUM(N12:O12) -> 0 | Q12: ='（別紙１）車両内訳表'!$F12 -> 0 | R12: =INT(Q12*0.1) -> 0 | S12: =SUM(Q12:R12) -> 0 | T12: ='（別紙１）車両内訳表'!$F12 -> 0 | U12: =INT(T12*0.1) -> 0 | V12: =SUM(T12:U12) -> 0 | W12: ='（別紙１）車両内訳表'!$F12 -> 0 | X12: =INT(W12*0.1) -> 0 | Y12: =SUM(W12:X12) -> 0 | Z12: ='（別紙１）車両内訳表'!$F12 -> 0 | AA12: =INT(Z12*0.1) -> 0 | AB12: =SUM(Z12:AA12) -> 0 | AC12: ='（別紙１）車両内訳表'!$F12 -> 0 | AD12: =INT(AC12*0.1) -> 0 | AE12: =SUM(AC12:AD12) -> 0 | AF12: ='（別紙１）車両内訳表'!$F12 -> 0 | AG12: =INT(AF12*0.1) -> 0 | AH12: =SUM(AF12:AG12) -> 0 | AI12: ='（別紙１）車両内訳表'!$F12 -> 0 | AJ12: =INT(AI12*0.1) -> 0 | AK12: =SUM(AI12:AJ12) -> 0 | AL12: ='（別紙１）車両内訳表'!$F12 -> 0 | AM12: =INT(AL12*0.1) -> 0 | AN12: =SUM(AL12:AM12) -> 0 | AO12: ='（別紙１）車両内訳表'!$F12 -> 0 | AP12: =INT(AO12*0.1) -> 0 | AQ12: =SUM(AO12:AP12) -> 0 | AR12: ='（別紙１）車両内訳表'!$F12 -> 0 | AS12: =INT(AR12*0.1) -> 0 | AT12: =SUM(AR12:AS12) -> 0 | AU12: ='（別紙１）車両内訳表'!$F12 -> 0 | AV12: =INT(AU12*0.1) -> 0 | AW12: =SUM(AU12:AV12) -> 0 | AX12: ='（別紙１）車両内訳表'!$F12 -> 0 | AY12: =INT(AX12*0.1) -> 0 | AZ12: =SUM(AX12:AY12) -> 0 | BA12: ='（別紙１）車両内訳表'!$F12 -> 0 | BB12: =INT(BA12*0.1) -> 0 | BC12: =SUM(BA12:BB12) -> 0 | BD12: ='（別紙１）車両内訳表'!$F12 -> 0 | BE12: =INT(BD12*0.1) -> 0 | BF12: =SUM(BD12:BE12) -> 0 | BG12: ='（別紙１）車両内訳表'!$F12 -> 0 | BH12: =INT(BG12*0.1) -> 0 | BI12: =SUM(BG12:BH12) -> 0 | BJ12: ='（別紙１）車両内訳表'!$F12 -> 0 | BK12: =INT(BJ12*0.1) -> 0 | BL12: =SUM(BJ12:BK12) -> 0 | BM12: ='（別紙１）車両内訳表'!$F12 -> 0 | BN12: =INT(BM12*0.1) -> 0 | BO12: =SUM(BM12:BN12) -> 0 | BP12: ='（別紙１）車両内訳表'!$F12 -> 0 | BQ12: =INT(BP12*0.1) -> 0 | BR12: =SUM(BP12:BQ12) -> 0 | BS12: ='（別紙１）車両内訳表'!$F12 -> 0 | BT12: =INT(BS12*0.1) -> 0 | BU12: =SUM(BS12:BT12) -> 0 | BV12: ='（別紙１）車両内訳表'!$F12 -> 0 | BW12: =INT(BV12*0.1) -> 0 | BX12: =SUM(BV12:BW12) -> 0 | BY12: ='（別紙１）車両内訳表'!$F12 -> 0 | BZ12: =INT(BY12*0.1) -> 0 | CA12: =SUM(BY12:BZ12) -> 0 | CB12: ='（別紙１）車両内訳表'!$F12 -> 0 | CC12: =INT(CB12*0.1) -> 0 | CD12: =SUM(CB12:CC12) -> 0 | CE12: ='（別紙１）車両内訳表'!$F12 -> 0 | CF12: =INT(CE12*0.1) -> 0 | CG12: =SUM(CE12:CF12) -> 0 | CH12: ='（別紙１）車両内訳表'!$F12 -> 0 | CI12: =INT(CH12*0.1) -> 0 | CJ12: =SUM(CH12:CI12) -> 0 | CK12: ='（別紙１）車両内訳表'!$F12 -> 0 | CL12: =INT(CK12*0.1) -> 0 | CM12: =SUM(CK12:CL12) -> 0 | CN12: ='（別紙１）車両内訳表'!$F12 -> 0 | CO12: =INT(CN12*0.1) -> 0 | CP12: =SUM(CN12:CO12) -> 0 | CQ12: ='（別紙１）車両内訳表'!$F12 -> 0 | CR12: =INT(CQ12*0.1) -> 0 | CS12: =SUM(CQ12:CR12) -> 0 | CT12: ='（別紙１）車両内訳表'!$F12 -> 0 | CU12: =INT(CT12*0.1) -> 0 | CV12: =SUM(CT12:CU12) -> 0 | CW12: ='（別紙１）車両内訳表'!$F12 -> 0 | CX12: =INT(CW12*0.1) -> 0 | CY12: =SUM(CW12:CX12) -> 0 | CZ12: ='（別紙１）車両内訳表'!$F12 -> 0 | DA12: =INT(CZ12*0.1) -> 0 | DB12: =SUM(CZ12:DA12) -> 0 | DC12: ='（別紙１）車両内訳表'!$F12 -> 0 | DD12: =INT(DC12*0.1) -> 0 | DE12: =SUM(DC12:DD12) -> 0 | DF12: ='（別紙１）車両内訳表'!$F12 -> 0 | DG12: =INT(DF12*0.1) -> 0 | DH12: =SUM(DF12:DG12) -> 0 | DI12: ='（別紙１）車両内訳表'!$F12 -> 0 | DJ12: =INT(DI12*0.1) -> 0 | DK12: =SUM(DI12:DJ12) -> 0 | DL12: ='（別紙１）車両内訳表'!$F12 -> 0 | DM12: =INT(DL12*0.1) -> 0 | DN12: =SUM(DL12:DM12) -> 0 | DO12: ='（別紙１）車両内訳表'!$F12 -> 0 | DP12: =INT(DO12*0.1) -> 0 | DQ12: =SUM(DO12:DP12) -> 0 | DR12: ='（別紙１）車両内訳表'!$F12 -> 0 | DS12: =INT(DR12*0.1) -> 0 | DT12: =SUM(DR12:DS12) -> 0 | DU12: ='（別紙１）車両内訳表'!$F12 -> 0 | DV12: =INT(DU12*0.1) -> 0 | DW12: =SUM(DU12:DV12) -> 0 | DX12: ='（別紙１）車両内訳表'!$F12 -> 0 | DY12: =INT(DX12*0.1) -> 0 | DZ12: =SUM(DX12:DY12) -> 0 | EA12: ='（別紙１）車両内訳表'!$F12 -> 0 | EB12: =INT(EA12*0.1) -> 0 | EC12: =SUM(EA12:EB12) -> 0 | ED12: ='（別紙１）車両内訳表'!$F12 -> 0 | EE12: =INT(ED12*0.1) -> 0 | EF12: =SUM(ED12:EE12) -> 0 | EG12: ='（別紙１）車両内訳表'!$F12 -> 0 | EH12: =INT(EG12*0.1) -> 0 | EI12: =SUM(EG12:EH12) -> 0 | EJ12: ='（別紙１）車両内訳表'!$F12 -> 0 | EK12: =INT(EJ12*0.1) -> 0 | EL12: =SUM(EJ12:EK12) -> 0 | EM12: ='（別紙１）車両内訳表'!$F12 -> 0 | EN12: =INT(EM12*0.1) -> 0 | EO12: =SUM(EM12:EN12) -> 0 | EP12: ='（別紙１）車両内訳表'!$F12 -> 0 | EQ12: =INT(EP12*0.1) -> 0 | ER12: =SUM(EP12:EQ12) -> 0 | ES12: ='（別紙１）車両内訳表'!$F12 -> 0 | ET12: =INT(ES12*0.1) -> 0 | EU12: =SUM(ES12:ET12) -> 0 | EV12: ='（別紙１）車両内訳表'!$F12 -> 0 | EW12: =INT(EV12*0.1) -> 0 | EX12: =SUM(EV12:EW12) -> 0 | EY12: ='（別紙１）車両内訳表'!$F12 -> 0 | EZ12: =INT(EY12*0.1) -> 0 | FA12: =SUM(EY12:EZ12) -> 0 | FB12: ='（別紙１）車両内訳表'!$F12 -> 0 | FC12: =INT(FB12*0.1) -> 0 | FD12: =SUM(FB12:FC12) -> 0 | FE12: ='（別紙１）車両内訳表'!$F12 -> 0 | FF12: =INT(FE12*0.1) -> 0 | FG12: =SUM(FE12:FF12) -> 0 | FH12: ='（別紙１）車両内訳表'!$F12 -> 0 | FI12: =INT(FH12*0.1) -> 0 | FJ12: =SUM(FH12:FI12) -> 0 | FK12: ='（別紙１）車両内訳表'!$F12 -> 0 | FL12: =INT(FK12*0.1) -> 0 | FM12: =SUM(FK12:FL12) -> 0 | FN12: ='（別紙１）車両内訳表'!$F12 -> 0 | FO12: =INT(FN12*0.1) -> 0 | FP12: =SUM(FN12:FO12) -> 0 | FQ12: ='（別紙１）車両内訳表'!$F12 -> 0 | FR12: =INT(FQ12*0.1) -> 0 | FS12: =SUM(FQ12:FR12) -> 0 | FT12: ='（別紙１）車両内訳表'!$F12 -> 0 | FU12: =INT(FT12*0.1) -> 0 | FV12: =SUM(FT12:FU12) -> 0 | FW12: ='（別紙１）車両内訳表'!$F12 -> 0 | FX12: =INT(FW12*0.1) -> 0 | FY12: =SUM(FW12:FX12) -> 0 | FZ12: ='（別紙１）車両内訳表'!$F12 -> 0 | GA12: =INT(FZ12*0.1) -> 0 | GB12: =SUM(FZ12:GA12) -> 0 | GC12: ='（別紙１）車両内訳表'!$F12 -> 0 | GD12: =INT(GC12*0.1) -> 0 | GE12: =SUM(GC12:GD12) -> 0 | GF12: ='（別紙１）車両内訳表'!$F12 -> 0 | GG12: =INT(GF12*0.1) -> 0 | GH12: =SUM(GF12:GG12) -> 0
A13: 10 | B13: 環境事業課 （南区ごみ対策班） | C13: 46569 | D13: =EDATE(C13,59)-1 -> 48365 | N13: ='（別紙１）車両内訳表'!$F13 -> 0 | O13: =INT(N13*0.1) -> 0 | P13: =SUM(N13:O13) -> 0 | Q13: ='（別紙１）車両内訳表'!$F13 -> 0 | R13: =INT(Q13*0.1) -> 0 | S13: =SUM(Q13:R13) -> 0 | T13: ='（別紙１）車両内訳表'!$F13 -> 0 | U13: =INT(T13*0.1) -> 0 | V13: =SUM(T13:U13) -> 0 | W13: ='（別紙１）車両内訳表'!$F13 -> 0 | X13: =INT(W13*0.1) -> 0 | Y13: =SUM(W13:X13) -> 0 | Z13: ='（別紙１）車両内訳表'!$F13 -> 0 | AA13: =INT(Z13*0.1) -> 0 | AB13: =SUM(Z13:AA13) -> 0 | AC13: ='（別紙１）車両内訳表'!$F13 -> 0 | AD13: =INT(AC13*0.1) -> 0 | AE13: =SUM(AC13:AD13) -> 0 | AF13: ='（別紙１）車両内訳表'!$F13 -> 0 | AG13: =INT(AF13*0.1) -> 0 | AH13: =SUM(AF13:AG13) -> 0 | AI13: ='（別紙１）車両内訳表'!$F13 -> 0 | AJ13: =INT(AI13*0.1) -> 0 | AK13: =SUM(AI13:AJ13) -> 0 | AL13: ='（別紙１）車両内訳表'!$F13 -> 0 | AM13: =INT(AL13*0.1) -> 0 | AN13: =SUM(AL13:AM13) -> 0 | AO13: ='（別紙１）車両内訳表'!$F13 -> 0 | AP13: =INT(AO13*0.1) -> 0 | AQ13: =SUM(AO13:AP13) -> 0 | AR13: ='（別紙１）車両内訳表'!$F13 -> 0 | AS13: =INT(AR13*0.1) -> 0 | AT13: =SUM(AR13:AS13) -> 0 | AU13: ='（別紙１）車両内訳表'!$F13 -> 0 | AV13: =INT(AU13*0.1) -> 0 | AW13: =SUM(AU13:AV13) -> 0 | AX13: ='（別紙１）車両内訳表'!$F13 -> 0 | AY13: =INT(AX13*0.1) -> 0 | AZ13: =SUM(AX13:AY13) -> 0 | BA13: ='（別紙１）車両内訳表'!$F13 -> 0 | BB13: =INT(BA13*0.1) -> 0 | BC13: =SUM(BA13:BB13) -> 0 | BD13: ='（別紙１）車両内訳表'!$F13 -> 0 | BE13: =INT(BD13*0.1) -> 0 | BF13: =SUM(BD13:BE13) -> 0 | BG13: ='（別紙１）車両内訳表'!$F13 -> 0 | BH13: =INT(BG13*0.1) -> 0 | BI13: =SUM(BG13:BH13) -> 0 | BJ13: ='（別紙１）車両内訳表'!$F13 -> 0 | BK13: =INT(BJ13*0.1) -> 0 | BL13: =SUM(BJ13:BK13) -> 0 | BM13: ='（別紙１）車両内訳表'!$F13 -> 0 | BN13: =INT(BM13*0.1) -> 0 | BO13: =SUM(BM13:BN13) -> 0 | BP13: ='（別紙１）車両内訳表'!$F13 -> 0 | BQ13: =INT(BP13*0.1) -> 0 | BR13: =SUM(BP13:BQ13) -> 0 | BS13: ='（別紙１）車両内訳表'!$F13 -> 0 | BT13: =INT(BS13*0.1) -> 0 | BU13: =SUM(BS13:BT13) -> 0 | BV13: ='（別紙１）車両内訳表'!$F13 -> 0 | BW13: =INT(BV13*0.1) -> 0 | BX13: =SUM(BV13:BW13) -> 0 | BY13: ='（別紙１）車両内訳表'!$F13 -> 0 | BZ13: =INT(BY13*0.1) -> 0 | CA13: =SUM(BY13:BZ13) -> 0 | CB13: ='（別紙１）車両内訳表'!$F13 -> 0 | CC13: =INT(CB13*0.1) -> 0 | CD13: =SUM(CB13:CC13) -> 0 | CE13: ='（別紙１）車両内訳表'!$F13 -> 0 | CF13: =INT(CE13*0.1) -> 0 | CG13: =SUM(CE13:CF13) -> 0 | CH13: ='（別紙１）車両内訳表'!$F13 -> 0 | CI13: =INT(CH13*0.1) -> 0 | CJ13: =SUM(CH13:CI13) -> 0 | CK13: ='（別紙１）車両内訳表'!$F13 -> 0 | CL13: =INT(CK13*0.1) -> 0 | CM13: =SUM(CK13:CL13) -> 0 | CN13: ='（別紙１）車両内訳表'!$F13 -> 0 | CO13: =INT(CN13*0.1) -> 0 | CP13: =SUM(CN13:CO13) -> 0 | CQ13: ='（別紙１）車両内訳表'!$F13 -> 0 | CR13: =INT(CQ13*0.1) -> 0 | CS13: =SUM(CQ13:CR13) -> 0 | CT13: ='（別紙１）車両内訳表'!$F13 -> 0 | CU13: =INT(CT13*0.1) -> 0 | CV13: =SUM(CT13:CU13) -> 0 | CW13: ='（別紙１）車両内訳表'!$F13 -> 0 | CX13: =INT(CW13*0.1) -> 0 | CY13: =SUM(CW13:CX13) -> 0 | CZ13: ='（別紙１）車両内訳表'!$F13 -> 0 | DA13: =INT(CZ13*0.1) -> 0 | DB13: =SUM(CZ13:DA13) -> 0 | DC13: ='（別紙１）車両内訳表'!$F13 -> 0 | DD13: =INT(DC13*0.1) -> 0 | DE13: =SUM(DC13:DD13) -> 0 | DF13: ='（別紙１）車両内訳表'!$F13 -> 0 | DG13: =INT(DF13*0.1) -> 0 | DH13: =SUM(DF13:DG13) -> 0 | DI13: ='（別紙１）車両内訳表'!$F13 -> 0 | DJ13: =INT(DI13*0.1) -> 0 | DK13: =SUM(DI13:DJ13) -> 0 | DL13: ='（別紙１）車両内訳表'!$F13 -> 0 | DM13: =INT(DL13*0.1) -> 0 | DN13: =SUM(DL13:DM13) -> 0 | DO13: ='（別紙１）車両内訳表'!$F13 -> 0 | DP13: =INT(DO13*0.1) -> 0 | DQ13: =SUM(DO13:DP13) -> 0 | DR13: ='（別紙１）車両内訳表'!$F13 -> 0 | DS13: =INT(DR13*0.1) -> 0 | DT13: =SUM(DR13:DS13) -> 0 | DU13: ='（別紙１）車両内訳表'!$F13 -> 0 | DV13: =INT(DU13*0.1) -> 0 | DW13: =SUM(DU13:DV13) -> 0 | DX13: ='（別紙１）車両内訳表'!$F13 -> 0 | DY13: =INT(DX13*0.1) -> 0 | DZ13: =SUM(DX13:DY13) -> 0 | EA13: ='（別紙１）車両内訳表'!$F13 -> 0 | EB13: =INT(EA13*0.1) -> 0 | EC13: =SUM(EA13:EB13) -> 0 | ED13: ='（別紙１）車両内訳表'!$F13 -> 0 | EE13: =INT(ED13*0.1) -> 0 | EF13: =SUM(ED13:EE13) -> 0 | EG13: ='（別紙１）車両内訳表'!$F13 -> 0 | EH13: =INT(EG13*0.1) -> 0 | EI13: =SUM(EG13:EH13) -> 0 | EJ13: ='（別紙１）車両内訳表'!$F13 -> 0 | EK13: =INT(EJ13*0.1) -> 0 | EL13: =SUM(EJ13:EK13) -> 0 | EM13: ='（別紙１）車両内訳表'!$F13 -> 0 | EN13: =INT(EM13*0.1) -> 0 | EO13: =SUM(EM13:EN13) -> 0 | EP13: ='（別紙１）車両内訳表'!$F13 -> 0 | EQ13: =INT(EP13*0.1) -> 0 | ER13: =SUM(EP13:EQ13) -> 0 | ES13: ='（別紙１）車両内訳表'!$F13 -> 0 | ET13: =INT(ES13*0.1) -> 0 | EU13: =SUM(ES13:ET13) -> 0 | EV13: ='（別紙１）車両内訳表'!$F13 -> 0 | EW13: =INT(EV13*0.1) -> 0 | EX13: =SUM(EV13:EW13) -> 0 | EY13: ='（別紙１）車両内訳表'!$F13 -> 0 | EZ13: =INT(EY13*0.1) -> 0 | FA13: =SUM(EY13:EZ13) -> 0 | FB13: ='（別紙１）車両内訳表'!$F13 -> 0 | FC13: =INT(FB13*0.1) -> 0 | FD13: =SUM(FB13:FC13) -> 0 | FE13: ='（別紙１）車両内訳表'!$F13 -> 0 | FF13: =INT(FE13*0.1) -> 0 | FG13: =SUM(FE13:FF13) -> 0 | FH13: ='（別紙１）車両内訳表'!$F13 -> 0 | FI13: =INT(FH13*0.1) -> 0 | FJ13: =SUM(FH13:FI13) -> 0 | FK13: ='（別紙１）車両内訳表'!$F13 -> 0 | FL13: =INT(FK13*0.1) -> 0 | FM13: =SUM(FK13:FL13) -> 0 | FN13: ='（別紙１）車両内訳表'!$F13 -> 0 | FO13: =INT(FN13*0.1) -> 0 | FP13: =SUM(FN13:FO13) -> 0 | FQ13: ='（別紙１）車両内訳表'!$F13 -> 0 | FR13: =INT(FQ13*0.1) -> 0 | FS13: =SUM(FQ13:FR13) -> 0 | FT13: ='（別紙１）車両内訳表'!$F13 -> 0 | FU13: =INT(FT13*0.1) -> 0 | FV13: =SUM(FT13:FU13) -> 0 | FW13: ='（別紙１）車両内訳表'!$F13 -> 0 | FX13: =INT(FW13*0.1) -> 0 | FY13: =SUM(FW13:FX13) -> 0 | FZ13: ='（別紙１）車両内訳表'!$F13 -> 0 | GA13: =INT(FZ13*0.1) -> 0 | GB13: =SUM(FZ13:GA13) -> 0 | GC13: ='（別紙１）車両内訳表'!$F13 -> 0 | GD13: =INT(GC13*0.1) -> 0 | GE13: =SUM(GC13:GD13) -> 0 | GF13: ='（別紙１）車両内訳表'!$F13 -> 0 | GG13: =INT(GF13*0.1) -> 0 | GH13: =SUM(GF13:GG13) -> 0
