Workbook

Sheet （別紙１）車両内訳表
A1: リース車両内訳表
A2: № | B2: ﾘｰｽ期間 | C2: 電気自動車の種別 | E2: 納入場所 | F2: 月額ﾘｰｽ料 | G2: 消費税 | H2: ﾘｰｽ | I2: ﾘｰｽ料 | J2: 備考
C3: 用途等 | F3: （円） | G3: （円） | H3: 月数 | I3: 合計（円）
A4: 1 | B4: R9.4.1 ～R14.2.29 | C4: 軽自動車 乗用 | D4: 自家用 | E4: 教育支援課 （岡山市教育センター） | G4: =INT(F4*0.1) -> 0 | H4: 59 | I4: =(F4+G4)*H4 -> 0 | J4: 冬タイヤ
A5: 2 | B5: R9.4.1 ～R14.2.29 | C5: 軽自動車 乗用 | D5: 自家用 | E5: 教育支援課 （岡山市教育センター） | G5: =INT(F5*0.1) -> 0 | H5: 59 | I5: =(F5+G5)*H5 -> 0 | J5: 冬タイヤ
A6: 3 | B6: R9.4.1 ～R14.2.29 | C6: 軽自動車 乗用 | D6: 自家用 | E6: 教育支援課 （岡山市教育センター） | G6: =INT(F6*0.1) -> 0 | H6: 59 | I6: =(F6+G6)*H6 -> 0 | J6: 冬タイヤ
A7: 4 | B7: R9.4.1 ～R14.2.29 | C7: 軽自動車 乗用 | D7: 自家用 | E7: 教育支援課 （岡山市教育センター） | G7: =INT(F7*0.1) -> 0 | H7: 59 | I7: =(F7+G7)*H7 -> 0 | J7: 冬タイヤ
A8: 5 | B8: R9.4.1 ～R14.2.29 | C8: 軽自動車 乗用 | D8: 自家用 | E8: 教育支援課 （岡山市教育センター） | G8: =INT(F8*0.1) -> 0 | H8: 59 | I8: =(F8+G8)*H8 -> 0 | J8: 冬タイヤ
A9: 6 | B9: R9.4.1 ～R14.2.29 | C9: 軽自動車 乗用 | D9: 自家用 | E9: 教育支援課 （岡山市教育センター） | G9: =INT(F9*0.1) -> 0 | H9: 59 | I9: =(F9+G9)*H9 -> 0 | J9: 冬タイヤ
A10: 7 | B10: R9.4.1 ～R14.2.29 | C10: 軽自動車 乗用 | D10: 自家用 | E10: 教育支援課 （岡山市教育センター） | G10: =INT(F10*0.1) -> 0 | H10: 59 | I10: =(F10+G10)*H10 -> 0 | J10: 冬タイヤ
A11: 8 | B11: R9.6.1 ～R14.4.30 | C11: 軽自動車 貨物 | D11: 自家用 | E11: 消防企画総務課（岡山市消防教育訓練センター総合訓練施設） | G11: =INT(F11*0.1) -> 0 | H11: 59 | I11: =(F11+G11)*H11 -> 0
A12: 9 | B12: R9.7.1 ～R14.5.31 | C12: 軽自動車 乗用 | D12: 自家用 | E12: 健康づくり課 （東区保健センター） | G12: =INT(F12*0.1) -> 0 | H12: 59 | I12: =(F12+G12)*H12 -> 0
A13: 10 | B13: R9.7.1 ～R14.5.31 | C13: 軽自動車 貨物 | D13: 自家用 | E13: 環境事業課 （南区ごみ対策班） | G13: =INT(F13*0.1) -> 0 | H13: 59 | I13: =(F13+G13)*H13 -> 0 | J13: 冬タイヤ
A14: 11 | B14: R10.1.1 ～R14.11.30 | C14: 軽自動車 貨物 | D14: 自家用 | E14: 東区役所市民保険年金課 | G14: =INT(F14*0.1) -> 0 | H14: 59 | I14: =(F14+G14)*H14 -> 0
A15: 12 | B15: R10.1.1 ～R14.11.30 | C15: 軽自動車 貨物 | D15: 自家用 | E15: 中区福祉事務所 | G15: =INT(F15*0.1) -> 0 | H15: 59 | I15: =(F15+G15)*H15 -> 0
A16: 13 | B16: R10.1.1 ～R14.11.30 | C16: 軽自動車 貨物 | D16: 自家用 | E16: 南区西福祉事務所 | G16: =INT(F16*0.1) -> 0 | H16: 59 | I16: =(F16+G16)*H16 -> 0
A17: 14 | B17: R10.1.1 ～R14.11.30 | C17: 軽自動車 乗用 | D17: 自家用 | E17: 南区西福祉事務所 | G17: =INT(F17*0.1) -> 0 | H17: 59 | I17: =(F17+G17)*H17 -> 0
A18: 15 | B18: R10.1.1 ～R14.11.30 | C18: 軽自動車 貨物 | D18: 自家用 | E18: 北区北福祉事務所 | G18: =INT(F18*0.1) -> 0 | H18: 59 | I18: =(F18+G18)*H18 -> 0
A19: 16 | B19: R10.1.1 ～R14.11.30 | C19: 軽自動車 乗用 | D19: 自家用 | E19: 健康づくり課 （中区保健センター） | G19: =INT(F19*0.1) -> 0 | H19: 59 | I19: =(F19+G19)*H19 -> 0
A20: 17 | B20: R10.3.1 ～R15.1.31 | C20: 軽自動車 貨物 | D20: 自家用 | E20: 第１事業所 | G20: =INT(F20*0.1) -> 0 | H20: 59 | I20: =(F20+G20)*H20 -> 0
A21: 18 | B21: R10.3.1 ～R15.1.31 | C21: 軽自動車 貨物 | D21: 自家用 | E21: 北区役所津高地域センター | G21: =INT(F21*0.1) -> 0 | H21: 59 | I21: =(F21+G21)*H21 -> 0 | J21: 車載用放送設備
A22: 19 | B22: R10.3.1 ～R15.1.31 | C22: 軽自動車 貨物 | D22: 自家用 | E22: 南区西福祉事務所 | G22: =INT(F22*0.1) -> 0 | H22: 59 | I22: =(F22+G22)*H22 -> 0
F23: 総 計 | I23: =SUM(I4:I22) -> 0

Sheet （別紙２）月別
E1: 9年度 | AO1: 10年度 | BY1: 11年度 | DI1: 12年度 | ES1: 13年度 | GC1: 14年度
A2: № | B2: 納入先 | C2: リース | D2: リース | E2: 4月 | H2: 5月 | K2: 6月 | N2: 7月 | Q2: 8月 | T2: 9月 | W2: 10月 | Z2: 11月 | AC2: 12月 | AF2: 1月 | AI2: 2月 | AL2: 3月 | AO2: 4月 | AR2: 5月 | AU2: 6月 | AX2: 7月 | BA2: 8月 | BD2: 9月 | BG2: 10月 | BJ2: 11月 | BM2: 12月 | BP2: 1月 | BS2: 2月 | BV2: 3月 | BY2: 4月 | CB2: 5月 | CE2: 6月 | CH2: 7月 | CK2: 8月 | CN2: 9月 | CQ2: 10月 | CT2: 11月 | CW2: 12月 | CZ2: 1月 | DC2: 2月 | DF2: 3月 | DI2: 4月 | DL2: 5月 | DO2: 6月 | DR2: 7月 | DU2: 8月 | DX2: 9月 | EA2: 9月 | ED2: 11月 | EG2: 12月 | EJ2: 1月 | EM2: 2月 | EP2: 3月 | ES2: 4月 | EV2: 5月 | EY2: 6月 | FB2: 7月 | FE2: 8月 | FH2: 9月 | FK2: 10月 | FN2: 11月 | FQ2: 12月 | FT2: 1月 | FW2: 2月 | FZ2: 3月 | GC2: 4月 | GF2: 5月 | GI2: 6月 | GL2: 7月 | GO2: 8月 | GR2: 9月 | GU2: 10月 | GX2: 11月 | HA2: 12月 | HD2: 1月 | HG2: 2月 | HJ2: 3月
C3: 開始日 | D3: 満了日 | E3: 月額 | F3: 税 | G3: 計 | H3: 月額 | I3: 税 | J3: 計 | K3: 月額 | L3: 税 | M3: 計 | N3: 月額 | O3: 税 | P3: 計 | Q3: 月額 | R3: 税 | S3: 計 | T3: 月額 | U3: 税 | V3: 計 | W3: 月額 | X3: 税 | Y3: 計 | Z3: 月額 | AA3: 税 | AB3: 計 | AC3: 月額 | AD3: 税 | AE3: 計 | AF3: 月額 | AG3: 税 | AH3: 計 | AI3: 月額 | AJ3: 税 | AK3: 計 | AL3: 月額 | AM3: 税 | AN3: 計 | AO3: 月額 | AP3: 税 | AQ3: 計 | AR3: 月額 | AS3: 税 | AT3: 計 | AU3: 月額 | AV3: 税 | AW3: 計 | AX3: 月額 | AY3: 税 | AZ3: 計 | BA3: 月額 | BB3: 税 | BC3: 計 | BD3: 月額 | BE3: 税 | BF3: 計 | BG3: 月額 | BH3: 税 | BI3: 計 | BJ3: 月額 | BK3: 税 | BL3: 計 | BM3: 月額 | BN3: 税 | BO3: 計 | BP3: 月額 | BQ3: 税 | BR3: 計 | BS3: 月額 | BT3: 税 | BU3: 計 | BV3: 月額 | BW3: 税 | BX3: 計 | BY3: 月額 | BZ3: 税 | CA3: 計 | CB3: 月額 | CC3: 税 | CD3: 計 | CE3: 月額 | CF3: 税 | CG3: 計 | CH3: 月額 | CI3: 税 | CJ3: 計 | CK3: 月額 | CL3: 税 | CM3: 計 | CN3: 月額 | CO3: 税 | CP3: 計 | CQ3: 月額 | CR3: 税 | CS3: 計 | CT3: 月額 | CU3: 税 | CV3: 計 | CW3: 月額 | CX3: 税 | CY3: 計 | CZ3: 月額 | DA3: 税 | DB3: 計 | DC3: 月額 | DD3: 税 | DE3: 計 | DF3: 月額 | DG3: 税 | DH3: 計 | DI3: 月額 | DJ3: 税 | DK3: 計 | DL3: 月額 | DM3: 税 | DN3: 計 | DO3: 月額 | DP3: 税 | DQ3: 計 | DR3: 月額 | DS3: 税 | DT3: 計 | DU3: 月額 | DV3: 税 | DW3: 計 | DX3: 月額 | DY3: 税 | DZ3: 計 | EA3: 月額 | EB3: 税 | EC3: 計 | ED3: 月額 | EE3: 税 | EF3: 計 | EG3: 月額 | EH3: 税 | EI3: 計 | EJ3: 月額 | EK3: 税 | EL3: 計 | EM3: 月額 | EN3: 税 | EO3: 計 | EP3: 月額 | EQ3: 税 | ER3: 計 | ES3: 月額 | ET3: 税 | EU3: 計 | EV3: 月額 | EW3: 税 | EX3: 計 | EY3: 月額 | EZ3: 税 | FA3: 計 | FB3: 月額 | FC3: 税 | FD3: 計 | FE3: 月額 | FF3: 税 | FG3: 計 | FH3: 月額 | FI3: 税 | FJ3: 計 | FK3: 月額 | FL3: 税 | FM3: 計 | FN3: 月額 | FO3: 税 | FP3: 計 | FQ3: 月額 | FR3: 税 | FS3: 計 | FT3: 月額 | FU3: 税 | FV3: 計 | FW3: 月額 | FX3: 税 | FY3: 計 | FZ3: 月額 | GA3: 税 | GB3: 計 | GC3: 月額 | GD3: 税 | GE3: 計 | GF3: 月額 | GG3: 税 | GH3: 計 | GI3: 月額 | GJ3: 税 | GK3: 計 | GL3: 月額 | GM3: 税 | GN3: 計 | GO3: 月額 | GP3: 税 | GQ3: 計 | GR3: 月額 | GS3: 税 | GT3: 計 | GU3: 月額 | GV3: 税 | GW3: 計 | GX3: 月額 | GY3: 税 | GZ3: 計 | HA3: 月額 | HB3: 税 | HC3: 計 | HD3: 月額 | HE3: 税 | HF3: 計 | HG3: 月額 | HH3: 税 | HI3: 計 | HJ3: 月額 | HK3: 税 | HL3: 計
A4: 1 | B4: 教育支援課 （岡山市教育センター） | C4: 46478 | D4: =EDATE(C4,59)-1 -> 48273 | E4: ='（別紙１）車両内訳表'!$F4 -> 0 | F4: =INT(E4*0.1) -> 0 | G4: =SUM(E4:F4) -> 0 | H4: ='（別紙１）車両内訳表'!$F4 -> 0 | I4: =INT(H4*0.1) -> 0 | J4: =SUM(H4:I4) -> 0 | K4: ='（別紙１）車両内訳表'!$F4 -> 0 | L4: =INT(K4*0.1) -> 0 | M4: =SUM(K4:L4) -> 0 | N4: ='（別紙１）車両内訳表'!$F4 -> 0 | O4: =INT(N4*0.1) -> 0 | P4: =SUM(N4:O4) -> 0 | Q4: ='（別紙１）車両内訳表'!$F4 -> 0 | R4: =INT(Q4*0.1) -> 0 | S4: =SUM(Q4:R4) -> 0 | T4: ='（別紙１）車両内訳表'!$F4 -> 0 | U4: =INT(T4*0.1) -> 0 | V4: =SUM(T4:U4) -> 0 | W4: ='（別紙１）車両内訳表'!$F4 -> 0 | X4: =INT(W4*0.1) -> 0 | Y4: =SUM(W4:X4) -> 0 | Z4: ='（別紙１）車両内訳表'!$F4 -> 0 | AA4: =INT(Z4*0.1) -> 0 | AB4: =SUM(Z4:AA4) -> 0 | AC4: ='（別紙１）車両内訳表'!$F4 -> 0 | AD4: =INT(AC4*0.1) -> 0 | AE4: =SUM(AC4:AD4) -> 0 | AF4: ='（別紙１）車両内訳表'!$F4 -> 0 | AG4: =INT(AF4*0.1) -> 0 | AH4: =SUM(AF4:AG4) -> 0 | AI4: ='（別紙１）車両内訳表'!$F4 -> 0 | AJ4: =INT(AI4*0.1) -> 0 | AK4: =SUM(AI4:AJ4) -> 0 | AL4: ='（別紙１）車両内訳表'!$F4 -> 0 | AM4: =INT(AL4*0.1) -> 0 | AN4: =SUM(AL4:AM4) -> 0 | AO4: ='（別紙１）車両内訳表'!$F4 -> 0 | AP4: =INT(AO4*0.1) -> 0 | AQ4: =SUM(AO4:AP4) -> 0 | AR4: ='（別紙１）車両内訳表'!$F4 -> 0 | AS4: =INT(AR4*0.1) -> 0 | AT4: =SUM(AR4:AS4) -> 0 | AU4: ='（別紙１）車両内訳表'!$F4 -> 0 | AV4: =INT(AU4*0.1) -> 0 | AW4: =SUM(AU4:AV4) -> 0 | AX4: ='（別紙１）車両内訳表'!$F4 -> 0 | AY4: =INT(AX4*0.1) -> 0 | AZ4: =SUM(AX4:AY4) -> 0 | BA4: ='（別紙１）車両内訳表'!$F4 -> 0 | BB4: =INT(BA4*0.1) -> 0 | BC4: =SUM(BA4:BB4) -> 0 | BD4: ='（別紙１）車両内訳表'!$F4 -> 0 | BE4: =INT(BD4*0.1) -> 0 | BF4: =SUM(BD4:BE4) -> 0 | BG4: ='（別紙１）車両内訳表'!$F4 -> 0 | BH4: =INT(BG4*0.1) -> 0 | BI4: =SUM(BG4:BH4) -> 0 | BJ4: ='（別紙１）車両内訳表'!$F4 -> 0 | BK4: =INT(BJ4*0.1) -> 0 | BL4: =SUM(BJ4:BK4) -> 0 | BM4: ='（別紙１）車両内訳表'!$F4 -> 0 | BN4: =INT(BM4*0.1) -> 0 | BO4: =SUM(BM4:BN4) -> 0 | BP4: ='（別紙１）車両内訳表'!$F4 -> 0 | BQ4: =INT(BP4*0.1) -> 0 | BR4: =SUM(BP4:BQ4) -> 0 | BS4: ='（別紙１）車両内訳表'!$F4 -> 0 | BT4: =INT(BS4*0.1) -> 0 | BU4: =SUM(BS4:BT4) -> 0 | BV4: ='（別紙１）車両内訳表'!$F4 -> 0 | BW4: =INT(BV4*0.1) -> 0 | BX4: =SUM(BV4:BW4) -> 0 | BY4: ='（別紙１）車両内訳表'!$F4 -> 0 | BZ4: =INT(BY4*0.1) -> 0 | CA4: =SUM(BY4:BZ4) -> 0 | CB4: ='（別紙１）車両内訳表'!$F4 -> 0 | CC4: =INT(CB4*0.1) -> 0 | CD4: =SUM(CB4:CC4) -> 0 | CE4: ='（別紙１）車両内訳表'!$F4 -> 0 | CF4: =INT(CE4*0.1) -> 0 | CG4: =SUM(CE4:CF4) -> 0 | CH4: ='（別紙１）車両内訳表'!$F4 -> 0 | CI4: =INT(CH4*0.1) -> 0 | CJ4: =SUM(CH4:CI4) -> 0 | CK4: ='（別紙１）車両内訳表'!$F4 -> 0 | CL4: =INT(CK4*0.1) -> 0 | CM4: =SUM(CK4:CL4) -> 0 | CN4: ='（別紙１）車両内訳表'!$F4 -> 0 | CO4: =INT(CN4*0.1) -> 0 | CP4: =SUM(CN4:CO4) -> 0 | CQ4: ='（別紙１）車両内訳表'!$F4 -> 0 | CR4: =INT(CQ4*0.1) -> 0 | CS4: =SUM(CQ4:CR4) -> 0 | CT4: ='（別紙１）車両内訳表'!$F4 -> 0 | CU4: =INT(CT4*0.1) -> 0 | CV4: =SUM(CT4:CU4) -> 0 | CW4: ='（別紙１）車両内訳表'!$F4 -> 0 | CX4: =INT(CW4*0.1) -> 0 | CY4: =SUM(CW4:CX4) -> 0 | CZ4: ='（別紙１）車両内訳表'!$F4 -> 0 | DA4: =INT(CZ4*0.1) -> 0 | DB4: =SUM(CZ4:DA4) -> 0 | DC4: ='（別紙１）車両内訳表'!$F4 -> 0 | DD4: =INT(DC4*0.1) -> 0 | DE4: =SUM(DC4:DD4) -> 0 | DF4: ='（別紙１）車両内訳表'!$F4 -> 0 | DG4: =INT(DF4*0.1) -> 0 | DH4: =SUM(DF4:DG4) -> 0 | DI4: ='（別紙１）車両内訳表'!$F4 -> 0 | DJ4: =INT(DI4*0.1) -> 0 | DK4: =SUM(DI4:DJ4) -> 0 | DL4: ='（別紙１）車両内訳表'!$F4 -> 0 | DM4: =INT(DL4*0.1) -> 0 | DN4: =SUM(DL4:DM4) -> 0 | DO4: ='（別紙１）車両内訳表'!$F4 -> 0 | DP4: =INT(DO4*0.1) -> 0 | DQ4: =SUM(DO4:DP4) -> 0 | DR4: ='（別紙１）車両内訳表'!$F4 -> 0 | DS4: =INT(DR4*0.1) -> 0 | DT4: =SUM(DR4:DS4) -> 0 | DU4: ='（別紙１）車両内訳表'!$F4 -> 0 | DV4: =INT(DU4*0.1) -> 0 | DW4: =SUM(DU4:DV4) -> 0 | DX4: ='（別紙１）車両内訳表'!$F4 -> 0 | DY4: =INT(DX4*0.1) -> 0 | DZ4: =SUM(DX4:DY4) -> 0 | EA4: ='（別紙１）車両内訳表'!$F4 -> 0 | EB4: =INT(EA4*0.1) -> 0 | EC4: =SUM(EA4:EB4) -> 0 | ED4: ='（別紙１）車両内訳表'!$F4 -> 0 | EE4: =INT(ED4*0.1) -> 0 | EF4: =SUM(ED4:EE4) -> 0 | EG4: ='（別紙１）車両内訳表'!$F4 -> 0 | EH4: =INT(EG4*0.1) -> 0 | EI4: =SUM(EG4:EH4) -> 0 | EJ4: ='（別紙１）車両内訳表'!$F4 -> 0 | EK4: =INT(EJ4*0.1) -> 0 | EL4: =SUM(EJ4:EK4) -> 0 | EM4: ='（別紙１）車両内訳表'!$F4 -> 0 | EN4: =INT(EM4*0.1) -> 0 | EO4: =SUM(EM4:EN4) -> 0 | EP4: ='（別紙１）車両内訳表'!$F4 -> 0 | EQ4: =INT(EP4*0.1) -> 0 | ER4: =SUM(EP4:EQ4) -> 0 | ES4: ='（別紙１）車両内訳表'!$F4 -> 0 | ET4: =INT(ES4*0.1) -> 0 | EU4: =SUM(ES4:ET4) -> 0 | EV4: ='（別紙１）車両内訳表'!$F4 -> 0 | EW4: =INT(EV4*0.1) -> 0 | EX4: =SUM(EV4:EW4) -> 0 | EY4: ='（別紙１）車両内訳表'!$F4 -> 0 | EZ4: =INT(EY4*0.1) -> 0 | FA4: =SUM(EY4:EZ4) -> 0 | FB4: ='（別紙１）車両内訳表'!$F4 -> 0 | FC4: =INT(FB4*0.1) -> 0 | FD4: =SUM(FB4:FC4) -> 0 | FE4: ='（別紙１）車両内訳表'!$F4 -> 0 | FF4: =INT(FE4*0.1) -> 0 | FG4: =SUM(FE4:FF4) -> 0 | FH4: ='（別紙１）車両内訳表'!$F4 -> 0 | FI4: =INT(FH4*0.1) -> 0 | FJ4: =SUM(FH4:FI4) -> 0 | FK4: ='（別紙１）車両内訳表'!$F4 -> 0 | FL4: =INT(FK4*0.1) -> 0 | FM4: =SUM(FK4:FL4) -> 0 | FN4: ='（別紙１）車両内訳表'!$F4 -> 0 | FO4: =INT(FN4*0.1) -> 0 | FP4: =SUM(FN4:FO4) -> 0 | FQ4: ='（別紙１）車両内訳表'!$F4 -> 0 | FR4: =INT(FQ4*0.1) -> 0 | FS4: =SUM(FQ4:FR4) -> 0 | FT4: ='（別紙１）車両内訳表'!$F4 -> 0 | FU4: =INT(FT4*0.1) -> 0 | FV4: =SUM(FT4:FU4) -> 0 | FW4: ='（別紙１）車両内訳表'!$F4 -> 0 | FX4: =INT(FW4*0.1) -> 0 | FY4: =SUM(FW4:FX4) -> 0
A5: 2 | B5: 教育支援課 （岡山市教育センター） | C5: 46478 | D5: =EDATE(C5,59)-1 -> 48273 | E5: ='（別紙１）車両内訳表'!$F5 -> 0 | F5: =INT(E5*0.1) -> 0 | G5: =SUM(E5:F5) -> 0 | H5: ='（別紙１）車両内訳表'!$F5 -> 0 | I5: =INT(H5*0.1) -> 0 | J5: =SUM(H5:I5) -> 0 | K5: ='（別紙１）車両内訳表'!$F5 -> 0 | L5: =INT(K5*0.1) -> 0 | M5: =SUM(K5:L5) -> 0 | N5: ='（別紙１）車両内訳表'!$F5 -> 0 | O5: =INT(N5*0.1) -> 0 | P5: =SUM(N5:O5) -> 0 | Q5: ='（別紙１）車両内訳表'!$F5 -> 0 | R5: =INT(Q5*0.1) -> 0 | S5: =SUM(Q5:R5) -> 0 | T5: ='（別紙１）車両内訳表'!$F5 -> 0 | U5: =INT(T5*0.1) -> 0 | V5: =SUM(T5:U5) -> 0 | W5: ='（別紙１）車両内訳表'!$F5 -> 0 | X5: =INT(W5*0.1) -> 0 | Y5: =SUM(W5:X5) -> 0 | Z5: ='（別紙１）車両内訳表'!$F5 -> 0 | AA5: =INT(Z5*0.1) -> 0 | AB5: =SUM(Z5:AA5) -> 0 | AC5: ='（別紙１）車両内訳表'!$F5 -> 0 | AD5: =INT(AC5*0.1) -> 0 | AE5: =SUM(AC5:AD5) -> 0 | AF5: ='（別紙１）車両内訳表'!$F5 -> 0 | AG5: =INT(AF5*0.1) -> 0 | AH5: =SUM(AF5:AG5) -> 0 | AI5: ='（別紙１）車両内訳表'!$F5 -> 0 | AJ5: =INT(AI5*0.1) -> 0 | AK5: =SUM(AI5:AJ5) -> 0 | AL5: ='（別紙１）車両内訳表'!$F5 -> 0 | AM5: =INT(AL5*0.1) -> 0 | AN5: =SUM(AL5:AM5) -> 0 | AO5: ='（別紙１）車両内訳表'!$F5 -> 0 | AP5: =INT(AO5*0.1) -> 0 | AQ5: =SUM(AO5:AP5) -> 0 | AR5: ='（別紙１）車両内訳表'!$F5 -> 0 | AS5: =INT(AR5*0.1) -> 0 | AT5: =SUM(AR5:AS5) -> 0 | AU5: ='（別紙１）車両内訳表'!$F5 -> 0 | AV5: =INT(AU5*0.1) -> 0 | AW5: =SUM(AU5:AV5) -> 0 | AX5: ='（別紙１）車両内訳表'!$F5 -> 0 | AY5: =INT(AX5*0.1) -> 0 | AZ5: =SUM(AX5:AY5) -> 0 | BA5: ='（別紙１）車両内訳表'!$F5 -> 0 | BB5: =INT(BA5*0.1) -> 0 | BC5: =SUM(BA5:BB5) -> 0 | BD5: ='（別紙１）車両内訳表'!$F5 -> 0 | BE5: =INT(BD5*0.1) -> 0 | BF5: =SUM(BD5:BE5) -> 0 | BG5: ='（別紙１）車両内訳表'!$F5 -> 0 | BH5: =INT(BG5*0.1) -> 0 | BI5: =SUM(BG5:BH5) -> 0 | BJ5: ='（別紙１）車両内訳表'!$F5 -> 0 | BK5: =INT(BJ5*0.1) -> 0 | BL5: =SUM(BJ5:BK5) -> 0 | BM5: ='（別紙１）車両内訳表'!$F5 -> 0 | BN5: =INT(BM5*0.1) -> 0 | BO5: =SUM(BM5:BN5) -> 0 | BP5: ='（別紙１）車両内訳表'!$F5 -> 0 | BQ5: =INT(BP5*0.1) -> 0 | BR5: =SUM(BP5:BQ5) -> 0 | BS5: ='（別紙１）車両内訳表'!$F5 -> 0 | BT5: =INT(BS5*0.1) -> 0 | BU5: =SUM(BS5:BT5) -> 0 | BV5: ='（別紙１）車両内訳表'!$F5 -> 0 | BW5: =INT(BV5*0.1) -> 0 | BX5: =SUM(BV5:BW5) -> 0 | BY5: ='（別紙１）車両内訳表'!$F5 -> 0 | BZ5: =INT(BY5*0.1) -> 0 | CA5: =SUM(BY5:BZ5) -> 0 | CB5: ='（別紙１）車両内訳表'!$F5 -> 0 | CC5: =INT(CB5*0.1) -> 0 | CD5: =SUM(CB5:CC5) -> 0 | CE5: ='（別紙１）車両内訳表'!$F5 -> 0 | CF5: =INT(CE5*0.1) -> 0 | CG5: =SUM(CE5:CF5) -> 0 | CH5: ='（別紙１）車両内訳表'!$F5 -> 0 | CI5: =INT(CH5*0.1) -> 0 | CJ5: =SUM(CH5:CI5) -> 0 | CK5: ='（別紙１）車両内訳表'!$F5 -> 0 | CL5: =INT(CK5*0.1) -> 0 | CM5: =SUM(CK5:CL5) -> 0 | CN5: ='（別紙１）車両内訳表'!$F5 -> 0 | CO5: =INT(CN5*0.1) -> 0 | CP5: =SUM(CN5:CO5) -> 0 | CQ5: ='（別紙１）車両内訳表'!$F5 -> 0 | CR5: =INT(CQ5*0.1) -> 0 | CS5: =SUM(CQ5:CR5) -> 0 | CT5: ='（別紙１）車両内訳表'!$F5 -> 0 | CU5: =INT(CT5*0.1) -> 0 | CV5: =SUM(CT5:CU5) -> 0 | CW5: ='（別紙１）車両内訳表'!$F5 -> 0 | CX5: =INT(CW5*0.1) -> 0 | CY5: =SUM(CW5:CX5) -> 0 | CZ5: ='（別紙１）車両内訳表'!$F5 -> 0 | DA5: =INT(CZ5*0.1) -> 0 | DB5: =SUM(CZ5:DA5) -> 0 | DC5: ='（別紙１）車両内訳表'!$F5 -> 0 | DD5: =INT(DC5*0.1) -> 0 | DE5: =SUM(DC5:DD5) -> 0 | DF5: ='（別紙１）車両内訳表'!$F5 -> 0 | DG5: =INT(DF5*0.1) -> 0 | DH5: =SUM(DF5:DG5) -> 0 | DI5: ='（別紙１）車両内訳表'!$F5 -> 0 | DJ5: =INT(DI5*0.1) -> 0 | DK5: =SUM(DI5:DJ5) -> 0 | DL5: ='（別紙１）車両内訳表'!$F5 -> 0 | DM5: =INT(DL5*0.1) -> 0 | DN5: =SUM(DL5:DM5) -> 0 | DO5: ='（別紙１）車両内訳表'!$F5 -> 0 | DP5: =INT(DO5*0.1) -> 0 | DQ5: =SUM(DO5:DP5) -> 0 | DR5: ='（別紙１）車両内訳表'!$F5 -> 0 | DS5: =INT(DR5*0.1) -> 0 | DT5: =SUM(DR5:DS5) -> 0 | DU5: ='（別紙１）車両内訳表'!$F5 -> 0 | DV5: =INT(DU5*0.1) -> 0 | DW5: =SUM(DU5:DV5) -> 0 | DX5: ='（別紙１）車両内訳表'!$F5 -> 0 | DY5: =INT(DX5*0.1) -> 0 | DZ5: =SUM(DX5:DY5) -> 0 | EA5: ='（別紙１）車両内訳表'!$F5 -> 0 | EB5: =INT(EA5*0.1) -> 0 | EC5: =SUM(EA5:EB5) -> 0 | ED5: ='（別紙１）車両内訳表'!$F5 -> 0 | EE5: =INT(ED5*0.1) -> 0 | EF5: =SUM(ED5:EE5) -> 0 | EG5: ='（別紙１）車両内訳表'!$F5 -> 0 | EH5: =INT(EG5*0.1) -> 0 | EI5: =SUM(EG5:EH5) -> 0 | EJ5: ='（別紙１）車両内訳表'!$F5 -> 0 | EK5: =INT(EJ5*0.1) -> 0 | EL5: =SUM(EJ5:EK5) -> 0 | EM5: ='（別紙１）車両内訳表'!$F5 -> 0 | EN5: =INT(EM5*0.1) -> 0 | EO5: =SUM(EM5:EN5) -> 0 | EP5: ='（別紙１）車両内訳表'!$F5 -> 0 | EQ5: =INT(EP5*0.1) -> 0 | ER5: =SUM(EP5:EQ5) -> 0 | ES5: ='（別紙１）車両内訳表'!$F5 -> 0 | ET5: =INT(ES5*0.1) -> 0 | EU5: =SUM(ES5:ET5) -> 0 | EV5: ='（別紙１）車両内訳表'!$F5 -> 0 | EW5: =INT(EV5*0.1) -> 0 | EX5: =SUM(EV5:EW5) -> 0 | EY5: ='（別紙１）車両内訳表'!$F5 -> 0 | EZ5: =INT(EY5*0.1) -> 0 | FA5: =SUM(EY5:EZ5) -> 0 | FB5: ='（別紙１）車両内訳表'!$F5 -> 0 | FC5: =INT(FB5*0.1) -> 0 | FD5: =SUM(FB5:FC5) -> 0 | FE5: ='（別紙１）車両内訳表'!$F5 -> 0 | FF5: =INT(FE5*0.1) -> 0 | FG5: =SUM(FE5:FF5) -> 0 | FH5: ='（別紙１）車両内訳表'!$F5 -> 0 | FI5: =INT(FH5*0.1) -> 0 | FJ5: =SUM(FH5:FI5) -> 0 | FK5: ='（別紙１）車両内訳表'!$F5 -> 0 | FL5: =INT(FK5*0.1) -> 0 | FM5: =SUM(FK5:FL5) -> 0 | FN5: ='（別紙１）車両内訳表'!$F5 -> 0 | FO5: =INT(FN5*0.1) -> 0 | FP5: =SUM(FN5:FO5) -> 0 | FQ5: ='（別紙１）車両内訳表'!$F5 -> 0 | FR5: =INT(FQ5*0.1) -> 0 | FS5: =SUM(FQ5:FR5) -> 0 | FT5: ='（別紙１）車両内訳表'!$F5 -> 0 | FU5: =INT(FT5*0.1) -> 0 | FV5: =SUM(FT5:FU5) -> 0 | FW5: ='（別紙１）車両内訳表'!$F5 -> 0 | FX5: =INT(FW5*0.1) -> 0 | FY5: =SUM(FW5:FX5) -> 0
A6: 3 | B6: 教育支援課 （岡山市教育センター） | C6: 46478 | D6: =EDATE(C6,59)-1 -> 48273 | E6: ='（別紙１）車両内訳表'!$F6 -> 0 | F6: =INT(E6*0.1) -> 0 | G6: =SUM(E6:F6) -> 0 | H6: ='（別紙１）車両内訳表'!$F6 -> 0 | I6: =INT(H6*0.1) -> 0 | J6: =SUM(H6:I6) -> 0 | K6: ='（別紙１）車両内訳表'!$F6 -> 0 | L6: =INT(K6*0.1) -> 0 | M6: =SUM(K6:L6) -> 0 | N6: ='（別紙１）車両内訳表'!$F6 -> 0 | O6: =INT(N6*0.1) -> 0 | P6: =SUM(N6:O6) -> 0 | Q6: ='（別紙１）車両内訳表'!$F6 -> 0 | R6: =INT(Q6*0.1) -> 0 | S6: =SUM(Q6:R6) -> 0 | T6: ='（別紙１）車両内訳表'!$F6 -> 0 | U6: =INT(T6*0.1) -> 0 | V6: =SUM(T6:U6) -> 0 | W6: ='（別紙１）車両内訳表'!$F6 -> 0 | X6: =INT(W6*0.1) -> 0 | Y6: =SUM(W6:X6) -> 0 | Z6: ='（別紙１）車両内訳表'!$F6 -> 0 | AA6: =INT(Z6*0.1) -> 0 | AB6: =SUM(Z6:AA6) -> 0 | AC6: ='（別紙１）車両内訳表'!$F6 -> 0 | AD6: =INT(AC6*0.1) -> 0 | AE6: =SUM(AC6:AD6) -> 0 | AF6: ='（別紙１）車両内訳表'!$F6 -> 0 | AG6: =INT(AF6*0.1) -> 0 | AH6: =SUM(AF6:AG6) -> 0 | AI6: ='（別紙１）車両内訳表'!$F6 -> 0 | AJ6: =INT(AI6*0.1) -> 0 | AK6: =SUM(AI6:AJ6) -> 0 | AL6: ='（別紙１）車両内訳表'!$F6 -> 0 | AM6: =INT(AL6*0.1) -> 0 | AN6: =SUM(AL6:AM6) -> 0 | AO6: ='（別紙１）車両内訳表'!$F6 -> 0 | AP6: =INT(AO6*0.1) -> 0 | AQ6: =SUM(AO6:AP6) -> 0 | AR6: ='（別紙１）車両内訳表'!$F6 -> 0 | AS6: =INT(AR6*0.1) -> 0 | AT6: =SUM(AR6:AS6) -> 0 | AU6: ='（別紙１）車両内訳表'!$F6 -> 0 | AV6: =INT(AU6*0.1) -> 0 | AW6: =SUM(AU6:AV6) -> 0 | AX6: ='（別紙１）車両内訳表'!$F6 -> 0 | AY6: =INT(AX6*0.1) -> 0 | AZ6: =SUM(AX6:AY6) -> 0 | BA6: ='（別紙１）車両内訳表'!$F6 -> 0 | BB6: =INT(BA6*0.1) -> 0 | BC6: =SUM(BA6:BB6) -> 0 | BD6: ='（別紙１）車両内訳表'!$F6 -> 0 | BE6: =INT(BD6*0.1) -> 0 | BF6: =SUM(BD6:BE6) -> 0 | BG6: ='（別紙１）車両内訳表'!$F6 -> 0 | BH6: =INT(BG6*0.1) -> 0 | BI6: =SUM(BG6:BH6) -> 0 | BJ6: ='（別紙１）車両内訳表'!$F6 -> 0 | BK6: =INT(BJ6*0.1) -> 0 | BL6: =SUM(BJ6:BK6) -> 0 | BM6: ='（別紙１）車両内訳表'!$F6 -> 0 | BN6: =INT(BM6*0.1) -> 0 | BO6: =SUM(BM6:BN6) -> 0 | BP6: ='（別紙１）車両内訳表'!$F6 -> 0 | BQ6: =INT(BP6*0.1) -> 0 | BR6: =SUM(BP6:BQ6) -> 0 | BS6: ='（別紙１）車両内訳表'!$F6 -> 0 | BT6: =INT(BS6*0.1) -> 0 | BU6: =SUM(BS6:BT6) -> 0 | BV6: ='（別紙１）車両内訳表'!$F6 -> 0 | BW6: =INT(BV6*0.1) -> 0 | BX6: =SUM(BV6:BW6) -> 0 | BY6: ='（別紙１）車両内訳表'!$F6 -> 0 | BZ6: =INT(BY6*0.1) -> 0 | CA6: =SUM(BY6:BZ6) -> 0 | CB6: ='（別紙１）車両内訳表'!$F6 -> 0 | CC6: =INT(CB6*0.1) -> 0 | CD6: =SUM(CB6:CC6) -> 0 | CE6: ='（別紙１）車両内訳表'!$F6 -> 0 | CF6: =INT(CE6*0.1) -> 0 | CG6: =SUM(CE6:CF6) -> 0 | CH6: ='（別紙１）車両内訳表'!$F6 -> 0 | CI6: =INT(CH6*0.1) -> 0 | CJ6: =SUM(CH6:CI6) -> 0 | CK6: ='（別紙１）車両内訳表'!$F6 -> 0 | CL6: =INT(CK6*0.1) -> 0 | CM6: =SUM(CK6:CL6) -> 0 | CN6: ='（別紙１）車両内訳表'!$F6 -> 0 | CO6: =INT(CN6*0.1) -> 0 | CP6: =SUM(CN6:CO6) -> 0 | CQ6: ='（別紙１）車両内訳表'!$F6 -> 0 | CR6: =INT(CQ6*0.1) -> 0 | CS6: =SUM(CQ6:CR6) -> 0 | CT6: ='（別紙１）車両内訳表'!$F6 -> 0 | CU6: =INT(CT6*0.1) -> 0 | CV6: =SUM(CT6:CU6) -> 0 | CW6: ='（別紙１）車両内訳表'!$F6 -> 0 | CX6: =INT(CW6*0.1) -> 0 | CY6: =SUM(CW6:CX6) -> 0 | CZ6: ='（別紙１）車両内訳表'!$F6 -> 0 | DA6: =INT(CZ6*0.1) -> 0 | DB6: =SUM(CZ6:DA6) -> 0 | DC6: ='（別紙１）車両内訳表'!$F6 -> 0 | DD6: =INT(DC6*0.1) -> 0 | DE6: =SUM(DC6:DD6) -> 0 | DF6: ='（別紙１）車両内訳表'!$F6 -> 0 | DG6: =INT(DF6*0.1) -> 0 | DH6: =SUM(DF6:DG6) -> 0 | DI6: ='（別紙１）車両内訳表'!$F6 -> 0 | DJ6: =INT(DI6*0.1) -> 0 | DK6: =SUM(DI6:DJ6) -> 0 | DL6: ='（別紙１）車両内訳表'!$F6 -> 0 | DM6: =INT(DL6*0.1) -> 0 | DN6: =SUM(DL6:DM6) -> 0 | DO6: ='（別紙１）車両内訳表'!$F6 -> 0 | DP6: =INT(DO6*0.1) -> 0 | DQ6: =SUM(DO6:DP6) -> 0 | DR6: ='（別紙１）車両内訳表'!$F6 -> 0 | DS6: =INT(DR6*0.1) -> 0 | DT6: =SUM(DR6:DS6) -> 0 | DU6: ='（別紙１）車両内訳表'!$F6 -> 0 | DV6: =INT(DU6*0.1) -> 0 | DW6: =SUM(DU6:DV6) -> 0 | DX6: ='（別紙１）車両内訳表'!$F6 -> 0 | DY6: =INT(DX6*0.1) -> 0 | DZ6: =SUM(DX6:DY6) -> 0 | EA6: ='（別紙１）車両内訳表'!$F6 -> 0 | EB6: =INT(EA6*0.1) -> 0 | EC6: =SUM(EA6:EB6) -> 0 | ED6: ='（別紙１）車両内訳表'!$F6 -> 0 | EE6: =INT(ED6*0.1) -> 0 | EF6: =SUM(ED6:EE6) -> 0 | EG6: ='（別紙１）車両内訳表'!$F6 -> 0 | EH6: =INT(EG6*0.1) -> 0 | EI6: =SUM(EG6:EH6) -> 0 | EJ6: ='（別紙１）車両内訳表'!$F6 -> 0 | EK6: =INT(EJ6*0.1) -> 0 | EL6: =SUM(EJ6:EK6) -> 0 | EM6: ='（別紙１）車両内訳表'!$F6 -> 0 | EN6: =INT(EM6*0.1) -> 0 | EO6: =SUM(EM6:EN6) -> 0 | EP6: ='（別紙１）車両内訳表'!$F6 -> 0 | EQ6: =INT(EP6*0.1) -> 0 | ER6: =SUM(EP6:EQ6) -> 0 | ES6: ='（別紙１）車両内訳表'!$F6 -> 0 | ET6: =INT(ES6*0.1) -> 0 | EU6: =SUM(ES6:ET6) -> 0 | EV6: ='（別紙１）車両内訳表'!$F6 -> 0 | EW6: =INT(EV6*0.1) -> 0 | EX6: =SUM(EV6:EW6) -> 0 | EY6: ='（別紙１）車両内訳表'!$F6 -> 0 | EZ6: =INT(EY6*0.1) -> 0 | FA6: =SUM(EY6:EZ6) -> 0 | FB6: ='（別紙１）車両内訳表'!$F6 -> 0 | FC6: =INT(FB6*0.1) -> 0 | FD6: =SUM(FB6:FC6) -> 0 | FE6: ='（別紙１）車両内訳表'!$F6 -> 0 | FF6: =INT(FE6*0.1) -> 0 | FG6: =SUM(FE6:FF6) -> 0 | FH6: ='（別紙１）車両内訳表'!$F6 -> 0 | FI6: =INT(FH6*0.1) -> 0 | FJ6: =SUM(FH6:FI6) -> 0 | FK6: ='（別紙１）車両内訳表'!$F6 -> 0 | FL6: =INT(FK6*0.1) -> 0 | FM6: =SUM(FK6:FL6) -> 0 | FN6: ='（別紙１）車両内訳表'!$F6 -> 0 | FO6: =INT(FN6*0.1) -> 0 | FP6: =SUM(FN6:FO6) -> 0 | FQ6: ='（別紙１）車両内訳表'!$F6 -> 0 | FR6: =INT(FQ6*0.1) -> 0 | FS6: =SUM(FQ6:FR6) -> 0 | FT6: ='（別紙１）車両内訳表'!$F6 -> 0 | FU6: =INT(FT6*0.1) -> 0 | FV6: =SUM(FT6:FU6) -> 0 | FW6: ='（別紙１）車両内訳表'!$F6 -> 0 | FX6: =INT(FW6*0.1) -> 0 | FY6: =SUM(FW6:FX6) -> 0
A7: 4 | B7: 教育支援課 （岡山市教育センター） | C7: 46478 | D7: =EDATE(C7,59)-1 -> 48273 | E7: ='（別紙１）車両内訳表'!$F7 -> 0 | F7: =INT(E7*0.1) -> 0 | G7: =SUM(E7:F7) -> 0 | H7: ='（別紙１）車両内訳表'!$F7 -> 0 | I7: =INT(H7*0.1) -> 0 | J7: =SUM(H7:I7) -> 0 | K7: ='（別紙１）車両内訳表'!$F7 -> 0 | L7: =INT(K7*0.1) -> 0 | M7: =SUM(K7:L7) -> 0 | N7: ='（別紙１）車両内訳表'!$F7 -> 0 | O7: =INT(N7*0.1) -> 0 | P7: =SUM(N7:O7) -> 0 | Q7: ='（別紙１）車両内訳表'!$F7 -> 0 | R7: =INT(Q7*0.1) -> 0 | S7: =SUM(Q7:R7) -> 0 | T7: ='（別紙１）車両内訳表'!$F7 -> 0 | U7: =INT(T7*0.1) -> 0 | V7: =SUM(T7:U7) -> 0 | W7: ='（別紙１）車両内訳表'!$F7 -> 0 | X7: =INT(W7*0.1) -> 0 | Y7: =SUM(W7:X7) -> 0 | Z7: ='（別紙１）車両内訳表'!$F7 -> 0 | AA7: =INT(Z7*0.1) -> 0 | AB7: =SUM(Z7:AA7) -> 0 | AC7: ='（別紙１）車両内訳表'!$F7 -> 0 | AD7: =INT(AC7*0.1) -> 0 | AE7: =SUM(AC7:AD7) -> 0 | AF7: ='（別紙１）車両内訳表'!$F7 -> 0 | AG7: =INT(AF7*0.1) -> 0 | AH7: =SUM(AF7:AG7) -> 0 | AI7: ='（別紙１）車両内訳表'!$F7 -> 0 | AJ7: =INT(AI7*0.1) -> 0 | AK7: =SUM(AI7:AJ7) -> 0 | AL7: ='（別紙１）車両内訳表'!$F7 -> 0 | AM7: =INT(AL7*0.1) -> 0 | AN7: =SUM(AL7:AM7) -> 0 | AO7: ='（別紙１）車両内訳表'!$F7 -> 0 | AP7: =INT(AO7*0.1) -> 0 | AQ7: =SUM(AO7:AP7) -> 0 | AR7: ='（別紙１）車両内訳表'!$F7 -> 0 | AS7: =INT(AR7*0.1) -> 0 | AT7: =SUM(AR7:AS7) -> 0 | AU7: ='（別紙１）車両内訳表'!$F7 -> 0 | AV7: =INT(AU7*0.1) -> 0 | AW7: =SUM(AU7:AV7) -> 0 | AX7: ='（別紙１）車両内訳表'!$F7 -> 0 | AY7: =INT(AX7*0.1) -> 0 | AZ7: =SUM(AX7:AY7) -> 0 | BA7: ='（別紙１）車両内訳表'!$F7 -> 0 | BB7: =INT(BA7*0.1) -> 0 | BC7: =SUM(BA7:BB7) -> 0 | BD7: ='（別紙１）車両内訳表'!$F7 -> 0 | BE7: =INT(BD7*0.1) -> 0 | BF7: =SUM(BD7:BE7) -> 0 | BG7: ='（別紙１）車両内訳表'!$F7 -> 0 | BH7: =INT(BG7*0.1) -> 0 | BI7: =SUM(BG7:BH7) -> 0 | BJ7: ='（別紙１）車両内訳表'!$F7 -> 0 | BK7: =INT(BJ7*0.1) -> 0 | BL7: =SUM(BJ7:BK7) -> 0 | BM7: ='（別紙１）車両内訳表'!$F7 -> 0 | BN7: =INT(BM7*0.1) -> 0 | BO7: =SUM(BM7:BN7) -> 0 | BP7: ='（別紙１）車両内訳表'!$F7 -> 0 | BQ7: =INT(BP7*0.1) -> 0 | BR7: =SUM(BP7:BQ7) -> 0 | BS7: ='（別紙１）車両内訳表'!$F7 -> 0 | BT7: =INT(BS7*0.1) -> 0 | BU7: =SUM(BS7:BT7) -> 0 | BV7: ='（別紙１）車両内訳表'!$F7 -> 0 | BW7: =INT(BV7*0.1) -> 0 | BX7: =SUM(BV7:BW7) -> 0 | BY7: ='（別紙１）車両内訳表'!$F7 -> 0 | BZ7: =INT(BY7*0.1) -> 0 | CA7: =SUM(BY7:BZ7) -> 0 | CB7: ='（別紙１）車両内訳表'!$F7 -> 0 | CC7: =INT(CB7*0.1) -> 0 | CD7: =SUM(CB7:CC7) -> 0 | CE7: ='（別紙１）車両内訳表'!$F7 -> 0 | CF7: =INT(CE7*0.1) -> 0 | CG7: =SUM(CE7:CF7) -> 0 | CH7: ='（別紙１）車両内訳表'!$F7 -> 0 | CI7: =INT(CH7*0.1) -> 0 | CJ7: =SUM(CH7:CI7) -> 0 | CK7: ='（別紙１）車両内訳表'!$F7 -> 0 | CL7: =INT(CK7*0.1) -> 0 | CM7: =SUM(CK7:CL7) -> 0 | CN7: ='（別紙１）車両内訳表'!$F7 -> 0 | CO7: =INT(CN7*0.1) -> 0 | CP7: =SUM(CN7:CO7) -> 0 | CQ7: ='（別紙１）車両内訳表'!$F7 -> 0 | CR7: =INT(CQ7*0.1) -> 0 | CS7: =SUM(CQ7:CR7) -> 0 | CT7: ='（別紙１）車両内訳表'!$F7 -> 0 | CU7: =INT(CT7*0.1) -> 0 | CV7: =SUM(CT7:CU7) -> 0 | CW7: ='（別紙１）車両内訳表'!$F7 -> 0 | CX7: =INT(CW7*0.1) -> 0 | CY7: =SUM(CW7:CX7) -> 0 | CZ7: ='（別紙１）車両内訳表'!$F7 -> 0 | DA7: =INT(CZ7*0.1) -> 0 | DB7: =SUM(CZ7:DA7) -> 0 | DC7: ='（別紙１）車両内訳表'!$F7 -> 0 | DD7: =INT(DC7*0.1) -> 0 | DE7: =SUM(DC7:DD7) -> 0 | DF7: ='（別紙１）車両内訳表'!$F7 -> 0 | DG7: =INT(DF7*0.1) -> 0 | DH7: =SUM(DF7:DG7) -> 0 | DI7: ='（別紙１）車両内訳表'!$F7 -> 0 | DJ7: =INT(DI7*0.1) -> 0 | DK7: =SUM(DI7:DJ7) -> 0 | DL7: ='（別紙１）車両内訳表'!$F7 -> 0 | DM7: =INT(DL7*0.1) -> 0 | DN7: =SUM(DL7:DM7) -> 0 | DO7: ='（別紙１）車両内訳表'!$F7 -> 0 | DP7: =INT(DO7*0.1) -> 0 | DQ7: =SUM(DO7:DP7) -> 0 | DR7: ='（別紙１）車両内訳表'!$F7 -> 0 | DS7: =INT(DR7*0.1) -> 0 | DT7: =SUM(DR7:DS7) -> 0 | DU7: ='（別紙１）車両内訳表'!$F7 -> 0 | DV7: =INT(DU7*0.1) -> 0 | DW7: =SUM(DU7:DV7) -> 0 | DX7: ='（別紙１）車両内訳表'!$F7 -> 0 | DY7: =INT(DX7*0.1) -> 0 | DZ7: =SUM(DX7:DY7) -> 0 | EA7: ='（別紙１）車両内訳表'!$F7 -> 0 | EB7: =INT(EA7*0.1) -> 0 | EC7: =SUM(EA7:EB7) -> 0 | ED7: ='（別紙１）車両内訳表'!$F7 -> 0 | EE7: =INT(ED7*0.1) -> 0 | EF7: =SUM(ED7:EE7) -> 0 | EG7: ='（別紙１）車両内訳表'!$F7 -> 0 | EH7: =INT(EG7*0.1) -> 0 | EI7: =SUM(EG7:EH7) -> 0 | EJ7: ='（別紙１）車両内訳表'!$F7 -> 0 | EK7: =INT(EJ7*0.1) -> 0 | EL7: =SUM(EJ7:EK7) -> 0 | EM7: ='（別紙１）車両内訳表'!$F7 -> 0 | EN7: =INT(EM7*0.1) -> 0 | EO7: =SUM(EM7:EN7) -> 0 | EP7: ='（別紙１）車両内訳表'!$F7 -> 0 | EQ7: =INT(EP7*0.1) -> 0 | ER7: =SUM(EP7:EQ7) -> 0 | ES7: ='（別紙１）車両内訳表'!$F7 -> 0 | ET7: =INT(ES7*0.1) -> 0 | EU7: =SUM(ES7:ET7) -> 0 | EV7: ='（別紙１）車両内訳表'!$F7 -> 0 | EW7: =INT(EV7*0.1) -> 0 | EX7: =SUM(EV7:EW7) -> 0 | EY7: ='（別紙１）車両内訳表'!$F7 -> 0 | EZ7: =INT(EY7*0.1) -> 0 | FA7: =SUM(EY7:EZ7) -> 0 | FB7: ='（別紙１）車両内訳表'!$F7 -> 0 | FC7: =INT(FB7*0.1) -> 0 | FD7: =SUM(FB7:FC7) -> 0 | FE7: ='（別紙１）車両内訳表'!$F7 -> 0 | FF7: =INT(FE7*0.1) -> 0 | FG7: =SUM(FE7:FF7) -> 0 | FH7: ='（別紙１）車両内訳表'!$F7 -> 0 | FI7: =INT(FH7*0.1) -> 0 | FJ7: =SUM(FH7:FI7) -> 0 | FK7: ='（別紙１）車両内訳表'!$F7 -> 0 | FL7: =INT(FK7*0.1) -> 0 | FM7: =SUM(FK7:FL7) -> 0 | FN7: ='（別紙１）車両内訳表'!$F7 -> 0 | FO7: =INT(FN7*0.1) -> 0 | FP7: =SUM(FN7:FO7) -> 0 | FQ7: ='（別紙１）車両内訳表'!$F7 -> 0 | FR7: =INT(FQ7*0.1) -> 0 | FS7: =SUM(FQ7:FR7) -> 0 | FT7: ='（別紙１）車両内訳表'!$F7 -> 0 | FU7: =INT(FT7*0.1) -> 0 | FV7: =SUM(FT7:FU7) -> 0 | FW7: ='（別紙１）車両内訳表'!$F7 -> 0 | FX7: =INT(FW7*0.1) -> 0 | FY7: =SUM(FW7:FX7) -> 0
A8: 5 | B8: 教育支援課 （岡山市教育センター） | C8: 46478 | D8: =EDATE(C8,59)-1 -> 48273 | E8: ='（別紙１）車両内訳表'!$F8 -> 0 | F8: =INT(E8*0.1) -> 0 | G8: =SUM(E8:F8) -> 0 | H8: ='（別紙１）車両内訳表'!$F8 -> 0 | I8: =INT(H8*0.1) -> 0 | J8: =SUM(H8:I8) -> 0 | K8: ='（別紙１）車両内訳表'!$F8 -> 0 | L8: =INT(K8*0.1) -> 0 | M8: =SUM(K8:L8) -> 0 | N8: ='（別紙１）車両内訳表'!$F8 -> 0 | O8: =INT(N8*0.1) -> 0 | P8: =SUM(N8:O8) -> 0 | Q8: ='（別紙１）車両内訳表'!$F8 -> 0 | R8: =INT(Q8*0.1) -> 0 | S8: =SUM(Q8:R8) -> 0 | T8: ='（別紙１）車両内訳表'!$F8 -> 0 | U8: =INT(T8*0.1) -> 0 | V8: =SUM(T8:U8) -> 0 | W8: ='（別紙１）車両内訳表'!$F8 -> 0 | X8: =INT(W8*0.1) -> 0 | Y8: =SUM(W8:X8) -> 0 | Z8: ='（別紙１）車両内訳表'!$F8 -> 0 | AA8: =INT(Z8*0.1) -> 0 | AB8: =SUM(Z8:AA8) -> 0 | AC8: ='（別紙１）車両内訳表'!$F8 -> 0 | AD8: =INT(AC8*0.1) -> 0 | AE8: =SUM(AC8:AD8) -> 0 | AF8: ='（別紙１）車両内訳表'!$F8 -> 0 | AG8: =INT(AF8*0.1) -> 0 | AH8: =SUM(AF8:AG8) -> 0 | AI8: ='（別紙１）車両内訳表'!$F8 -> 0 | AJ8: =INT(AI8*0.1) -> 0 | AK8: =SUM(AI8:AJ8) -> 0 | AL8: ='（別紙１）車両内訳表'!$F8 -> 0 | AM8: =INT(AL8*0.1) -> 0 | AN8: =SUM(AL8:AM8) -> 0 | AO8: ='（別紙１）車両内訳表'!$F8 -> 0 | AP8: =INT(AO8*0.1) -> 0 | AQ8: =SUM(AO8:AP8) -> 0 | AR8: ='（別紙１）車両内訳表'!$F8 -> 0 | AS8: =INT(AR8*0.1) -> 0 | AT8: =SUM(AR8:AS8) -> 0 | AU8: ='（別紙１）車両内訳表'!$F8 -> 0 | AV8: =INT(AU8*0.1) -> 0 | AW8: =SUM(AU8:AV8) -> 0 | AX8: ='（別紙１）車両内訳表'!$F8 -> 0 | AY8: =INT(AX8*0.1) -> 0 | AZ8: =SUM(AX8:AY8) -> 0 | BA8: ='（別紙１）車両内訳表'!$F8 -> 0 | BB8: =INT(BA8*0.1) -> 0 | BC8: =SUM(BA8:BB8) -> 0 | BD8: ='（別紙１）車両内訳表'!$F8 -> 0 | BE8: =INT(BD8*0.1) -> 0 | BF8: =SUM(BD8:BE8) -> 0 | BG8: ='（別紙１）車両内訳表'!$F8 -> 0 | BH8: =INT(BG8*0.1) -> 0 | BI8: =SUM(BG8:BH8) -> 0 | BJ8: ='（別紙１）車両内訳表'!$F8 -> 0 | BK8: =INT(BJ8*0.1) -> 0 | BL8: =SUM(BJ8:BK8) -> 0 | BM8: ='（別紙１）車両内訳表'!$F8 -> 0 | BN8: =INT(BM8*0.1) -> 0 | BO8: =SUM(BM8:BN8) -> 0 | BP8: ='（別紙１）車両内訳表'!$F8 -> 0 | BQ8: =INT(BP8*0.1) -> 0 | BR8: =SUM(BP8:BQ8) -> 0 | BS8: ='（別紙１）車両内訳表'!$F8 -> 0 | BT8: =INT(BS8*0.1) -> 0 | BU8: =SUM(BS8:BT8) -> 0 | BV8: ='（別紙１）車両内訳表'!$F8 -> 0 | BW8: =INT(BV8*0.1) -> 0 | BX8: =SUM(BV8:BW8) -> 0 | BY8: ='（別紙１）車両内訳表'!$F8 -> 0 | BZ8: =INT(BY8*0.1) -> 0 | CA8: =SUM(BY8:BZ8) -> 0 | CB8: ='（別紙１）車両内訳表'!$F8 -> 0 | CC8: =INT(CB8*0.1) -> 0 | CD8: =SUM(CB8:CC8) -> 0 | CE8: ='（別紙１）車両内訳表'!$F8 -> 0 | CF8: =INT(CE8*0.1) -> 0 | CG8: =SUM(CE8:CF8) -> 0 | CH8: ='（別紙１）車両内訳表'!$F8 -> 0 | CI8: =INT(CH8*0.1) -> 0 | CJ8: =SUM(CH8:CI8) -> 0 | CK8: ='（別紙１）車両内訳表'!$F8 -> 0 | CL8: =INT(CK8*0.1) -> 0 | CM8: =SUM(CK8:CL8) -> 0 | CN8: ='（別紙１）車両内訳表'!$F8 -> 0 | CO8: =INT(CN8*0.1) -> 0 | CP8: =SUM(CN8:CO8) -> 0 | CQ8: ='（別紙１）車両内訳表'!$F8 -> 0 | CR8: =INT(CQ8*0.1) -> 0 | CS8: =SUM(CQ8:CR8) -> 0 | CT8: ='（別紙１）車両内訳表'!$F8 -> 0 | CU8: =INT(CT8*0.1) -> 0 | CV8: =SUM(CT8:CU8) -> 0 | CW8: ='（別紙１）車両内訳表'!$F8 -> 0 | CX8: =INT(CW8*0.1) -> 0 | CY8: =SUM(CW8:CX8) -> 0 | CZ8: ='（別紙１）車両内訳表'!$F8 -> 0 | DA8: =INT(CZ8*0.1) -> 0 | DB8: =SUM(CZ8:DA8) -> 0 | DC8: ='（別紙１）車両内訳表'!$F8 -> 0 | DD8: =INT(DC8*0.1) -> 0 | DE8: =SUM(DC8:DD8) -> 0 | DF8: ='（別紙１）車両内訳表'!$F8 -> 0 | DG8: =INT(DF8*0.1) -> 0 | DH8: =SUM(DF8:DG8) -> 0 | DI8: ='（別紙１）車両内訳表'!$F8 -> 0 | DJ8: =INT(DI8*0.1) -> 0 | DK8: =SUM(DI8:DJ8) -> 0 | DL8: ='（別紙１）車両内訳表'!$F8 -> 0 | DM8: =INT(DL8*0.1) -> 0 | DN8: =SUM(DL8:DM8) -> 0 | DO8: ='（別紙１）車両内訳表'!$F8 -> 0 | DP8: =INT(DO8*0.1) -> 0 | DQ8: =SUM(DO8:DP8) -> 0 | DR8: ='（別紙１）車両内訳表'!$F8 -> 0 | DS8: =INT(DR8*0.1) -> 0 | DT8: =SUM(DR8:DS8) -> 0 | DU8: ='（別紙１）車両内訳表'!$F8 -> 0 | DV8: =INT(DU8*0.1) -> 0 | DW8: =SUM(DU8:DV8) -> 0 | DX8: ='（別紙１）車両内訳表'!$F8 -> 0 | DY8: =INT(DX8*0.1) -> 0 | DZ8: =SUM(DX8:DY8) -> 0 | EA8: ='（別紙１）車両内訳表'!$F8 -> 0 | EB8: =INT(EA8*0.1) -> 0 | EC8: =SUM(EA8:EB8) -> 0 | ED8: ='（別紙１）車両内訳表'!$F8 -> 0 | EE8: =INT(ED8*0.1) -> 0 | EF8: =SUM(ED8:EE8) -> 0 | EG8: ='（別紙１）車両内訳表'!$F8 -> 0 | EH8: =INT(EG8*0.1) -> 0 | EI8: =SUM(EG8:EH8) -> 0 | EJ8: ='（別紙１）車両内訳表'!$F8 -> 0 | EK8: =INT(EJ8*0.1) -> 0 | EL8: =SUM(EJ8:EK8) -> 0 | EM8: ='（別紙１）車両内訳表'!$F8 -> 0 | EN8: =INT(EM8*0.1) -> 0 | EO8: =SUM(EM8:EN8) -> 0 | EP8: ='（別紙１）車両内訳表'!$F8 -> 0 | EQ8: =INT(EP8*0.1) -> 0 | ER8: =SUM(EP8:EQ8) -> 0 | ES8: ='（別紙１）車両内訳表'!$F8 -> 0 | ET8: =INT(ES8*0.1) -> 0 | EU8: =SUM(ES8:ET8) -> 0 | EV8: ='（別紙１）車両内訳表'!$F8 -> 0 | EW8: =INT(EV8*0.1) -> 0 | EX8: =SUM(EV8:EW8) -> 0 | EY8: ='（別紙１）車両内訳表'!$F8 -> 0 | EZ8: =INT(EY8*0.1) -> 0 | FA8: =SUM(EY8:EZ8) -> 0 | FB8: ='（別紙１）車両内訳表'!$F8 -> 0 | FC8: =INT(FB8*0.1) -> 0 | FD8: =SUM(FB8:FC8) -> 0 | FE8: ='（別紙１）車両内訳表'!$F8 -> 0 | FF8: =INT(FE8*0.1) -> 0 | FG8: =SUM(FE8:FF8) -> 0 | FH8: ='（別紙１）車両内訳表'!$F8 -> 0 | FI8: =INT(FH8*0.1) -> 0 | FJ8: =SUM(FH8:FI8) -> 0 | FK8: ='（別紙１）車両内訳表'!$F8 -> 0 | FL8: =INT(FK8*0.1) -> 0 | FM8: =SUM(FK8:FL8) -> 0 | FN8: ='（別紙１）車両内訳表'!$F8 -> 0 | FO8: =INT(FN8*0.1) -> 0 | FP8: =SUM(FN8:FO8) -> 0 | FQ8: ='（別紙１）車両内訳表'!$F8 -> 0 | FR8: =INT(FQ8*0.1) -> 0 | FS8: =SUM(FQ8:FR8) -> 0 | FT8: ='（別紙１）車両内訳表'!$F8 -> 0 | FU8: =INT(FT8*0.1) -> 0 | FV8: =SUM(FT8:FU8) -> 0 | FW8: ='（別紙１）車両内訳表'!$F8 -> 0 | FX8: =INT(FW8*0.1) -> 0 | FY8: =SUM(FW8:FX8) -> 0
A9: 6 | B9: 教育支援課 （岡山市教育センター） | C9: 46478 | D9: =EDATE(C9,59)-1 -> 48273 | E9: ='（別紙１）車両内訳表'!$F9 -> 0 | F9: =INT(E9*0.1) -> 0 | G9: =SUM(E9:F9) -> 0 | H9: ='（別紙１）車両内訳表'!$F9 -> 0 | I9: =INT(H9*0.1) -> 0 | J9: =SUM(H9:I9) -> 0 | K9: ='（別紙１）車両内訳表'!$F9 -> 0 | L9: =INT(K9*0.1) -> 0 | M9: =SUM(K9:L9) -> 0 | N9: ='（別紙１）車両内訳表'!$F9 -> 0 | O9: =INT(N9*0.1) -> 0 | P9: =SUM(N9:O9) -> 0 | Q9: ='（別紙１）車両内訳表'!$F9 -> 0 | R9: =INT(Q9*0.1) -> 0 | S9: =SUM(Q9:R9) -> 0 | T9: ='（別紙１）車両内訳表'!$F9 -> 0 | U9: =INT(T9*0.1) -> 0 | V9: =SUM(T9:U9) -> 0 | W9: ='（別紙１）車両内訳表'!$F9 -> 0 | X9: =INT(W9*0.1) -> 0 | Y9: =SUM(W9:X9) -> 0 | Z9: ='（別紙１）車両内訳表'!$F9 -> 0 | AA9: =INT(Z9*0.1) -> 0 | AB9: =SUM(Z9:AA9) -> 0 | AC9: ='（別紙１）車両内訳表'!$F9 -> 0 | AD9: =INT(AC9*0.1) -> 0 | AE9: =SUM(AC9:AD9) -> 0 | AF9: ='（別紙１）車両内訳表'!$F9 -> 0 | AG9: =INT(AF9*0.1) -> 0 | AH9: =SUM(AF9:AG9) -> 0 | AI9: ='（別紙１）車両内訳表'!$F9 -> 0 | AJ9: =INT(AI9*0.1) -> 0 | AK9: =SUM(AI9:AJ9) -> 0 | AL9: ='（別紙１）車両内訳表'!$F9 -> 0 | AM9: =INT(AL9*0.1) -> 0 | AN9: =SUM(AL9:AM9) -> 0 | AO9: ='（別紙１）車両内訳表'!$F9 -> 0 | AP9: =INT(AO9*0.1) -> 0 | AQ9: =SUM(AO9:AP9) -> 0 | AR9: ='（別紙１）車両内訳表'!$F9 -> 0 | AS9: =INT(AR9*0.1) -> 0 | AT9: =SUM(AR9:AS9) -> 0 | AU9: ='（別紙１）車両内訳表'!$F9 -> 0 | AV9: =INT(AU9*0.1) -> 0 | AW9: =SUM(AU9:AV9) -> 0 | AX9: ='（別紙１）車両内訳表'!$F9 -> 0 | AY9: =INT(AX9*0.1) -> 0 | AZ9: =SUM(AX9:AY9) -> 0 | BA9: ='（別紙１）車両内訳表'!$F9 -> 0 | BB9: =INT(BA9*0.1) -> 0 | BC9: =SUM(BA9:BB9) -> 0 | BD9: ='（別紙１）車両内訳表'!$F9 -> 0 | BE9: =INT(BD9*0.1) -> 0 | BF9: =SUM(BD9:BE9) -> 0 | BG9: ='（別紙１）車両内訳表'!$F9 -> 0 | BH9: =INT(BG9*0.1) -> 0 | BI9: =SUM(BG9:BH9) -> 0 | BJ9: ='（別紙１）車両内訳表'!$F9 -> 0 | BK9: =INT(BJ9*0.1) -> 0 | BL9: =SUM(BJ9:BK9) -> 0 | BM9: ='（別紙１）車両内訳表'!$F9 -> 0 | BN9: =INT(BM9*0.1) -> 0 | BO9: =SUM(BM9:BN9) -> 0 | BP9: ='（別紙１）車両内訳表'!$F9 -> 0 | BQ9: =INT(BP9*0.1) -> 0 | BR9: =SUM(BP9:BQ9) -> 0 | BS9: ='（別紙１）車両内訳表'!$F9 -> 0 | BT9: =INT(BS9*0.1) -> 0 | BU9: =SUM(BS9:BT9) -> 0 | BV9: ='（別紙１）車両内訳表'!$F9 -> 0 | BW9: =INT(BV9*0.1) -> 0 | BX9: =SUM(BV9:BW9) -> 0 | BY9: ='（別紙１）車両内訳表'!$F9 -> 0 | BZ9: =INT(BY9*0.1) -> 0 | CA9: =SUM(BY9:BZ9) -> 0 | CB9: ='（別紙１）車両内訳表'!$F9 -> 0 | CC9: =INT(CB9*0.1) -> 0 | CD9: =SUM(CB9:CC9) -> 0 | CE9: ='（別紙１）車両内訳表'!$F9 -> 0 | CF9: =INT(CE9*0.1) -> 0 | CG9: =SUM(CE9:CF9) -> 0 | CH9: ='（別紙１）車両内訳表'!$F9 -> 0 | CI9: =INT(CH9*0.1) -> 0 | CJ9: =SUM(CH9:CI9) -> 0 | CK9: ='（別紙１）車両内訳表'!$F9 -> 0 | CL9: =INT(CK9*0.1) -> 0 | CM9: =SUM(CK9:CL9) -> 0 | CN9: ='（別紙１）車両内訳表'!$F9 -> 0 | CO9: =INT(CN9*0.1) -> 0 | CP9: =SUM(CN9:CO9) -> 0 | CQ9: ='（別紙１）車両内訳表'!$F9 -> 0 | CR9: =INT(CQ9*0.1) -> 0 | CS9: =SUM(CQ9:CR9) -> 0 | CT9: ='（別紙１）車両内訳表'!$F9 -> 0 | CU9: =INT(CT9*0.1) -> 0 | CV9: =SUM(CT9:CU9) -> 0 | CW9: ='（別紙１）車両内訳表'!$F9 -> 0 | CX9: =INT(CW9*0.1) -> 0 | CY9: =SUM(CW9:CX9) -> 0 | CZ9: ='（別紙１）車両内訳表'!$F9 -> 0 | DA9: =INT(CZ9*0.1) -> 0 | DB9: =SUM(CZ9:DA9) -> 0 | DC9: ='（別紙１）車両内訳表'!$F9 -> 0 | DD9: =INT(DC9*0.1) -> 0 | DE9: =SUM(DC9:DD9) -> 0 | DF9: ='（別紙１）車両内訳表'!$F9 -> 0 | DG9: =INT(DF9*0.1) -> 0 | DH9: =SUM(DF9:DG9) -> 0 | DI9: ='（別紙１）車両内訳表'!$F9 -> 0 | DJ9: =INT(DI9*0.1) -> 0 | DK9: =SUM(DI9:DJ9) -> 0 | DL9: ='（別紙１）車両内訳表'!$F9 -> 0 | DM9: =INT(DL9*0.1) -> 0 | DN9: =SUM(DL9:DM9) -> 0 | DO9: ='（別紙１）車両内訳表'!$F9 -> 0 | DP9: =INT(DO9*0.1) -> 0 | DQ9: =SUM(DO9:DP9) -> 0 | DR9: ='（別紙１）車両内訳表'!$F9 -> 0 | DS9: =INT(DR9*0.1) -> 0 | DT9: =SUM(DR9:DS9) -> 0 | DU9: ='（別紙１）車両内訳表'!$F9 -> 0 | DV9: =INT(DU9*0.1) -> 0 | DW9: =SUM(DU9:DV9) -> 0 | DX9: ='（別紙１）車両内訳表'!$F9 -> 0 | DY9: =INT(DX9*0.1) -> 0 | DZ9: =SUM(DX9:DY9) -> 0 | EA9: ='（別紙１）車両内訳表'!$F9 -> 0 | EB9: =INT(EA9*0.1) -> 0 | EC9: =SUM(EA9:EB9) -> 0 | ED9: ='（別紙１）車両内訳表'!$F9 -> 0 | EE9: =INT(ED9*0.1) -> 0 | EF9: =SUM(ED9:EE9) -> 0 | EG9: ='（別紙１）車両内訳表'!$F9 -> 0 | EH9: =INT(EG9*0.1) -> 0 | EI9: =SUM(EG9:EH9) -> 0 | EJ9: ='（別紙１）車両内訳表'!$F9 -> 0 | EK9: =INT(EJ9*0.1) -> 0 | EL9: =SUM(EJ9:EK9) -> 0 | EM9: ='（別紙１）車両内訳表'!$F9 -> 0 | EN9: =INT(EM9*0.1) -> 0 | EO9: =SUM(EM9:EN9) -> 0 | EP9: ='（別紙１）車両内訳表'!$F9 -> 0 | EQ9: =INT(EP9*0.1) -> 0 | ER9: =SUM(EP9:EQ9) -> 0 | ES9: ='（別紙１）車両内訳表'!$F9 -> 0 | ET9: =INT(ES9*0.1) -> 0 | EU9: =SUM(ES9:ET9) -> 0 | EV9: ='（別紙１）車両内訳表'!$F9 -> 0 | EW9: =INT(EV9*0.1) -> 0 | EX9: =SUM(EV9:EW9) -> 0 | EY9: ='（別紙１）車両内訳表'!$F9 -> 0 | EZ9: =INT(EY9*0.1) -> 0 | FA9: =SUM(EY9:EZ9) -> 0 | FB9: ='（別紙１）車両内訳表'!$F9 -> 0 | FC9: =INT(FB9*0.1) -> 0 | FD9: =SUM(FB9:FC9) -> 0 | FE9: ='（別紙１）車両内訳表'!$F9 -> 0 | FF9: =INT(FE9*0.1) -> 0 | FG9: =SUM(FE9:FF9) -> 0 | FH9: ='（別紙１）車両内訳表'!$F9 -> 0 | FI9: =INT(FH9*0.1) -> 0 | FJ9: =SUM(FH9:FI9) -> 0 | FK9: ='（別紙１）車両内訳表'!$F9 -> 0 | FL9: =INT(FK9*0.1) -> 0 | FM9: =SUM(FK9:FL9) -> 0 | FN9: ='（別紙１）車両内訳表'!$F9 -> 0 | FO9: =INT(FN9*0.1) -> 0 | FP9: =SUM(FN9:FO9) -> 0 | FQ9: ='（別紙１）車両内訳表'!$F9 -> 0 | FR9: =INT(FQ9*0.1) -> 0 | FS9: =SUM(FQ9:FR9) -> 0 | FT9: ='（別紙１）車両内訳表'!$F9 -> 0 | FU9: =INT(FT9*0.1) -> 0 | FV9: =SUM(FT9:FU9) -> 0 | FW9: ='（別紙１）車両内訳表'!$F9 -> 0 | FX9: =INT(FW9*0.1) -> 0 | FY9: =SUM(FW9:FX9) -> 0
A10: 7 | B10: 教育支援課 （岡山市教育センター） | C10: 46478 | D10: =EDATE(C10,59)-1 -> 48273 | E10: ='（別紙１）車両内訳表'!$F10 -> 0 | F10: =INT(E10*0.1) -> 0 | G10: =SUM(E10:F10) -> 0 | H10: ='（別紙１）車両内訳表'!$F10 -> 0 | I10: =INT(H10*0.1) -> 0 | J10: =SUM(H10:I10) -> 0 | K10: ='（別紙１）車両内訳表'!$F10 -> 0 | L10: =INT(K10*0.1) -> 0 | M10: =SUM(K10:L10) -> 0 | N10: ='（別紙１）車両内訳表'!$F10 -> 0 | O10: =INT(N10*0.1) -> 0 | P10: =SUM(N10:O10) -> 0 | Q10: ='（別紙１）車両内訳表'!$F10 -> 0 | R10: =INT(Q10*0.1) -> 0 | S10: =SUM(Q10:R10) -> 0 | T10: ='（別紙１）車両内訳表'!$F10 -> 0 | U10: =INT(T10*0.1) -> 0 | V10: =SUM(T10:U10) -> 0 | W10: ='（別紙１）車両内訳表'!$F10 -> 0 | X10: =INT(W10*0.1) -> 0 | Y10: =SUM(W10:X10) -> 0 | Z10: ='（別紙１）車両内訳表'!$F10 -> 0 | AA10: =INT(Z10*0.1) -> 0 | AB10: =SUM(Z10:AA10) -> 0 | AC10: ='（別紙１）車両内訳表'!$F10 -> 0 | AD10: =INT(AC10*0.1) -> 0 | AE10: =SUM(AC10:AD10) -> 0 | AF10: ='（別紙１）車両内訳表'!$F10 -> 0 | AG10: =INT(AF10*0.1) -> 0 | AH10: =SUM(AF10:AG10) -> 0 | AI10: ='（別紙１）車両内訳表'!$F10 -> 0 | AJ10: =INT(AI10*0.1) -> 0 | AK10: =SUM(AI10:AJ10) -> 0 | AL10: ='（別紙１）車両内訳表'!$F10 -> 0 | AM10: =INT(AL10*0.1) -> 0 | AN10: =SUM(AL10:AM10) -> 0 | AO10: ='（別紙１）車両内訳表'!$F10 -> 0 | AP10: =INT(AO10*0.1) -> 0 | AQ10: =SUM(AO10:AP10) -> 0 | AR10: ='（別紙１）車両内訳表'!$F10 -> 0 | AS10: =INT(AR10*0.1) -> 0 | AT10: =SUM(AR10:AS10) -> 0 | AU10: ='（別紙１）車両内訳表'!$F10 -> 0 | AV10: =INT(AU10*0.1) -> 0 | AW10: =SUM(AU10:AV10) -> 0 | AX10: ='（別紙１）車両内訳表'!$F10 -> 0 | AY10: =INT(AX10*0.1) -> 0 | AZ10: =SUM(AX10:AY10) -> 0 | BA10: ='（別紙１）車両内訳表'!$F10 -> 0 | BB10: =INT(BA10*0.1) -> 0 | BC10: =SUM(BA10:BB10) -> 0 | BD10: ='（別紙１）車両内訳表'!$F10 -> 0 | BE10: =INT(BD10*0.1) -> 0 | BF10: =SUM(BD10:BE10) -> 0 | BG10: ='（別紙１）車両内訳表'!$F10 -> 0 | BH10: =INT(BG10*0.1) -> 0 | BI10: =SUM(BG10:BH10) -> 0 | BJ10: ='（別紙１）車両内訳表'!$F10 -> 0 | BK10: =INT(BJ10*0.1) -> 0 | BL10: =SUM(BJ10:BK10) -> 0 | BM10: ='（別紙１）車両内訳表'!$F10 -> 0 | BN10: =INT(BM10*0.1) -> 0 | BO10: =SUM(BM10:BN10) -> 0 | BP10: ='（別紙１）車両内訳表'!$F10 -> 0 | BQ10: =INT(BP10*0.1) -> 0 | BR10: =SUM(BP10:BQ10) -> 0 | BS10: ='（別紙１）車両内訳表'!$F10 -> 0 | BT10: =INT(BS10*0.1) -> 0 | BU10: =SUM(BS10:BT10) -> 0 | BV10: ='（別紙１）車両内訳表'!$F10 -> 0 | BW10: =INT(BV10*0.1) -> 0 | BX10: =SUM(BV10:BW10) -> 0 | BY10: ='（別紙１）車両内訳表'!$F10 -> 0 | BZ10: =INT(BY10*0.1) -> 0 | CA10: =SUM(BY10:BZ10) -> 0 | CB10: ='（別紙１）車両内訳表'!$F10 -> 0 | CC10: =INT(CB10*0.1) -> 0 | CD10: =SUM(CB10:CC10) -> 0 | CE10: ='（別紙１）車両内訳表'!$F10 -> 0 | CF10: =INT(CE10*0.1) -> 0 | CG10: =SUM(CE10:CF10) -> 0 | CH10: ='（別紙１）車両内訳表'!$F10 -> 0 | CI10: =INT(CH10*0.1) -> 0 | CJ10: =SUM(CH10:CI10) -> 0 | CK10: ='（別紙１）車両内訳表'!$F10 -> 0 | CL10: =INT(CK10*0.1) -> 0 | CM10: =SUM(CK10:CL10) -> 0 | CN10: ='（別紙１）車両内訳表'!$F10 -> 0 | CO10: =INT(CN10*0.1) -> 0 | CP10: =SUM(CN10:CO10) -> 0 | CQ10: ='（別紙１）車両内訳表'!$F10 -> 0 | CR10: =INT(CQ10*0.1) -> 0 | CS10: =SUM(CQ10:CR10) -> 0 | CT10: ='（別紙１）車両内訳表'!$F10 -> 0 | CU10: =INT(CT10*0.1) -> 0 | CV10: =SUM(CT10:CU10) -> 0 | CW10: ='（別紙１）車両内訳表'!$F10 -> 0 | CX10: =INT(CW10*0.1) -> 0 | CY10: =SUM(CW10:CX10) -> 0 | CZ10: ='（別紙１）車両内訳表'!$F10 -> 0 | DA10: =INT(CZ10*0.1) -> 0 | DB10: =SUM(CZ10:DA10) -> 0 | DC10: ='（別紙１）車両内訳表'!$F10 -> 0 | DD10: =INT(DC10*0.1) -> 0 | DE10: =SUM(DC10:DD10) -> 0 | DF10: ='（別紙１）車両内訳表'!$F10 -> 0 | DG10: =INT(DF10*0.1) -> 0 | DH10: =SUM(DF10:DG10) -> 0 | DI10: ='（別紙１）車両内訳表'!$F10 -> 0 | DJ10: =INT(DI10*0.1) -> 0 | DK10: =SUM(DI10:DJ10) -> 0 | DL10: ='（別紙１）車両内訳表'!$F10 -> 0 | DM10: =INT(DL10*0.1) -> 0 | DN10: =SUM(DL10:DM10) -> 0 | DO10: ='（別紙１）車両内訳表'!$F10 -> 0 | DP10: =INT(DO10*0.1) -> 0 | DQ10: =SUM(DO10:DP10) -> 0 | DR10: ='（別紙１）車両内訳表'!$F10 -> 0 | DS10: =INT(DR10*0.1) -> 0 | DT10: =SUM(DR10:DS10) -> 0 | DU10: ='（別紙１）車両内訳表'!$F10 -> 0 | DV10: =INT(DU10*0.1) -> 0 | DW10: =SUM(DU10:DV10) -> 0 | DX10: ='（別紙１）車両内訳表'!$F10 -> 0 | DY10: =INT(DX10*0.1) -> 0 | DZ10: =SUM(DX10:DY10) -> 0 | EA10: ='（別紙１）車両内訳表'!$F10 -> 0 | EB10: =INT(EA10*0.1) -> 0 | EC10: =SUM(EA10:EB10) -> 0 | ED10: ='（別紙１）車両内訳表'!$F10 -> 0 | EE10: =INT(ED10*0.1) -> 0 | EF10: =SUM(ED10:EE10) -> 0 | EG10: ='（別紙１）車両内訳表'!$F10 -> 0 | EH10: =INT(EG10*0.1) -> 0 | EI10: =SUM(EG10:EH10) -> 0 | EJ10: ='（別紙１）車両内訳表'!$F10 -> 0 | EK10: =INT(EJ10*0.1) -> 0 | EL10: =SUM(EJ10:EK10) -> 0 | EM10: ='（別紙１）車両内訳表'!$F10 -> 0 | EN10: =INT(EM10*0.1) -> 0 | EO10: =SUM(EM10:EN10) -> 0 | EP10: ='（別紙１）車両内訳表'!$F10 -> 0 | EQ10: =INT(EP10*0.1) -> 0 | ER10: =SUM(EP10:EQ10) -> 0 | ES10: ='（別紙１）車両内訳表'!$F10 -> 0 | ET10: =INT(ES10*0.1) -> 0 | EU10: =SUM(ES10:ET10) -> 0 | EV10: ='（別紙１）車両内訳表'!$F10 -> 0 | EW10: =INT(EV10*0.1) -> 0 | EX10: =SUM(EV10:EW10) -> 0 | EY10: ='（別紙１）車両内訳表'!$F10 -> 0 | EZ10: =INT(EY10*0.1) -> 0 | FA10: =SUM(EY10:EZ10) -> 0 | FB10: ='（別紙１）車両内訳表'!$F10 -> 0 | FC10: =INT(FB10*0.1) -> 0 | FD10: =SUM(FB10:FC10) -> 0 | FE10: ='（別紙１）車両内訳表'!$F10 -> 0 | FF10: =INT(FE10*0.1) -> 0 | FG10: =SUM(FE10:FF10) -> 0 | FH10: ='（別紙１）車両内訳表'!$F10 -> 0 | FI10: =INT(FH10*0.1) -> 0 | FJ10: =SUM(FH10:FI10) -> 0 | FK10: ='（別紙１）車両内訳表'!$F10 -> 0 | FL10: =INT(FK10*0.1) -> 0 | FM10: =SUM(FK10:FL10) -> 0 | FN10: ='（別紙１）車両内訳表'!$F10 -> 0 | FO10: =INT(FN10*0.1) -> 0 | FP10: =SUM(FN10:FO10) -> 0 | FQ10: ='（別紙１）車両内訳表'!$F10 -> 0 | FR10: =INT(FQ10*0.1) -> 0 | FS10: =SUM(FQ10:FR10) -> 0 | FT10: ='（別紙１）車両内訳表'!$F10 -> 0 | FU10: =INT(FT10*0.1) -> 0 | FV10: =SUM(FT10:FU10) -> 0 | FW10: ='（別紙１）車両内訳表'!$F10 -> 0 | FX10: =INT(FW10*0.1) -> 0 | FY10: =SUM(FW10:FX10) -> 0
A11: 8 | B11: 消防企画総務課（岡山市消防教育訓練センター総合訓練施設） | C11: 46539 | D11: =EDATE(C11,59)-1 -> 48334 | K11: ='（別紙１）車両内訳表'!$F11 -> 0 | L11: =INT(K11*0.1) -> 0 | M11: =SUM(K11:L11) -> 0 | N11: ='（別紙１）車両内訳表'!$F11 -> 0 | O11: =INT(N11*0.1) -> 0 | P11: =SUM(N11:O11) -> 0 | Q11: ='（別紙１）車両内訳表'!$F11 -> 0 | R11: =INT(Q11*0.1) -> 0 | S11: =SUM(Q11:R11) -> 0 | T11: ='（別紙１）車両内訳表'!$F11 -> 0 | U11: =INT(T11*0.1) -> 0 | V11: =SUM(T11:U11) -> 0 | W11: ='（別紙１）車両内訳表'!$F11 -> 0 | X11: =INT(W11*0.1) -> 0 | Y11: =SUM(W11:X11) -> 0 | Z11: ='（別紙１）車両内訳表'!$F11 -> 0 | AA11: =INT(Z11*0.1) -> 0 | AB11: =SUM(Z11:AA11) -> 0 | AC11: ='（別紙１）車両内訳表'!$F11 -> 0 | AD11: =INT(AC11*0.1) -> 0 | AE11: =SUM(AC11:AD11) -> 0 | AF11: ='（別紙１）車両内訳表'!$F11 -> 0 | AG11: =INT(AF11*0.1) -> 0 | AH11: =SUM(AF11:AG11) -> 0 | AI11: ='（別紙１）車両内訳表'!$F11 -> 0 | AJ11: =INT(AI11*0.1) -> 0 | AK11: =SUM(AI11:AJ11) -> 0 | AL11: ='（別紙１）車両内訳表'!$F11 -> 0 | AM11: =INT(AL11*0.1) -> 0 | AN11: =SUM(AL11:AM11) -> 0 | AO11: ='（別紙１）車両内訳表'!$F11 -> 0 | AP11: =INT(AO11*0.1) -> 0 | AQ11: =SUM(AO11:AP11) -> 0 | AR11: ='（別紙１）車両内訳表'!$F11 -> 0 | AS11: =INT(AR11*0.1) -> 0 | AT11: =SUM(AR11:AS11) -> 0 | AU11: ='（別紙１）車両内訳表'!$F11 -> 0 | AV11: =INT(AU11*0.1) -> 0 | AW11: =SUM(AU11:AV11) -> 0 | AX11: ='（別紙１）車両内訳表'!$F11 -> 0 | AY11: =INT(AX11*0.1) -> 0 | AZ11: =SUM(AX11:AY11) -> 0 | BA11: ='（別紙１）車両内訳表'!$F11 -> 0 | BB11: =INT(BA11*0.1) -> 0 | BC11: =SUM(BA11:BB11) -> 0 | BD11: ='（別紙１）車両内訳表'!$F11 -> 0 | BE11: =INT(BD11*0.1) -> 0 | BF11: =SUM(BD11:BE11) -> 0 | BG11: ='（別紙１）車両内訳表'!$F11 -> 0 | BH11: =INT(BG11*0.1) -> 0 | BI11: =SUM(BG11:BH11) -> 0 | BJ11: ='（別紙１）車両内訳表'!$F11 -> 0 | BK11: =INT(BJ11*0.1) -> 0 | BL11: =SUM(BJ11:BK11) -> 0 | BM11: ='（別紙１）車両内訳表'!$F11 -> 0 | BN11: =INT(BM11*0.1) -> 0 | BO11: =SUM(BM11:BN11) -> 0 | BP11: ='（別紙１）車両内訳表'!$F11 -> 0 | BQ11: =INT(BP11*0.1) -> 0 | BR11: =SUM(BP11:BQ11) -> 0 | BS11: ='（別紙１）車両内訳表'!$F11 -> 0 | BT11: =INT(BS11*0.1) -> 0 | BU11: =SUM(BS11:BT11) -> 0 | BV11: ='（別紙１）車両内訳表'!$F11 -> 0 | BW11: =INT(BV11*0.1) -> 0 | BX11: =SUM(BV11:BW11) -> 0 | BY11: ='（別紙１）車両内訳表'!$F11 -> 0 | BZ11: =INT(BY11*0.1) -> 0 | CA11: =SUM(BY11:BZ11) -> 0 | CB11: ='（別紙１）車両内訳表'!$F11 -> 0 | CC11: =INT(CB11*0.1) -> 0 | CD11: =SUM(CB11:CC11) -> 0 | CE11: ='（別紙１）車両内訳表'!$F11 -> 0 | CF11: =INT(CE11*0.1) -> 0 | CG11: =SUM(CE11:CF11) -> 0 | CH11: ='（別紙１）車両内訳表'!$F11 -> 0 | CI11: =INT(CH11*0.1) -> 0 | CJ11: =SUM(CH11:CI11) -> 0 | CK11: ='（別紙１）車両内訳表'!$F11 -> 0 | CL11: =INT(CK11*0.1) -> 0 | CM11: =SUM(CK11:CL11) -> 0 | CN11: ='（別紙１）車両内訳表'!$F11 -> 0 | CO11: =INT(CN11*0.1) -> 0 | CP11: =SUM(CN11:CO11) -> 0 | CQ11: ='（別紙１）車両内訳表'!$F11 -> 0 | CR11: =INT(CQ11*0.1) -> 0 | CS11: =SUM(CQ11:CR11) -> 0 | CT11: ='（別紙１）車両内訳表'!$F11 -> 0 | CU11: =INT(CT11*0.1) -> 0 | CV11: =SUM(CT11:CU11) -> 0 | CW11: ='（別紙１）車両内訳表'!$F11 -> 0 | CX11: =INT(CW11*0.1) -> 0 | CY11: =SUM(CW11:CX11) -> 0 | CZ11: ='（別紙１）車両内訳表'!$F11 -> 0 | DA11: =INT(CZ11*0.1) -> 0 | DB11: =SUM(CZ11:DA11) -> 0 | DC11: ='（別紙１）車両内訳表'!$F11 -> 0 | DD11: =INT(DC11*0.1) -> 0 | DE11: =SUM(DC11:DD11) -> 0 | DF11: ='（別紙１）車両内訳表'!$F11 -> 0 | DG11: =INT(DF11*0.1) -> 0 | DH11: =SUM(DF11:DG11) -> 0 | DI11: ='（別紙１）車両内訳表'!$F11 -> 0 | DJ11: =INT(DI11*0.1) -> 0 | DK11: =SUM(DI11:DJ11) -> 0 | DL11: ='（別紙１）車両内訳表'!$F11 -> 0 | DM11: =INT(DL11*0.1) -> 0 | DN11: =SUM(DL11:DM11) -> 0 | DO11: ='（別紙１）車両内訳表'!$F11 -> 0 | DP11: =INT(DO11*0.1) -> 0 | DQ11: =SUM(DO11:DP11) -> 0 | DR11: ='（別紙１）車両内訳表'!$F11 -> 0 | DS11: =INT(DR11*0.1) -> 0 | DT11: =SUM(DR11:DS11) -> 0 | DU11: ='（別紙１）車両内訳表'!$F11 -> 0 | DV11: =INT(DU11*0.1) -> 0 | DW11: =SUM(DU11:DV11) -> 0 | DX11: ='（別紙１）車両内訳表'!$F11 -> 0 | DY11: =INT(DX11*0.1) -> 0 | DZ11: =SUM(DX11:DY11) -> 0 | EA11: ='（別紙１）車両内訳表'!$F11 -> 0 | EB11: =INT(EA11*0.1) -> 0 | EC11: =SUM(EA11:EB11) -> 0 | ED11: ='（別紙１）車両内訳表'!$F11 -> 0 | EE11: =INT(ED11*0.1) -> 0 | EF11: =SUM(ED11:EE11) -> 0 | EG11: ='（別紙１）車両内訳表'!$F11 -> 0 | EH11: =INT(EG11*0.1) -> 0 | EI11: =SUM(EG11:EH11) -> 0 | EJ11: ='（別紙１）車両内訳表'!$F11 -> 0 | EK11: =INT(EJ11*0.1) -> 0 | EL11: =SUM(EJ11:EK11) -> 0 | EM11: ='（別紙１）車両内訳表'!$F11 -> 0 | EN11: =INT(EM11*0.1) -> 0 | EO11: =SUM(EM11:EN11) -> 0 | EP11: ='（別紙１）車両内訳表'!$F11 -> 0 | EQ11: =INT(EP11*0.1) -> 0 | ER11: =SUM(EP11:EQ11) -> 0 | ES11: ='（別紙１）車両内訳表'!$F11 -> 0 | ET11: =INT(ES11*0.1) -> 0 | EU11: =SUM(ES11:ET11) -> 0 | EV11: ='（別紙１）車両内訳表'!$F11 -> 0 | EW11: =INT(EV11*0.1) -> 0 | EX11: =SUM(EV11:EW11) -> 0 | EY11: ='（別紙１）車両内訳表'!$F11 -> 0 | EZ11: =INT(EY11*0.1) -> 0 | FA11: =SUM(EY11:EZ11) -> 0 | FB11: ='（別紙１）車両内訳表'!$F11 -> 0 | FC11: =INT(FB11*0.1) -> 0 | FD11: =SUM(FB11:FC11) -> 0 | FE11: ='（別紙１）車両内訳表'!$F11 -> 0 | FF11: =INT(FE11*0.1) -> 0 | FG11: =SUM(FE11:FF11) -> 0 | FH11: ='（別紙１）車両内訳表'!$F11 -> 0 | FI11: =INT(FH11*0.1) -> 0 | FJ11: =SUM(FH11:FI11) -> 0 | FK11: ='（別紙１）車両内訳表'!$F11 -> 0 | FL11: =INT(FK11*0.1) -> 0 | FM11: =SUM(FK11:FL11) -> 0 | FN11: ='（別紙１）車両内訳表'!$F11 -> 0 | FO11: =INT(FN11*0.1) -> 0 | FP11: =SUM(FN11:FO11) -> 0 | FQ11: ='（別紙１）車両内訳表'!$F11 -> 0 | FR11: =INT(FQ11*0.1) -> 0 | FS11: =SUM(FQ11:FR11) -> 0 | FT11: ='（別紙１）車両内訳表'!$F11 -> 0 | FU11: =INT(FT11*0.1) -> 0 | FV11: =SUM(FT11:FU11) -> 0 | FW11: ='（別紙１）車両内訳表'!$F11 -> 0 | FX11: =INT(FW11*0.1) -> 0 | FY11: =SUM(FW11:FX11) -> 0 | FZ11: ='（別紙１）車両内訳表'!$F11 -> 0 | GA11: =INT(FZ11*0.1) -> 0 | GB11: =SUM(FZ11:GA11) -> 0 | GC11: ='（別紙１）車両内訳表'!$F11 -> 0 | GD11: =INT(GC11*0.1) -> 0 | GE11: =SUM(GC11:GD11) -> 0
A12: 9 | B12: 健康づくり課 （東区保健センター） | C12: 46569 | D12: =EDATE(C12,59)-1 -> 48365 | N12: ='（別紙１）車両内訳表'!$F12 -> 0 | O12: =INT(N12*0.1) -> 0 | P12: =SUM(N12:O12) -> 0 | Q12: ='（別紙１）車両内訳表'!$F12 -> 0 | R12: =INT(Q12*0.1) -> 0 | S12: =SUM(Q12:R12) -> 0 | T12: ='（別紙１）車両内訳表'!$F12 -> 0 | U12: =INT(T12*0.1) -> 0 | V12: =SUM(T12:U12) -> 0 | W12: ='（別紙１）車両内訳表'!$F12 -> 0 | X12: =INT(W12*0.1) -> 0 | Y12: =SUM(W12:X12) -> 0 | Z12: ='（別紙１）車両内訳表'!$F12 -> 0 | AA12: =INT(Z12*0.1) -> 0 | AB12: =SUM(Z12:AA12) -> 0 | AC12: ='（別紙１）車両内訳表'!$F12 -> 0 | AD12: =INT(AC12*0.1) -> 0 | AE12: =SUM(AC12:AD12) -> 0 | AF12: ='（別紙１）車両内訳表'!$F12 -> 0 | AG12: =INT(AF12*0.1) -> 0 | AH12: =SUM(AF12:AG12) -> 0 | AI12: ='（別紙１）車両内訳表'!$F12 -> 0 | AJ12: =INT(AI12*0.1) -> 0 | AK12: =SUM(AI12:AJ12) -> 0 | AL12: ='（別紙１）車両内訳表'!$F12 -> 0 | AM12: =INT(AL12*0.1) -> 0 | AN12: =SUM(AL12:AM12) -> 0 | AO12: ='（別紙１）車両内訳表'!$F12 -> 0 | AP12: =INT(AO12*0.1) -> 0 | AQ12: =SUM(AO12:AP12) -> 0 | AR12: ='（別紙１）車両内訳表'!$F12 -> 0 | AS12: =INT(AR12*0.1) -> 0 | AT12: =SUM(AR12:AS12) -> 0 | AU12: ='（別紙１）車両内訳表'!$F12 -> 0 | AV12: =INT(AU12*0.1) -> 0 | AW12: =SUM(AU12:AV12) -> 0 | AX12: ='（別紙１）車両内訳表'!$F12 -> 0 | AY12: =INT(AX12*0.1) -> 0 | AZ12: =SUM(AX12:AY12) -> 0 | BA12: ='（別紙１）車両内訳表'!$F12 -> 0 | BB12: =INT(BA12*0.1) -> 0 | BC12: =SUM(BA12:BB12) -> 0 | BD12: ='（別紙１）車両内訳表'!$F12 -> 0 | BE12: =INT(BD12*0.1) -> 0 | BF12: =SUM(BD12:BE12) -> 0 | BG12: ='（別紙１）車両内訳表'!$F12 -> 0 | BH12: =INT(BG12*0.1) -> 0 | BI12: =SUM(BG12:BH12) -> 0 | BJ12: ='（別紙１）車両内訳表'!$F12 -> 0 | BK12: =INT(BJ12*0.1) -> 0 | BL12: =SUM(BJ12:BK12) -> 0 | BM12: ='（別紙１）車両内訳表'!$F12 -> 0 | BN12: =INT(BM12*0.1) -> 0 | BO12: =SUM(BM12:BN12) -> 0 | BP12: ='（別紙１）車両内訳表'!$F12 -> 0 | BQ12: =INT(BP12*0.1) -> 0 | BR12: =SUM(BP12:BQ12) -> 0 | BS12: ='（別紙１）車両内訳表'!$F12 -> 0 | BT12: =INT(BS12*0.1) -> 0 | BU12: =SUM(BS12:BT12) -> 0 | BV12: ='（別紙１）車両内訳表'!$F12 -> 0 | BW12: =INT(BV12*0.1) -> 0 | BX12: =SUM(BV12:BW12) -> 0 | BY12: ='（別紙１）車両内訳表'!$F12 -> 0 | BZ12: =INT(BY12*0.1) -> 0 | CA12: =SUM(BY12:BZ12) -> 0 | CB12: ='（別紙１）車両内訳表'!$F12 -> 0 | CC12: =INT(CB12*0.1) -> 0 | CD12: =SUM(CB12:CC12) -> 0 | CE12: ='（別紙１）車両内訳表'!$F12 -> 0 | CF12: =INT(CE12*0.1) -> 0 | CG12: =SUM(CE12:CF12) -> 0 | CH12: ='（別紙１）車両内訳表'!$F12 -> 0 | CI12: =INT(CH12*0.1) -> 0 | CJ12: =SUM(CH12:CI12) -> 0 | CK12: ='（別紙１）車両内訳表'!$F12 -> 0 | CL12: =INT(CK12*0.1) -> 0 | CM12: =SUM(CK12:CL12) -> 0 | CN12: ='（別紙１）車両内訳表'!$F12 -> 0 | CO12: =INT(CN12*0.1) -> 0 | CP12: =SUM(CN12:CO12) -> 0 | CQ12: ='（別紙１）車両内訳表'!$F12 -> 0 | CR12: =INT(CQ12*0.1) -> 0 | CS12: =SUM(CQ12:CR12) -> 0 | CT12: ='（別紙１）車両内訳表'!$F12 -> 0 | CU12: =INT(CT12*0.1) -> 0 | CV12: =SUM(CT12:CU12) -> 0 | CW12: ='（別紙１）車両内訳表'!$F12 -> 0 | CX12: =INT(CW12*0.1) -> 0 | CY12: =SUM(CW12:CX12) -> 0 | CZ12: ='（別紙１）車両内訳表'!$F12 -> 0 | DA12: =INT(CZ12*0.1) -> 0 | DB12: =SUM(CZ12:DA12) -> 0 | DC12: ='（別紙１）車両内訳表'!$F12 -> 0 | DD12: =INT(DC12*0.1) -> 0 | DE12: =SUM(DC12:DD12) -> 0 | DF12: ='（別紙１）車両内訳表'!$F12 -> 0 | DG12: =INT(DF12*0.1) -> 0 | DH12: =SUM(DF12:DG12) -> 0 | DI12: ='（別紙１）車両内訳表'!$F12 -> 0 | DJ12: =INT(DI12*0.1) -> 0 | DK12: =SUM(DI12:DJ12) -> 0 | DL12: ='（別紙１）車両内訳表'!$F12 -> 0 | DM12: =INT(DL12*0.1) -> 0 | DN12: =SUM(DL12:DM12) -> 0 | DO12: ='（別紙１）車両内訳表'!$F12 -> 0 | DP12: =INT(DO12*0.1) -> 0 | DQ12: =SUM(DO12:DP12) -> 0 | DR12: ='（別紙１）車両内訳表'!$F12 -> 0 | DS12: =INT(DR12*0.1) -> 0 | DT12: =SUM(DR12:DS12) -> 0 | DU12: ='（別紙１）車両内訳表'!$F12 -> 0 | DV12: =INT(DU12*0.1) -> 0 | DW12: =SUM(DU12:DV12) -> 0 | DX12: ='（別紙１）車両内訳表'!$F12 -> 0 | DY12: =INT(DX12*0.1) -> 0 | DZ12: =SUM(DX12:DY12) -> 0 | EA12: ='（別紙１）車両内訳表'!$F12 -> 0 | EB12: =INT(EA12*0.1) -> 0 | EC12: =SUM(EA12:EB12) -> 0 | ED12: ='（別紙１）車両内訳表'!$F12 -> 0 | EE12: =INT(ED12*0.1) -> 0 | EF12: =SUM(ED12:EE12) -> 0 | EG12: ='（別紙１）車両内訳表'!$F12 -> 0 | EH12: =INT(EG12*0.1) -> 0 | EI12: =SUM(EG12:EH12) -> 0 | EJ12: ='（別紙１）車両内訳表'!$F12 -> 0 | EK12: =INT(EJ12*0.1) -> 0 | EL12: =SUM(EJ12:EK12) -> 0 | EM12: ='（別紙１）車両内訳表'!$F12 -> 0 | EN12: =INT(EM12*0.1) -> 0 | EO12: =SUM(EM12:EN12) -> 0 | EP12: ='（別紙１）車両内訳表'!$F12 -> 0 | EQ12: =INT(EP12*0.1) -> 0 | ER12: =SUM(EP12:EQ12) -> 0 | ES12: ='（別紙１）車両内訳表'!$F12 -> 0 | ET12: =INT(ES12*0.1) -> 0 | EU12: =SUM(ES12:ET12) -> 0 | EV12: ='（別紙１）車両内訳表'!$F12 -> 0 | EW12: =INT(EV12*0.1) -> 0 | EX12: =SUM(EV12:EW12) -> 0 | EY12: ='（別紙１）車両内訳表'!$F12 -> 0 | EZ12: =INT(EY12*0.1) -> 0 | FA12: =SUM(EY12:EZ12) -> 0 | FB12: ='（別紙１）車両内訳表'!$F12 -> 0 | FC12: =INT(FB12*0.1) -> 0 | FD12: =SUM(FB12:FC12) -> 0 | FE12: ='（別紙１）車両内訳表'!$F12 -> 0 | FF12: =INT(FE12*0.1) -> 0 | FG12: =SUM(FE12:FF12) -> 0 | FH12: ='（別紙１）車両内訳表'!$F12 -> 0 | FI12: =INT(FH12*0.1) -> 0 | FJ12: =SUM(FH12:FI12) -> 0 | FK12: ='（別紙１）車両内訳表'!$F12 -> 0 | FL12: =INT(FK12*0.1) -> 0 | FM12: =SUM(FK12:FL12) -> 0 | FN12: ='（別紙１）車両内訳表'!$F12 -> 0 | FO12: =INT(FN12*0.1) -> 0 | FP12: =SUM(FN12:FO12) -> 0 | FQ12: ='（別紙１）車両内訳表'!$F12 -> 0 | FR12: =INT(FQ12*0.1) -> 0 | FS12: =SUM(FQ12:FR12) -> 0 | FT12: ='（別紙１）車両内訳表'!$F12 -> 0 | FU12: =INT(FT12*0.1) -> 0 | FV12: =SUM(FT12:FU12) -> 0 | FW12: ='（別紙１）車両内訳表'!$F12 -> 0 | FX12: =INT(FW12*0.1) -> 0 | FY12: =SUM(FW12:FX12) -> 0 | FZ12: ='（別紙１）車両内訳表'!$F12 -> 0 | GA12: =INT(FZ12*0.1) -> 0 | GB12: =SUM(FZ12:GA12) -> 0 | GC12: ='（別紙１）車両内訳表'!$F12 -> 0 | GD12: =INT(GC12*0.1) -> 0 | GE12: =SUM(GC12:GD12) -> 0 | GF12: ='（別紙１）車両内訳表'!$F12 -> 0 | GG12: =INT(GF12*0.1) -> 0 | GH12: =SUM(GF12:GG12) -> 0
A13: 10 | B13: 環境事業課 （南区ごみ対策班） | C13: 46569 | D13: =EDATE(C13,59)-1 -> 48365 | N13: ='（別紙１）車両内訳表'!$F13 -> 0 | O13: =INT(N13*0.1) -> 0 | P13: =SUM(N13:O13) -> 0 | Q13: ='（別紙１）車両内訳表'!$F13 -> 0 | R13: =INT(Q13*0.1) -> 0 | S13: =SUM(Q13:R13) -> 0 | T13: ='（別紙１）車両内訳表'!$F13 -> 0 | U13: =INT(T13*0.1) -> 0 | V13: =SUM(T13:U13) -> 0 | W13: ='（別紙１）車両内訳表'!$F13 -> 0 | X13: =INT(W13*0.1) -> 0 | Y13: =SUM(W13:X13) -> 0 | Z13: ='（別紙１）車両内訳表'!$F13 -> 0 | AA13: =INT(Z13*0.1) -> 0 | AB13: =SUM(Z13:AA13) -> 0 | AC13: ='（別紙１）車両内訳表'!$F13 -> 0 | AD13: =INT(AC13*0.1) -> 0 | AE13: =SUM(AC13:AD13) -> 0 | AF13: ='（別紙１）車両内訳表'!$F13 -> 0 | AG13: =INT(AF13*0.1) -> 0 | AH13: =SUM(AF13:AG13) -> 0 | AI13: ='（別紙１）車両内訳表'!$F13 -> 0 | AJ13: =INT(AI13*0.1) -> 0 | AK13: =SUM(AI13:AJ13) -> 0 | AL13: ='（別紙１）車両内訳表'!$F13 -> 0 | AM13: =INT(AL13*0.1) -> 0 | AN13: =SUM(AL13:AM13) -> 0 | AO13: ='（別紙１）車両内訳表'!$F13 -> 0 | AP13: =INT(AO13*0.1) -> 0 | AQ13: =SUM(AO13:AP13) -> 0 | AR13: ='（別紙１）車両内訳表'!$F13 -> 0 | AS13: =INT(AR13*0.1) -> 0 | AT13: =SUM(AR13:AS13) -> 0 | AU13: ='（別紙１）車両内訳表'!$F13 -> 0 | AV13: =INT(AU13*0.1) -> 0 | AW13: =SUM(AU13:AV13) -> 0 | AX13: ='（別紙１）車両内訳表'!$F13 -> 0 | AY13: =INT(AX13*0.1) -> 0 | AZ13: =SUM(AX13:AY13) -> 0 | BA13: ='（別紙１）車両内訳表'!$F13 -> 0 | BB13: =INT(BA13*0.1) -> 0 | BC13: =SUM(BA13:BB13) -> 0 | BD13: ='（別紙１）車両内訳表'!$F13 -> 0 | BE13: =INT(BD13*0.1) -> 0 | BF13: =SUM(BD13:BE13) -> 0 | BG13: ='（別紙１）車両内訳表'!$F13 -> 0 | BH13: =INT(BG13*0.1) -> 0 | BI13: =SUM(BG13:BH13) -> 0 | BJ13: ='（別紙１）車両内訳表'!$F13 -> 0 | BK13: =INT(BJ13*0.1) -> 0 | BL13: =SUM(BJ13:BK13) -> 0 | BM13: ='（別紙１）車両内訳表'!$F13 -> 0 | BN13: =INT(BM13*0.1) -> 0 | BO13: =SUM(BM13:BN13) -> 0 | BP13: ='（別紙１）車両内訳表'!$F13 -> 0 | BQ13: =INT(BP13*0.1) -> 0 | BR13: =SUM(BP13:BQ13) -> 0 | BS13: ='（別紙１）車両内訳表'!$F13 -> 0 | BT13: =INT(BS13*0.1) -> 0 | BU13: =SUM(BS13:BT13) -> 0 | BV13: ='（別紙１）車両内訳表'!$F13 -> 0 | BW13: =INT(BV13*0.1) -> 0 | BX13: =SUM(BV13:BW13) -> 0 | BY13: ='（別紙１）車両内訳表'!$F13 -> 0 | BZ13: =INT(BY13*0.1) -> 0 | CA13: =SUM(BY13:BZ13) -> 0 | CB13: ='（別紙１）車両内訳表'!$F13 -> 0 | CC13: =INT(CB13*0.1) -> 0 | CD13: =SUM(CB13:CC13) -> 0 | CE13: ='（別紙１）車両内訳表'!$F13 -> 0 | CF13: =INT(CE13*0.1) -> 0 | CG13: =SUM(CE13:CF13) -> 0 | CH13: ='（別紙１）車両内訳表'!$F13 -> 0 | CI13: =INT(CH13*0.1) -> 0 | CJ13: =SUM(CH13:CI13) -> 0 | CK13: ='（別紙１）車両内訳表'!$F13 -> 0 | CL13: =INT(CK13*0.1) -> 0 | CM13: =SUM(CK13:CL13) -> 0 | CN13: ='（別紙１）車両内訳表'!$F13 -> 0 | CO13: =INT(CN13*0.1) -> 0 | CP13: =SUM(CN13:CO13) -> 0 | CQ13: ='（別紙１）車両内訳表'!$F13 -> 0 | CR13: =INT(CQ13*0.1) -> 0 | CS13: =SUM(CQ13:CR13) -> 0 | CT13: ='（別紙１）車両内訳表'!$F13 -> 0 | CU13: =INT(CT13*0.1) -> 0 | CV13: =SUM(CT13:CU13) -> 0 | CW13: ='（別紙１）車両内訳表'!$F13 -> 0 | CX13: =INT(CW13*0.1) -> 0 | CY13: =SUM(CW13:CX13) -> 0 | CZ13: ='（別紙１）車両内訳表'!$F13 -> 0 | DA13: =INT(CZ13*0.1) -> 0 | DB13: =SUM(CZ13:DA13) -> 0 | DC13: ='（別紙１）車両内訳表'!$F13 -> 0 | DD13: =INT(DC13*0.1) -> 0 | DE13: =SUM(DC13:DD13) -> 0 | DF13: ='（別紙１）車両内訳表'!$F13 -> 0 | DG13: =INT(DF13*0.1) -> 0 | DH13: =SUM(DF13:DG13) -> 0 | DI13: ='（別紙１）車両内訳表'!$F13 -> 0 | DJ13: =INT(DI13*0.1) -> 0 | DK13: =SUM(DI13:DJ13) -> 0 | DL13: ='（別紙１）車両内訳表'!$F13 -> 0 | DM13: =INT(DL13*0.1) -> 0 | DN13: =SUM(DL13:DM13) -> 0 | DO13: ='（別紙１）車両内訳表'!$F13 -> 0 | DP13: =INT(DO13*0.1) -> 0 | DQ13: =SUM(DO13:DP13) -> 0 | DR13: ='（別紙１）車両内訳表'!$F13 -> 0 | DS13: =INT(DR13*0.1) -> 0 | DT13: =SUM(DR13:DS13) -> 0 | DU13: ='（別紙１）車両内訳表'!$F13 -> 0 | DV13: =INT(DU13*0.1) -> 0 | DW13: =SUM(DU13:DV13) -> 0 | DX13: ='（別紙１）車両内訳表'!$F13 -> 0 | DY13: =INT(DX13*0.1) -> 0 | DZ13: =SUM(DX13:DY13) -> 0 | EA13: ='（別紙１）車両内訳表'!$F13 -> 0 | EB13: =INT(EA13*0.1) -> 0 | EC13: =SUM(EA13:EB13) -> 0 | ED13: ='（別紙１）車両内訳表'!$F13 -> 0 | EE13: =INT(ED13*0.1) -> 0 | EF13: =SUM(ED13:EE13) -> 0 | EG13: ='（別紙１）車両内訳表'!$F13 -> 0 | EH13: =INT(EG13*0.1) -> 0 | EI13: =SUM(EG13:EH13) -> 0 | EJ13: ='（別紙１）車両内訳表'!$F13 -> 0 | EK13: =INT(EJ13*0.1) -> 0 | EL13: =SUM(EJ13:EK13) -> 0 | EM13: ='（別紙１）車両内訳表'!$F13 -> 0 | EN13: =INT(EM13*0.1) -> 0 | EO13: =SUM(EM13:EN13) -> 0 | EP13: ='（別紙１）車両内訳表'!$F13 -> 0 | EQ13: =INT(EP13*0.1) -> 0 | ER13: =SUM(EP13:EQ13) -> 0 | ES13: ='（別紙１）車両内訳表'!$F13 -> 0 | ET13: =INT(ES13*0.1) -> 0 | EU13: =SUM(ES13:ET13) -> 0 | EV13: ='（別紙１）車両内訳表'!$F13 -> 0 | EW13: =INT(EV13*0.1) -> 0 | EX13: =SUM(EV13:EW13) -> 0 | EY13: ='（別紙１）車両内訳表'!$F13 -> 0 | EZ13: =INT(EY13*0.1) -> 0 | FA13: =SUM(EY13:EZ13) -> 0 | FB13: ='（別紙１）車両内訳表'!$F13 -> 0 | FC13: =INT(FB13*0.1) -> 0 | FD13: =SUM(FB13:FC13) -> 0 | FE13: ='（別紙１）車両内訳表'!$F13 -> 0 | FF13: =INT(FE13*0.1) -> 0 | FG13: =SUM(FE13:FF13) -> 0 | FH13: ='（別紙１）車両内訳表'!$F13 -> 0 | FI13: =INT(FH13*0.1) -> 0 | FJ13: =SUM(FH13:FI13) -> 0 | FK13: ='（別紙１）車両内訳表'!$F13 -> 0 | FL13: =INT(FK13*0.1) -> 0 | FM13: =SUM(FK13:FL13) -> 0 | FN13: ='（別紙１）車両内訳表'!$F13 -> 0 | FO13: =INT(FN13*0.1) -> 0 | FP13: =SUM(FN13:FO13) -> 0 | FQ13: ='（別紙１）車両内訳表'!$F13 -> 0 | FR13: =INT(FQ13*0.1) -> 0 | FS13: =SUM(FQ13:FR13) -> 0 | FT13: ='（別紙１）車両内訳表'!$F13 -> 0 | FU13: =INT(FT13*0.1) -> 0 | FV13: =SUM(FT13:FU13) -> 0 | FW13: ='（別紙１）車両内訳表'!$F13 -> 0 | FX13: =INT(FW13*0.1) -> 0 | FY13: =SUM(FW13:FX13) -> 0 | FZ13: ='（別紙１）車両内訳表'!$F13 -> 0 | GA13: =INT(FZ13*0.1) -> 0 | GB13: =SUM(FZ13:GA13) -> 0 | GC13: ='（別紙１）車両内訳表'!$F13 -> 0 | GD13: =INT(GC13*0.1) -> 0 | GE13: =SUM(GC13:GD13) -> 0 | GF13: ='（別紙１）車両内訳表'!$F13 -> 0 | GG13: =INT(GF13*0.1) -> 0 | GH13: =SUM(GF13:GG13) -> 0
A14: 11 | B14: 東区役所市民保険年金課 | C14: 46753 | D14: =EDATE(C14,59)-1 -> 48548 | AF14: ='（別紙１）車両内訳表'!$F14 -> 0 | AG14: =INT(AF14*0.1) -> 0 | AH14: =SUM(AF14:AG14) -> 0 | AI14: ='（別紙１）車両内訳表'!$F14 -> 0 | AJ14: =INT(AI14*0.1) -> 0 | AK14: =SUM(AI14:AJ14) -> 0 | AL14: ='（別紙１）車両内訳表'!$F14 -> 0 | AM14: =INT(AL14*0.1) -> 0 | AN14: =SUM(AL14:AM14) -> 0 | AO14: ='（別紙１）車両内訳表'!$F14 -> 0 | AP14: =INT(AO14*0.1) -> 0 | AQ14: =SUM(AO14:AP14) -> 0 | AR14: ='（別紙１）車両内訳表'!$F14 -> 0 | AS14: =INT(AR14*0.1) -> 0 | AT14: =SUM(AR14:AS14) -> 0 | AU14: ='（別紙１）車両内訳表'!$F14 -> 0 | AV14: =INT(AU14*0.1) -> 0 | AW14: =SUM(AU14:AV14) -> 0 | AX14: ='（別紙１）車両内訳表'!$F14 -> 0 | AY14: =INT(AX14*0.1) -> 0 | AZ14: =SUM(AX14:AY14) -> 0 | BA14: ='（別紙１）車両内訳表'!$F14 -> 0 | BB14: =INT(BA14*0.1) -> 0 | BC14: =SUM(BA14:BB14) -> 0 | BD14: ='（別紙１）車両内訳表'!$F14 -> 0 | BE14: =INT(BD14*0.1) -> 0 | BF14: =SUM(BD14:BE14) -> 0 | BG14: ='（別紙１）車両内訳表'!$F14 -> 0 | BH14: =INT(BG14*0.1) -> 0 | BI14: =SUM(BG14:BH14) -> 0 | BJ14: ='（別紙１）車両内訳表'!$F14 -> 0 | BK14: =INT(BJ14*0.1) -> 0 | BL14: =SUM(BJ14:BK14) -> 0 | BM14: ='（別紙１）車両内訳表'!$F14 -> 0 | BN14: =INT(BM14*0.1) -> 0 | BO14: =SUM(BM14:BN14) -> 0 | BP14: ='（別紙１）車両内訳表'!$F14 -> 0 | BQ14: =INT(BP14*0.1) -> 0 | BR14: =SUM(BP14:BQ14) -> 0 | BS14: ='（別紙１）車両内訳表'!$F14 -> 0 | BT14: =INT(BS14*0.1) -> 0 | BU14: =SUM(BS14:BT14) -> 0 | BV14: ='（別紙１）車両内訳表'!$F14 -> 0 | BW14: =INT(BV14*0.1) -> 0 | BX14: =SUM(BV14:BW14) -> 0 | BY14: ='（別紙１）車両内訳表'!$F14 -> 0 | BZ14: =INT(BY14*0.1) -> 0 | CA14: =SUM(BY14:BZ14) -> 0 | CB14: ='（別紙１）車両内訳表'!$F14 -> 0 | CC14: =INT(CB14*0.1) -> 0 | CD14: =SUM(CB14:CC14) -> 0 | CE14: ='（別紙１）車両内訳表'!$F14 -> 0 | CF14: =INT(CE14*0.1) -> 0 | CG14: =SUM(CE14:CF14) -> 0 | CH14: ='（別紙１）車両内訳表'!$F14 -> 0 | CI14: =INT(CH14*0.1) -> 0 | CJ14: =SUM(CH14:CI14) -> 0 | CK14: ='（別紙１）車両内訳表'!$F14 -> 0 | CL14: =INT(CK14*0.1) -> 0 | CM14: =SUM(CK14:CL14) -> 0 | CN14: ='（別紙１）車両内訳表'!$F14 -> 0 | CO14: =INT(CN14*0.1) -> 0 | CP14: =SUM(CN14:CO14) -> 0 | CQ14: ='（別紙１）車両内訳表'!$F14 -> 0 | CR14: =INT(CQ14*0.1) -> 0 | CS14: =SUM(CQ14:CR14) -> 0 | CT14: ='（別紙１）車両内訳表'!$F14 -> 0 | CU14: =INT(CT14*0.1) -> 0 | CV14: =SUM(CT14:CU14) -> 0 | CW14: ='（別紙１）車両内訳表'!$F14 -> 0 | CX14: =INT(CW14*0.1) -> 0 | CY14: =SUM(CW14:CX14) -> 0 | CZ14: ='（別紙１）車両内訳表'!$F14 -> 0 | DA14: =INT(CZ14*0.1) -> 0 | DB14: =SUM(CZ14:DA14) -> 0 | DC14: ='（別紙１）車両内訳表'!$F14 -> 0 | DD14: =INT(DC14*0.1) -> 0 | DE14: =SUM(DC14:DD14) -> 0 | DF14: ='（別紙１）車両内訳表'!$F14 -> 0 | DG14: =INT(DF14*0.1) -> 0 | DH14: =SUM(DF14:DG14) -> 0 | DI14: ='（別紙１）車両内訳表'!$F14 -> 0 | DJ14: =INT(DI14*0.1) -> 0 | DK14: =SUM(DI14:DJ14) -> 0 | DL14: ='（別紙１）車両内訳表'!$F14 -> 0 | DM14: =INT(DL14*0.1) -> 0 | DN14: =SUM(DL14:DM14) -> 0 | DO14: ='（別紙１）車両内訳表'!$F14 -> 0 | DP14: =INT(DO14*0.1) -> 0 | DQ14: =SUM(DO14:DP14) -> 0 | DR14: ='（別紙１）車両内訳表'!$F14 -> 0 | DS14: =INT(DR14*0.1) -> 0 | DT14: =SUM(DR14:DS14) -> 0 | DU14: ='（別紙１）車両内訳表'!$F14 -> 0 | DV14: =INT(DU14*0.1) -> 0 | DW14: =SUM(DU14:DV14) -> 0 | DX14: ='（別紙１）車両内訳表'!$F14 -> 0 | DY14: =INT(DX14*0.1) -> 0 | DZ14: =SUM(DX14:DY14) -> 0 | EA14: ='（別紙１）車両内訳表'!$F14 -> 0 | EB14: =INT(EA14*0.1) -> 0 | EC14: =SUM(EA14:EB14) -> 0 | ED14: ='（別紙１）車両内訳表'!$F14 -> 0 | EE14: =INT(ED14*0.1) -> 0 | EF14: =SUM(ED14:EE14) -> 0 | EG14: ='（別紙１）車両内訳表'!$F14 -> 0 | EH14: =INT(EG14*0.1) -> 0 | EI14: =SUM(EG14:EH14) -> 0 | EJ14: ='（別紙１）車両内訳表'!$F14 -> 0 | EK14: =INT(EJ14*0.1) -> 0 | EL14: =SUM(EJ14:EK14) -> 0 | EM14: ='（別紙１）車両内訳表'!$F14 -> 0 | EN14: =INT(EM14*0.1) -> 0 | EO14: =SUM(EM14:EN14) -> 0 | EP14: ='（別紙１）車両内訳表'!$F14 -> 0 | EQ14: =INT(EP14*0.1) -> 0 | ER14: =SUM(EP14:EQ14) -> 0 | ES14: ='（別紙１）車両内訳表'!$F14 -> 0 | ET14: =INT(ES14*0.1) -> 0 | EU14: =SUM(ES14:ET14) -> 0 | EV14: ='（別紙１）車両内訳表'!$F14 -> 0 | EW14: =INT(EV14*0.1) -> 0 | EX14: =SUM(EV14:EW14) -> 0 | EY14: ='（別紙１）車両内訳表'!$F14 -> 0 | EZ14: =INT(EY14*0.1) -> 0 | FA14: =SUM(EY14:EZ14) -> 0 | FB14: ='（別紙１）車両内訳表'!$F14 -> 0 | FC14: =INT(FB14*0.1) -> 0 | FD14: =SUM(FB14:FC14) -> 0 | FE14: ='（別紙１）車両内訳表'!$F14 -> 0 | FF14: =INT(FE14*0.1) -> 0 | FG14: =SUM(FE14:FF14) -> 0 | FH14: ='（別紙１）車両内訳表'!$F14 -> 0 | FI14: =INT(FH14*0.1) -> 0 | FJ14: =SUM(FH14:FI14) -> 0 | FK14: ='（別紙１）車両内訳表'!$F14 -> 0 | FL14: =INT(FK14*0.1) -> 0 | FM14: =SUM(FK14:FL14) -> 0 | FN14: ='（別紙１）車両内訳表'!$F14 -> 0 | FO14: =INT(FN14*0.1) -> 0 | FP14: =SUM(FN14:FO14) -> 0 | FQ14: ='（別紙１）車両内訳表'!$F14 -> 0 | FR14: =INT(FQ14*0.1) -> 0 | FS14: =SUM(FQ14:FR14) -> 0 | FT14: ='（別紙１）車両内訳表'!$F14 -> 0 | FU14: =INT(FT14*0.1) -> 0 | FV14: =SUM(FT14:FU14) -> 0 | FW14: ='（別紙１）車両内訳表'!$F14 -> 0 | FX14: =INT(FW14*0.1) -> 0 | FY14: =SUM(FW14:FX14) -> 0 | FZ14: ='（別紙１）車両内訳表'!$F14 -> 0 | GA14: =INT(FZ14*0.1) -> 0 | GB14: =SUM(FZ14:GA14) -> 0 | GC14: ='（別紙１）車両内訳表'!$F14 -> 0 | GD14: =INT(GC14*0.1) -> 0 | GE14: =SUM(GC14:GD14) -> 0 | GF14: ='（別紙１）車両内訳表'!$F14 -> 0 | GG14: =INT(GF14*0.1) -> 0 | GH14: =SUM(GF14:GG14) -> 0 | GI14: ='（別紙１）車両内訳表'!$F14 -> 0 | GJ14: =INT(GI14*0.1) -> 0 | GK14: =SUM(GI14:GJ14) -> 0 | GL14: ='（別紙１）車両内訳表'!$F14 -> 0 | GM14: =INT(GL14*0.1) -> 0 | GN14: =SUM(GL14:GM14) -> 0 | GO14: ='（別紙１）車両内訳表'!$F14 -> 0 | GP14: =INT(GO14*0.1) -> 0 | GQ14: =SUM(GO14:GP14) -> 0 | GR14: ='（別紙１）車両内訳表'!$F14 -> 0 | GS14: =INT(GR14*0.1) -> 0 | GT14: =SUM(GR14:GS14) -> 0 | GU14: ='（別紙１）車両内訳表'!$F14 -> 0 | GV14: =INT(GU14*0.1) -> 0 | GW14: =SUM(GU14:GV14) -> 0 | GX14: ='（別紙１）車両内訳表'!$F14 -> 0 | GY14: =INT(GX14*0.1) -> 0 | GZ14: =SUM(GX14:GY14) -> 0
A15: 12 | B15: 中区福祉事務所 | C15: 46753 | D15: =EDATE(C15,59)-1 -> 48548 | AF15: ='（別紙１）車両内訳表'!$F15 -> 0 | AG15: =INT(AF15*0.1) -> 0 | AH15: =SUM(AF15:AG15) -> 0 | AI15: ='（別紙１）車両内訳表'!$F15 -> 0 | AJ15: =INT(AI15*0.1) -> 0 | AK15: =SUM(AI15:AJ15) -> 0 | AL15: ='（別紙１）車両内訳表'!$F15 -> 0 | AM15: =INT(AL15*0.1) -> 0 | AN15: =SUM(AL15:AM15) -> 0 | AO15: ='（別紙１）車両内訳表'!$F15 -> 0 | AP15: =INT(AO15*0.1) -> 0 | AQ15: =SUM(AO15:AP15) -> 0 | AR15: ='（別紙１）車両内訳表'!$F15 -> 0 | AS15: =INT(AR15*0.1) -> 0 | AT15: =SUM(AR15:AS15) -> 0 | AU15: ='（別紙１）車両内訳表'!$F15 -> 0 | AV15: =INT(AU15*0.1) -> 0 | AW15: =SUM(AU15:AV15) -> 0 | AX15: ='（別紙１）車両内訳表'!$F15 -> 0 | AY15: =INT(AX15*0.1) -> 0 | AZ15: =SUM(AX15:AY15) -> 0 | BA15: ='（別紙１）車両内訳表'!$F15 -> 0 | BB15: =INT(BA15*0.1) -> 0 | BC15: =SUM(BA15:BB15) -> 0 | BD15: ='（別紙１）車両内訳表'!$F15 -> 0 | BE15: =INT(BD15*0.1) -> 0 | BF15: =SUM(BD15:BE15) -> 0 | BG15: ='（別紙１）車両内訳表'!$F15 -> 0 | BH15: =INT(BG15*0.1) -> 0 | BI15: =SUM(BG15:BH15) -> 0 | BJ15: ='（別紙１）車両内訳表'!$F15 -> 0 | BK15: =INT(BJ15*0.1) -> 0 | BL15: =SUM(BJ15:BK15) -> 0 | BM15: ='（別紙１）車両内訳表'!$F15 -> 0 | BN15: =INT(BM15*0.1) -> 0 | BO15: =SUM(BM15:BN15) -> 0 | BP15: ='（別紙１）車両内訳表'!$F15 -> 0 | BQ15: =INT(BP15*0.1) -> 0 | BR15: =SUM(BP15:BQ15) -> 0 | BS15: ='（別紙１）車両内訳表'!$F15 -> 0 | BT15: =INT(BS15*0.1) -> 0 | BU15: =SUM(BS15:BT15) -> 0 | BV15: ='（別紙１）車両内訳表'!$F15 -> 0 | BW15: =INT(BV15*0.1) -> 0 | BX15: =SUM(BV15:BW15) -> 0 | BY15: ='（別紙１）車両内訳表'!$F15 -> 0 | BZ15: =INT(BY15*0.1) -> 0 | CA15: =SUM(BY15:BZ15) -> 0 | CB15: ='（別紙１）車両内訳表'!$F15 -> 0 | CC15: =INT(CB15*0.1) -> 0 | CD15: =SUM(CB15:CC15) -> 0 | CE15: ='（別紙１）車両内訳表'!$F15 -> 0 | CF15: =INT(CE15*0.1) -> 0 | CG15: =SUM(CE15:CF15) -> 0 | CH15: ='（別紙１）車両内訳表'!$F15 -> 0 | CI15: =INT(CH15*0.1) -> 0 | CJ15: =SUM(CH15:CI15) -> 0 | CK15: ='（別紙１）車両内訳表'!$F15 -> 0 | CL15: =INT(CK15*0.1) -> 0 | CM15: =SUM(CK15:CL15) -> 0 | CN15: ='（別紙１）車両内訳表'!$F15 -> 0 | CO15: =INT(CN15*0.1) -> 0 | CP15: =SUM(CN15:CO15) -> 0 | CQ15: ='（別紙１）車両内訳表'!$F15 -> 0 | CR15: =INT(CQ15*0.1) -> 0 | CS15: =SUM(CQ15:CR15) -> 0 | CT15: ='（別紙１）車両内訳表'!$F15 -> 0 | CU15: =INT(CT15*0.1) -> 0 | CV15: =SUM(CT15:CU15) -> 0 | CW15: ='（別紙１）車両内訳表'!$F15 -> 0 | CX15: =INT(CW15*0.1) -> 0 | CY15: =SUM(CW15:CX15) -> 0 | CZ15: ='（別紙１）車両内訳表'!$F15 -> 0 | DA15: =INT(CZ15*0.1) -> 0 | DB15: =SUM(CZ15:DA15) -> 0 | DC15: ='（別紙１）車両内訳表'!$F15 -> 0 | DD15: =INT(DC15*0.1) -> 0 | DE15: =SUM(DC15:DD15) -> 0 | DF15: ='（別紙１）車両内訳表'!$F15 -> 0 | DG15: =INT(DF15*0.1) -> 0 | DH15: =SUM(DF15:DG15) -> 0 | DI15: ='（別紙１）車両内訳表'!$F15 -> 0 | DJ15: =INT(DI15*0.1) -> 0 | DK15: =SUM(DI15:DJ15) -> 0 | DL15: ='（別紙１）車両内訳表'!$F15 -> 0 | DM15: =INT(DL15*0.1) -> 0 | DN15: =SUM(DL15:DM15) -> 0 | DO15: ='（別紙１）車両内訳表'!$F15 -> 0 | DP15: =INT(DO15*0.1) -> 0 | DQ15: =SUM(DO15:DP15) -> 0 | DR15: ='（別紙１）車両内訳表'!$F15 -> 0 | DS15: =INT(DR15*0.1) -> 0 | DT15: =SUM(DR15:DS15) -> 0 | DU15: ='（別紙１）車両内訳表'!$F15 -> 0 | DV15: =INT(DU15*0.1) -> 0 | DW15: =SUM(DU15:DV15) -> 0 | DX15: ='（別紙１）車両内訳表'!$F15 -> 0 | DY15: =INT(DX15*0.1) -> 0 | DZ15: =SUM(DX15:DY15) -> 0 | EA15: ='（別紙１）車両内訳表'!$F15 -> 0 | EB15: =INT(EA15*0.1) -> 0 | EC15: =SUM(EA15:EB15) -> 0 | ED15: ='（別紙１）車両内訳表'!$F15 -> 0 | EE15: =INT(ED15*0.1) -> 0 | EF15: =SUM(ED15:EE15) -> 0 | EG15: ='（別紙１）車両内訳表'!$F15 -> 0 | EH15: =INT(EG15*0.1) -> 0 | EI15: =SUM(EG15:EH15) -> 0 | EJ15: ='（別紙１）車両内訳表'!$F15 -> 0 | EK15: =INT(EJ15*0.1) -> 0 | EL15: =SUM(EJ15:EK15) -> 0 | EM15: ='（別紙１）車両内訳表'!$F15 -> 0 | EN15: =INT(EM15*0.1) -> 0 | EO15: =SUM(EM15:EN15) -> 0 | EP15: ='（別紙１）車両内訳表'!$F15 -> 0 | EQ15: =INT(EP15*0.1) -> 0 | ER15: =SUM(EP15:EQ15) -> 0 | ES15: ='（別紙１）車両内訳表'!$F15 -> 0 | ET15: =INT(ES15*0.1) -> 0 | EU15: =SUM(ES15:ET15) -> 0 | EV15: ='（別紙１）車両内訳表'!$F15 -> 0 | EW15: =INT(EV15*0.1) -> 0 | EX15: =SUM(EV15:EW15) -> 0 | EY15: ='（別紙１）車両内訳表'!$F15 -> 0 | EZ15: =INT(EY15*0.1) -> 0 | FA15: =SUM(EY15:EZ15) -> 0 | FB15: ='（別紙１）車両内訳表'!$F15 -> 0 | FC15: =INT(FB15*0.1) -> 0 | FD15: =SUM(FB15:FC15) -> 0 | FE15: ='（別紙１）車両内訳表'!$F15 -> 0 | FF15: =INT(FE15*0.1) -> 0 | FG15: =SUM(FE15:FF15) -> 0 | FH15: ='（別紙１）車両内訳表'!$F15 -> 0 | FI15: =INT(FH15*0.1) -> 0 | FJ15: =SUM(FH15:FI15) -> 0 | FK15: ='（別紙１）車両内訳表'!$F15 -> 0 | FL15: =INT(FK15*0.1) -> 0 | FM15: =SUM(FK15:FL15) -> 0 | FN15: ='（別紙１）車両内訳表'!$F15 -> 0 | FO15: =INT(FN15*0.1) -> 0 | FP15: =SUM(FN15:FO15) -> 0 | FQ15: ='（別紙１）車両内訳表'!$F15 -> 0 | FR15: =INT(FQ15*0.1) -> 0 | FS15: =SUM(FQ15:FR15) -> 0 | FT15: ='（別紙１）車両内訳表'!$F15 -> 0 | FU15: =INT(FT15*0.1) -> 0 | FV15: =SUM(FT15:FU15) -> 0 | FW15: ='（別紙１）車両内訳表'!$F15 -> 0 | FX15: =INT(FW15*0.1) -> 0 | FY15: =SUM(FW15:FX15) -> 0 | FZ15: ='（別紙１）車両内訳表'!$F15 -> 0 | GA15: =INT(FZ15*0.1) -> 0 | GB15: =SUM(FZ15:GA15) -> 0 | GC15: ='（別紙１）車両内訳表'!$F15 -> 0 | GD15: =INT(GC15*0.1) -> 0 | GE15: =SUM(GC15:GD15) -> 0 | GF15: ='（別紙１）車両内訳表'!$F15 -> 0 | GG15: =INT(GF15*0.1) -> 0 | GH15: =SUM(GF15:GG15) -> 0 | GI15: ='（別紙１）車両内訳表'!$F15 -> 0 | GJ15: =INT(GI15*0.1) -> 0 | GK15: =SUM(GI15:GJ15) -> 0 | GL15: ='（別紙１）車両内訳表'!$F15 -> 0 | GM15: =INT(GL15*0.1) -> 0 | GN15: =SUM(GL15:GM15) -> 0 | GO15: ='（別紙１）車両内訳表'!$F15 -> 0 | GP15: =INT(GO15*0.1) -> 0 | GQ15: =SUM(GO15:GP15) -> 0 | GR15: ='（別紙１）車両内訳表'!$F15 -> 0 | GS15: =INT(GR15*0.1) -> 0 | GT15: =SUM(GR15:GS15) -> 0 | GU15: ='（別紙１）車両内訳表'!$F15 -> 0 | GV15: =INT(GU15*0.1) -> 0 | GW15: =SUM(GU15:GV15) -> 0 | GX15: ='（別紙１）車両内訳表'!$F15 -> 0 | GY15: =INT(GX15*0.1) -> 0 | GZ15: =SUM(GX15:GY15) -> 0
A16: 13 | B16: 南区西福祉事務所 | C16: 46753 | D16: =EDATE(C16,59)-1 -> 48548 | AF16: ='（別紙１）車両内訳表'!$F16 -> 0 | AG16: =INT(AF16*0.1) -> 0 | AH16: =SUM(AF16:AG16) -> 0 | AI16: ='（別紙１）車両内訳表'!$F16 -> 0 | AJ16: =INT(AI16*0.1) -> 0 | AK16: =SUM(AI16:AJ16) -> 0 | AL16: ='（別紙１）車両内訳表'!$F16 -> 0 | AM16: =INT(AL16*0.1) -> 0 | AN16: =SUM(AL16:AM16) -> 0 | AO16: ='（別紙１）車両内訳表'!$F16 -> 0 | AP16: =INT(AO16*0.1) -> 0 | AQ16: =SUM(AO16:AP16) -> 0 | AR16: ='（別紙１）車両内訳表'!$F16 -> 0 | AS16: =INT(AR16*0.1) -> 0 | AT16: =SUM(AR16:AS16) -> 0 | AU16: ='（別紙１）車両内訳表'!$F16 -> 0 | AV16: =INT(AU16*0.1) -> 0 | AW16: =SUM(AU16:AV16) -> 0 | AX16: ='（別紙１）車両内訳表'!$F16 -> 0 | AY16: =INT(AX16*0.1) -> 0 | AZ16: =SUM(AX16:AY16) -> 0 | BA16: ='（別紙１）車両内訳表'!$F16 -> 0 | BB16: =INT(BA16*0.1) -> 0 | BC16: =SUM(BA16:BB16) -> 0 | BD16: ='（別紙１）車両内訳表'!$F16 -> 0 | BE16: =INT(BD16*0.1) -> 0 | BF16: =SUM(BD16:BE16) -> 0 | BG16: ='（別紙１）車両内訳表'!$F16 -> 0 | BH16: =INT(BG16*0.1) -> 0 | BI16: =SUM(BG16:BH16) -> 0 | BJ16: ='（別紙１）車両内訳表'!$F16 -> 0 | BK16: =INT(BJ16*0.1) -> 0 | BL16: =SUM(BJ16:BK16) -> 0 | BM16: ='（別紙１）車両内訳表'!$F16 -> 0 | BN16: =INT(BM16*0.1) -> 0 | BO16: =SUM(BM16:BN16) -> 0 | BP16: ='（別紙１）車両内訳表'!$F16 -> 0 | BQ16: =INT(BP16*0.1) -> 0 | BR16: =SUM(BP16:BQ16) -> 0 | BS16: ='（別紙１）車両内訳表'!$F16 -> 0 | BT16: =INT(BS16*0.1) -> 0 | BU16: =SUM(BS16:BT16) -> 0 | BV16: ='（別紙１）車両内訳表'!$F16 -> 0 | BW16: =INT(BV16*0.1) -> 0 | BX16: =SUM(BV16:BW16) -> 0 | BY16: ='（別紙１）車両内訳表'!$F16 -> 0 | BZ16: =INT(BY16*0.1) -> 0 | CA16: =SUM(BY16:BZ16) -> 0 | CB16: ='（別紙１）車両内訳表'!$F16 -> 0 | CC16: =INT(CB16*0.1) -> 0 | CD16: =SUM(CB16:CC16) -> 0 | CE16: ='（別紙１）車両内訳表'!$F16 -> 0 | CF16: =INT(CE16*0.1) -> 0 | CG16: =SUM(CE16:CF16) -> 0 | CH16: ='（別紙１）車両内訳表'!$F16 -> 0 | CI16: =INT(CH16*0.1) -> 0 | CJ16: =SUM(CH16:CI16) -> 0 | CK16: ='（別紙１）車両内訳表'!$F16 -> 0 | CL16: =INT(CK16*0.1) -> 0 | CM16: =SUM(CK16:CL16) -> 0 | CN16: ='（別紙１）車両内訳表'!$F16 -> 0 | CO16: =INT(CN16*0.1) -> 0 | CP16: =SUM(CN16:CO16) -> 0 | CQ16: ='（別紙１）車両内訳表'!$F16 -> 0 | CR16: =INT(CQ16*0.1) -> 0 | CS16: =SUM(CQ16:CR16) -> 0 | CT16: ='（別紙１）車両内訳表'!$F16 -> 0 | CU16: =INT(CT16*0.1) -> 0 | CV16: =SUM(CT16:CU16) -> 0 | CW16: ='（別紙１）車両内訳表'!$F16 -> 0 | CX16: =INT(CW16*0.1) -> 0 | CY16: =SUM(CW16:CX16) -> 0 | CZ16: ='（別紙１）車両内訳表'!$F16 -> 0 | DA16: =INT(CZ16*0.1) -> 0 | DB16: =SUM(CZ16:DA16) -> 0 | DC16: ='（別紙１）車両内訳表'!$F16 -> 0 | DD16: =INT(DC16*0.1) -> 0 | DE16: =SUM(DC16:DD16) -> 0 | DF16: ='（別紙１）車両内訳表'!$F16 -> 0 | DG16: =INT(DF16*0.1) -> 0 | DH16: =SUM(DF16:DG16) -> 0 | DI16: ='（別紙１）車両内訳表'!$F16 -> 0 | DJ16: =INT(DI16*0.1) -> 0 | DK16: =SUM(DI16:DJ16) -> 0 | DL16: ='（別紙１）車両内訳表'!$F16 -> 0 | DM16: =INT(DL16*0.1) -> 0 | DN16: =SUM(DL16:DM16) -> 0 | DO16: ='（別紙１）車両内訳表'!$F16 -> 0 | DP16: =INT(DO16*0.1) -> 0 | DQ16: =SUM(DO16:DP16) -> 0 | DR16: ='（別紙１）車両内訳表'!$F16 -> 0 | DS16: =INT(DR16*0.1) -> 0 | DT16: =SUM(DR16:DS16) -> 0 | DU16: ='（別紙１）車両内訳表'!$F16 -> 0 | DV16: =INT(DU16*0.1) -> 0 | DW16: =SUM(DU16:DV16) -> 0 | DX16: ='（別紙１）車両内訳表'!$F16 -> 0 | DY16: =INT(DX16*0.1) -> 0 | DZ16: =SUM(DX16:DY16) -> 0 | EA16: ='（別紙１）車両内訳表'!$F16 -> 0 | EB16: =INT(EA16*0.1) -> 0 | EC16: =SUM(EA16:EB16) -> 0 | ED16: ='（別紙１）車両内訳表'!$F16 -> 0 | EE16: =INT(ED16*0.1) -> 0 | EF16: =SUM(ED16:EE16) -> 0 | EG16: ='（別紙１）車両内訳表'!$F16 -> 0 | EH16: =INT(EG16*0.1) -> 0 | EI16: =SUM(EG16:EH16) -> 0 | EJ16: ='（別紙１）車両内訳表'!$F16 -> 0 | EK16: =INT(EJ16*0.1) -> 0 | EL16: =SUM(EJ16:EK16) -> 0 | EM16: ='（別紙１）車両内訳表'!$F16 -> 0 | EN16: =INT(EM16*0.1) -> 0 | EO16: =SUM(EM16:EN16) -> 0 | EP16: ='（別紙１）車両内訳表'!$F16 -> 0 | EQ16: =INT(EP16*0.1) -> 0 | ER16: =SUM(EP16:EQ16) -> 0 | ES16: ='（別紙１）車両内訳表'!$F16 -> 0 | ET16: =INT(ES16*0.1) -> 0 | EU16: =SUM(ES16:ET16) -> 0 | EV16: ='（別紙１）車両内訳表'!$F16 -> 0 | EW16: =INT(EV16*0.1) -> 0 | EX16: =SUM(EV16:EW16) -> 0 | EY16: ='（別紙１）車両内訳表'!$F16 -> 0 | EZ16: =INT(EY16*0.1) -> 0 | FA16: =SUM(EY16:EZ16) -> 0 | FB16: ='（別紙１）車両内訳表'!$F16 -> 0 | FC16: =INT(FB16*0.1) -> 0 | FD16: =SUM(FB16:FC16) -> 0 | FE16: ='（別紙１）車両内訳表'!$F16 -> 0 | FF16: =INT(FE16*0.1) -> 0 | FG16: =SUM(FE16:FF16) -> 0 | FH16: ='（別紙１）車両内訳表'!$F16 -> 0 | FI16: =INT(FH16*0.1) -> 0 | FJ16: =SUM(FH16:FI16) -> 0 | FK16: ='（別紙１）車両内訳表'!$F16 -> 0 | FL16: =INT(FK16*0.1) -> 0 | FM16: =SUM(FK16:FL16) -> 0 | FN16: ='（別紙１）車両内訳表'!$F16 -> 0 | FO16: =INT(FN16*0.1) -> 0 | FP16: =SUM(FN16:FO16) -> 0 | FQ16: ='（別紙１）車両内訳表'!$F16 -> 0 | FR16: =INT(FQ16*0.1) -> 0 | FS16: =SUM(FQ16:FR16) -> 0 | FT16: ='（別紙１）車両内訳表'!$F16 -> 0 | FU16: =INT(FT16*0.1) -> 0 | FV16: =SUM(FT16:FU16) -> 0 | FW16: ='（別紙１）車両内訳表'!$F16 -> 0 | FX16: =INT(FW16*0.1) -> 0 | FY16: =SUM(FW16:FX16) -> 0 | FZ16: ='（別紙１）車両内訳表'!$F16 -> 0 | GA16: =INT(FZ16*0.1) -> 0 | GB16: =SUM(FZ16:GA16) -> 0 | GC16: ='（別紙１）車両内訳表'!$F16 -> 0 | GD16: =INT(GC16*0.1) -> 0 | GE16: =SUM(GC16:GD16) -> 0 | GF16: ='（別紙１）車両内訳表'!$F16 -> 0 | GG16: =INT(GF16*0.1) -> 0 | GH16: =SUM(GF16:GG16) -> 0 | GI16: ='（別紙１）車両内訳表'!$F16 -> 0 | GJ16: =INT(GI16*0.1) -> 0 | GK16: =SUM(GI16:GJ16) -> 0 | GL16: ='（別紙１）車両内訳表'!$F16 -> 0 | GM16: =INT(GL16*0.1) -> 0 | GN16: =SUM(GL16:GM16) -> 0 | GO16: ='（別紙１）車両内訳表'!$F16 -> 0 | GP16: =INT(GO16*0.1) -> 0 | GQ16: =SUM(GO16:GP16) -> 0 | GR16: ='（別紙１）車両内訳表'!$F16 -> 0 | GS16: =INT(GR16*0.1) -> 0 | GT16: =SUM(GR16:GS16) -> 0 | GU16: ='（別紙１）車両内訳表'!$F16 -> 0 | GV16: =INT(GU16*0.1) -> 0 | GW16: =SUM(GU16:GV16) -> 0 | GX16: ='（別紙１）車両内訳表'!$F16 -> 0 | GY16: =INT(GX16*0.1) -> 0 | GZ16: =SUM(GX16:GY16) -> 0
A17: 14 | B17: 南区西福祉事務所 | C17: 46753 | D17: =EDATE(C17,59)-1 -> 48548 | AF17: ='（別紙１）車両内訳表'!$F17 -> 0 | AG17: =INT(AF17*0.1) -> 0 | AH17: =SUM(AF17:AG17) -> 0 | AI17: ='（別紙１）車両内訳表'!$F17 -> 0 | AJ17: =INT(AI17*0.1) -> 0 | AK17: =SUM(AI17:AJ17) -> 0 | AL17: ='（別紙１）車両内訳表'!$F17 -> 0 | AM17: =INT(AL17*0.1) -> 0 | AN17: =SUM(AL17:AM17) -> 0 | AO17: ='（別紙１）車両内訳表'!$F17 -> 0 | AP17: =INT(AO17*0.1) -> 0 | AQ17: =SUM(AO17:AP17) -> 0 | AR17: ='（別紙１）車両内訳表'!$F17 -> 0 | AS17: =INT(AR17*0.1) -> 0 | AT17: =SUM(AR17:AS17) -> 0 | AU17: ='（別紙１）車両内訳表'!$F17 -> 0 | AV17: =INT(AU17*0.1) -> 0 | AW17: =SUM(AU17:AV17) -> 0 | AX17: ='（別紙１）車両内訳表'!$F17 -> 0 | AY17: =INT(AX17*0.1) -> 0 | AZ17: =SUM(AX17:AY17) -> 0 | BA17: ='（別紙１）車両内訳表'!$F17 -> 0 | BB17: =INT(BA17*0.1) -> 0 | BC17: =SUM(BA17:BB17) -> 0 | BD17: ='（別紙１）車両内訳表'!$F17 -> 0 | BE17: =INT(BD17*0.1) -> 0 | BF17: =SUM(BD17:BE17) -> 0 | BG17: ='（別紙１）車両内訳表'!$F17 -> 0 | BH17: =INT(BG17*0.1) -> 0 | BI17: =SUM(BG17:BH17) -> 0 | BJ17: ='（別紙１）車両内訳表'!$F17 -> 0 | BK17: =INT(BJ17*0.1) -> 0 | BL17: =SUM(BJ17:BK17) -> 0 | BM17: ='（別紙１）車両内訳表'!$F17 -> 0 | BN17: =INT(BM17*0.1) -> 0 | BO17: =SUM(BM17:BN17) -> 0 | BP17: ='（別紙１）車両内訳表'!$F17 -> 0 | BQ17: =INT(BP17*0.1) -> 0 | BR17: =SUM(BP17:BQ17) -> 0 | BS17: ='（別紙１）車両内訳表'!$F17 -> 0 | BT17: =INT(BS17*0.1) -> 0 | BU17: =SUM(BS17:BT17) -> 0 | BV17: ='（別紙１）車両内訳表'!$F17 -> 0 | BW17: =INT(BV17*0.1) -> 0 | BX17: =SUM(BV17:BW17) -> 0 | BY17: ='（別紙１）車両内訳表'!$F17 -> 0 | BZ17: =INT(BY17*0.1) -> 0 | CA17: =SUM(BY17:BZ17) -> 0 | CB17: ='（別紙１）車両内訳表'!$F17 -> 0 | CC17: =INT(CB17*0.1) -> 0 | CD17: =SUM(CB17:CC17) -> 0 | CE17: ='（別紙１）車両内訳表'!$F17 -> 0 | CF17: =INT(CE17*0.1) -> 0 | CG17: =SUM(CE17:CF17) -> 0 | CH17: ='（別紙１）車両内訳表'!$F17 -> 0 | CI17: =INT(CH17*0.1) -> 0 | CJ17: =SUM(CH17:CI17) -> 0 | CK17: ='（別紙１）車両内訳表'!$F17 -> 0 | CL17: =INT(CK17*0.1) -> 0 | CM17: =SUM(CK17:CL17) -> 0 | CN17: ='（別紙１）車両内訳表'!$F17 -> 0 | CO17: =INT(CN17*0.1) -> 0 | CP17: =SUM(CN17:CO17) -> 0 | CQ17: ='（別紙１）車両内訳表'!$F17 -> 0 | CR17: =INT(CQ17*0.1) -> 0 | CS17: =SUM(CQ17:CR17) -> 0 | CT17: ='（別紙１）車両内訳表'!$F17 -> 0 | CU17: =INT(CT17*0.1) -> 0 | CV17: =SUM(CT17:CU17) -> 0 | CW17: ='（別紙１）車両内訳表'!$F17 -> 0 | CX17: =INT(CW17*0.1) -> 0 | CY17: =SUM(CW17:CX17) -> 0 | CZ17: ='（別紙１）車両内訳表'!$F17 -> 0 | DA17: =INT(CZ17*0.1) -> 0 | DB17: =SUM(CZ17:DA17) -> 0 | DC17: ='（別紙１）車両内訳表'!$F17 -> 0 | DD17: =INT(DC17*0.1) -> 0 | DE17: =SUM(DC17:DD17) -> 0 | DF17: ='（別紙１）車両内訳表'!$F17 -> 0 | DG17: =INT(DF17*0.1) -> 0 | DH17: =SUM(DF17:DG17) -> 0 | DI17: ='（別紙１）車両内訳表'!$F17 -> 0 | DJ17: =INT(DI17*0.1) -> 0 | DK17: =SUM(DI17:DJ17) -> 0 | DL17: ='（別紙１）車両内訳表'!$F17 -> 0 | DM17: =INT(DL17*0.1) -> 0 | DN17: =SUM(DL17:DM17) -> 0 | DO17: ='（別紙１）車両内訳表'!$F17 -> 0 | DP17: =INT(DO17*0.1) -> 0 | DQ17: =SUM(DO17:DP17) -> 0 | DR17: ='（別紙１）車両内訳表'!$F17 -> 0 | DS17: =INT(DR17*0.1) -> 0 | DT17: =SUM(DR17:DS17) -> 0 | DU17: ='（別紙１）車両内訳表'!$F17 -> 0 | DV17: =INT(DU17*0.1) -> 0 | DW17: =SUM(DU17:DV17) -> 0 | DX17: ='（別紙１）車両内訳表'!$F17 -> 0 | DY17: =INT(DX17*0.1) -> 0 | DZ17: =SUM(DX17:DY17) -> 0 | EA17: ='（別紙１）車両内訳表'!$F17 -> 0 | EB17: =INT(EA17*0.1) -> 0 | EC17: =SUM(EA17:EB17) -> 0 | ED17: ='（別紙１）車両内訳表'!$F17 -> 0 | EE17: =INT(ED17*0.1) -> 0 | EF17: =SUM(ED17:EE17) -> 0 | EG17: ='（別紙１）車両内訳表'!$F17 -> 0 | EH17: =INT(EG17*0.1) -> 0 | EI17: =SUM(EG17:EH17) -> 0 | EJ17: ='（別紙１）車両内訳表'!$F17 -> 0 | EK17: =INT(EJ17*0.1) -> 0 | EL17: =SUM(EJ17:EK17) -> 0 | EM17: ='（別紙１）車両内訳表'!$F17 -> 0 | EN17: =INT(EM17*0.1) -> 0 | EO17: =SUM(EM17:EN17) -> 0 | EP17: ='（別紙１）車両内訳表'!$F17 -> 0 | EQ17: =INT(EP17*0.1) -> 0 | ER17: =SUM(EP17:EQ17) -> 0 | ES17: ='（別紙１）車両内訳表'!$F17 -> 0 | ET17: =INT(ES17*0.1) -> 0 | EU17: =SUM(ES17:ET17) -> 0 | EV17: ='（別紙１）車両内訳表'!$F17 -> 0 | EW17: =INT(EV17*0.1) -> 0 | EX17: =SUM(EV17:EW17) -> 0 | EY17: ='（別紙１）車両内訳表'!$F17 -> 0 | EZ17: =INT(EY17*0.1) -> 0 | FA17: =SUM(EY17:EZ17) -> 0 | FB17: ='（別紙１）車両内訳表'!$F17 -> 0 | FC17: =INT(FB17*0.1) -> 0 | FD17: =SUM(FB17:FC17) -> 0 | FE17: ='（別紙１）車両内訳表'!$F17 -> 0 | FF17: =INT(FE17*0.1) -> 0 | FG17: =SUM(FE17:FF17) -> 0 | FH17: ='（別紙１）車両内訳表'!$F17 -> 0 | FI17: =INT(FH17*0.1) -> 0 | FJ17: =SUM(FH17:FI17) -> 0 | FK17: ='（別紙１）車両内訳表'!$F17 -> 0 | FL17: =INT(FK17*0.1) -> 0 | FM17: =SUM(FK17:FL17) -> 0 | FN17: ='（別紙１）車両内訳表'!$F17 -> 0 | FO17: =INT(FN17*0.1) -> 0 | FP17: =SUM(FN17:FO17) -> 0 | FQ17: ='（別紙１）車両内訳表'!$F17 -> 0 | FR17: =INT(FQ17*0.1) -> 0 | FS17: =SUM(FQ17:FR17) -> 0 | FT17: ='（別紙１）車両内訳表'!$F17 -> 0 | FU17: =INT(FT17*0.1) -> 0 | FV17: =SUM(FT17:FU17) -> 0 | FW17: ='（別紙１）車両内訳表'!$F17 -> 0 | FX17: =INT(FW17*0.1) -> 0 | FY17: =SUM(FW17:FX17) -> 0 | FZ17: ='（別紙１）車両内訳表'!$F17 -> 0 | GA17: =INT(FZ17*0.1) -> 0 | GB17: =SUM(FZ17:GA17) -> 0 | GC17: ='（別紙１）車両内訳表'!$F17 -> 0 | GD17: =INT(GC17*0.1) -> 0 | GE17: =SUM(GC17:GD17) -> 0 | GF17: ='（別紙１）車両内訳表'!$F17 -> 0 | GG17: =INT(GF17*0.1) -> 0 | GH17: =SUM(GF17:GG17) -> 0 | GI17: ='（別紙１）車両内訳表'!$F17 -> 0 | GJ17: =INT(GI17*0.1) -> 0 | GK17: =SUM(GI17:GJ17) -> 0 | GL17: ='（別紙１）車両内訳表'!$F17 -> 0 | GM17: =INT(GL17*0.1) -> 0 | GN17: =SUM(GL17:GM17) -> 0 | GO17: ='（別紙１）車両内訳表'!$F17 -> 0 | GP17: =INT(GO17*0.1) -> 0 | GQ17: =SUM(GO17:GP17) -> 0 | GR17: ='（別紙１）車両内訳表'!$F17 -> 0 | GS17: =INT(GR17*0.1) -> 0 | GT17: =SUM(GR17:GS17) -> 0 | GU17: ='（別紙１）車両内訳表'!$F17 -> 0 | GV17: =INT(GU17*0.1) -> 0 | GW17: =SUM(GU17:GV17) -> 0 | GX17: ='（別紙１）車両内訳表'!$F17 -> 0 | GY17: =INT(GX17*0.1) -> 0 | GZ17: =SUM(GX17:GY17) -> 0
A18: 15 | B18: 北区北福祉事務所 | C18: 46753 | D18: =EDATE(C18,59)-1 -> 48548 | AF18: ='（別紙１）車両内訳表'!$F18 -> 0 | AG18: =INT(AF18*0.1) -> 0 | AH18: =SUM(AF18:AG18) -> 0 | AI18: ='（別紙１）車両内訳表'!$F18 -> 0 | AJ18: =INT(AI18*0.1) -> 0 | AK18: =SUM(AI18:AJ18) -> 0 | AL18: ='（別紙１）車両内訳表'!$F18 -> 0 | AM18: =INT(AL18*0.1) -> 0 | AN18: =SUM(AL18:AM18) -> 0 | AO18: ='（別紙１）車両内訳表'!$F18 -> 0 | AP18: =INT(AO18*0.1) -> 0 | AQ18: =SUM(AO18:AP18) -> 0 | AR18: ='（別紙１）車両内訳表'!$F18 -> 0 | AS18: =INT(AR18*0.1) -> 0 | AT18: =SUM(AR18:AS18) -> 0 | AU18: ='（別紙１）車両内訳表'!$F18 -> 0 | AV18: =INT(AU18*0.1) -> 0 | AW18: =SUM(AU18:AV18) -> 0 | AX18: ='（別紙１）車両内訳表'!$F18 -> 0 | AY18: =INT(AX18*0.1) -> 0 | AZ18: =SUM(AX18:AY18) -> 0 | BA18: ='（別紙１）車両内訳表'!$F18 -> 0 | BB18: =INT(BA18*0.1) -> 0 | BC18: =SUM(BA18:BB18) -> 0 | BD18: ='（別紙１）車両内訳表'!$F18 -> 0 | BE18: =INT(BD18*0.1) -> 0 | BF18: =SUM(BD18:BE18) -> 0 | BG18: ='（別紙１）車両内訳表'!$F18 -> 0 | BH18: =INT(BG18*0.1) -> 0 | BI18: =SUM(BG18:BH18) -> 0 | BJ18: ='（別紙１）車両内訳表'!$F18 -> 0 | BK18: =INT(BJ18*0.1) -> 0 | BL18: =SUM(BJ18:BK18) -> 0 | BM18: ='（別紙１）車両内訳表'!$F18 -> 0 | BN18: =INT(BM18*0.1) -> 0 | BO18: =SUM(BM18:BN18) -> 0 | BP18: ='（別紙１）車両内訳表'!$F18 -> 0 | BQ18: =INT(BP18*0.1) -> 0 | BR18: =SUM(BP18:BQ18) -> 0 | BS18: ='（別紙１）車両内訳表'!$F18 -> 0 | BT18: =INT(BS18*0.1) -> 0 | BU18: =SUM(BS18:BT18) -> 0 | BV18: ='（別紙１）車両内訳表'!$F18 -> 0 | BW18: =INT(BV18*0.1) -> 0 | BX18: =SUM(BV18:BW18) -> 0 | BY18: ='（別紙１）車両内訳表'!$F18 -> 0 | BZ18: =INT(BY18*0.1) -> 0 | CA18: =SUM(BY18:BZ18) -> 0 | CB18: ='（別紙１）車両内訳表'!$F18 -> 0 | CC18: =INT(CB18*0.1) -> 0 | CD18: =SUM(CB18:CC18) -> 0 | CE18: ='（別紙１）車両内訳表'!$F18 -> 0 | CF18: =INT(CE18*0.1) -> 0 | CG18: =SUM(CE18:CF18) -> 0 | CH18: ='（別紙１）車両内訳表'!$F18 -> 0 | CI18: =INT(CH18*0.1) -> 0 | CJ18: =SUM(CH18:CI18) -> 0 | CK18: ='（別紙１）車両内訳表'!$F18 -> 0 | CL18: =INT(CK18*0.1) -> 0 | CM18: =SUM(CK18:CL18) -> 0 | CN18: ='（別紙１）車両内訳表'!$F18 -> 0 | CO18: =INT(CN18*0.1) -> 0 | CP18: =SUM(CN18:CO18) -> 0 | CQ18: ='（別紙１）車両内訳表'!$F18 -> 0 | CR18: =INT(CQ18*0.1) -> 0 | CS18: =SUM(CQ18:CR18) -> 0 | CT18: ='（別紙１）車両内訳表'!$F18 -> 0 | CU18: =INT(CT18*0.1) -> 0 | CV18: =SUM(CT18:CU18) -> 0 | CW18: ='（別紙１）車両内訳表'!$F18 -> 0 | CX18: =INT(CW18*0.1) -> 0 | CY18: =SUM(CW18:CX18) -> 0 | CZ18: ='（別紙１）車両内訳表'!$F18 -> 0 | DA18: =INT(CZ18*0.1) -> 0 | DB18: =SUM(CZ18:DA18) -> 0 | DC18: ='（別紙１）車両内訳表'!$F18 -> 0 | DD18: =INT(DC18*0.1) -> 0 | DE18: =SUM(DC18:DD18) -> 0 | DF18: ='（別紙１）車両内訳表'!$F18 -> 0 | DG18: =INT(DF18*0.1) -> 0 | DH18: =SUM(DF18:DG18) -> 0 | DI18: ='（別紙１）車両内訳表'!$F18 -> 0 | DJ18: =INT(DI18*0.1) -> 0 | DK18: =SUM(DI18:DJ18) -> 0 | DL18: ='（別紙１）車両内訳表'!$F18 -> 0 | DM18: =INT(DL18*0.1) -> 0 | DN18: =SUM(DL18:DM18) -> 0 | DO18: ='（別紙１）車両内訳表'!$F18 -> 0 | DP18: =INT(DO18*0.1) -> 0 | DQ18: =SUM(DO18:DP18) -> 0 | DR18: ='（別紙１）車両内訳表'!$F18 -> 0 | DS18: =INT(DR18*0.1) -> 0 | DT18: =SUM(DR18:DS18) -> 0 | DU18: ='（別紙１）車両内訳表'!$F18 -> 0 | DV18: =INT(DU18*0.1) -> 0 | DW18: =SUM(DU18:DV18) -> 0 | DX18: ='（別紙１）車両内訳表'!$F18 -> 0 | DY18: =INT(DX18*0.1) -> 0 | DZ18: =SUM(DX18:DY18) -> 0 | EA18: ='（別紙１）車両内訳表'!$F18 -> 0 | EB18: =INT(EA18*0.1) -> 0 | EC18: =SUM(EA18:EB18) -> 0 | ED18: ='（別紙１）車両内訳表'!$F18 -> 0 | EE18: =INT(ED18*0.1) -> 0 | EF18: =SUM(ED18:EE18) -> 0 | EG18: ='（別紙１）車両内訳表'!$F18 -> 0 | EH18: =INT(EG18*0.1) -> 0 | EI18: =SUM(EG18:EH18) -> 0 | EJ18: ='（別紙１）車両内訳表'!$F18 -> 0 | EK18: =INT(EJ18*0.1) -> 0 | EL18: =SUM(EJ18:EK18) -> 0 | EM18: ='（別紙１）車両内訳表'!$F18 -> 0 | EN18: =INT(EM18*0.1) -> 0 | EO18: =SUM(EM18:EN18) -> 0 | EP18: ='（別紙１）車両内訳表'!$F18 -> 0 | EQ18: =INT(EP18*0.1) -> 0 | ER18: =SUM(EP18:EQ18) -> 0 | ES18: ='（別紙１）車両内訳表'!$F18 -> 0 | ET18: =INT(ES18*0.1) -> 0 | EU18: =SUM(ES18:ET18) -> 0 | EV18: ='（別紙１）車両内訳表'!$F18 -> 0 | EW18: =INT(EV18*0.1) -> 0 | EX18: =SUM(EV18:EW18) -> 0 | EY18: ='（別紙１）車両内訳表'!$F18 -> 0 | EZ18: =INT(EY18*0.1) -> 0 | FA18: =SUM(EY18:EZ18) -> 0 | FB18: ='（別紙１）車両内訳表'!$F18 -> 0 | FC18: =INT(FB18*0.1) -> 0 | FD18: =SUM(FB18:FC18) -> 0 | FE18: ='（別紙１）車両内訳表'!$F18 -> 0 | FF18: =INT(FE18*0.1) -> 0 | FG18: =SUM(FE18:FF18) -> 0 | FH18: ='（別紙１）車両内訳表'!$F18 -> 0 | FI18: =INT(FH18*0.1) -> 0 | FJ18: =SUM(FH18:FI18) -> 0 | FK18: ='（別紙１）車両内訳表'!$F18 -> 0 | FL18: =INT(FK18*0.1) -> 0 | FM18: =SUM(FK18:FL18) -> 0 | FN18: ='（別紙１）車両内訳表'!$F18 -> 0 | FO18: =INT(FN18*0.1) -> 0 | FP18: =SUM(FN18:FO18) -> 0 | FQ18: ='（別紙１）車両内訳表'!$F18 -> 0 | FR18: =INT(FQ18*0.1) -> 0 | FS18: =SUM(FQ18:FR18) -> 0 | FT18: ='（別紙１）車両内訳表'!$F18 -> 0 | FU18: =INT(FT18*0.1) -> 0 | FV18: =SUM(FT18:FU18) -> 0 | FW18: ='（別紙１）車両内訳表'!$F18 -> 0 | FX18: =INT(FW18*0.1) -> 0 | FY18: =SUM(FW18:FX18) -> 0 | FZ18: ='（別紙１）車両内訳表'!$F18 -> 0 | GA18: =INT(FZ18*0.1) -> 0 | GB18: =SUM(FZ18:GA18) -> 0 | GC18: ='（別紙１）車両内訳表'!$F18 -> 0 | GD18: =INT(GC18*0.1) -> 0 | GE18: =SUM(GC18:GD18) -> 0 | GF18: ='（別紙１）車両内訳表'!$F18 -> 0 | GG18: =INT(GF18*0.1) -> 0 | GH18: =SUM(GF18:GG18) -> 0 | GI18: ='（別紙１）車両内訳表'!$F18 -> 0 | GJ18: =INT(GI18*0.1) -> 0 | GK18: =SUM(GI18:GJ18) -> 0 | GL18: ='（別紙１）車両内訳表'!$F18 -> 0 | GM18: =INT(GL18*0.1) -> 0 | GN18: =SUM(GL18:GM18) -> 0 | GO18: ='（別紙１）車両内訳表'!$F18 -> 0 | GP18: =INT(GO18*0.1) -> 0 | GQ18: =SUM(GO18:GP18) -> 0 | GR18: ='（別紙１）車両内訳表'!$F18 -> 0 | GS18: =INT(GR18*0.1) -> 0 | GT18: =SUM(GR18:GS18) -> 0 | GU18: ='（別紙１）車両内訳表'!$F18 -> 0 | GV18: =INT(GU18*0.1) -> 0 | GW18: =SUM(GU18:GV18) -> 0 | GX18: ='（別紙１）車両内訳表'!$F18 -> 0 | GY18: =INT(GX18*0.1) -> 0 | GZ18: =SUM(GX18:GY18) -> 0
A19: 16 | B19: 健康づくり課 （中区保健センター） | C19: 46753 | D19: =EDATE(C19,59)-1 -> 48548 | AF19: ='（別紙１）車両内訳表'!$F19 -> 0 | AG19: =INT(AF19*0.1) -> 0 | AH19: =SUM(AF19:AG19) -> 0 | AI19: ='（別紙１）車両内訳表'!$F19 -> 0 | AJ19: =INT(AI19*0.1) -> 0 | AK19: =SUM(AI19:AJ19) -> 0 | AL19: ='（別紙１）車両内訳表'!$F19 -> 0 | AM19: =INT(AL19*0.1) -> 0 | AN19: =SUM(AL19:AM19) -> 0 | AO19: ='（別紙１）車両内訳表'!$F19 -> 0 | AP19: =INT(AO19*0.1) -> 0 | AQ19: =SUM(AO19:AP19) -> 0 | AR19: ='（別紙１）車両内訳表'!$F19 -> 0 | AS19: =INT(AR19*0.1) -> 0 | AT19: =SUM(AR19:AS19) -> 0 | AU19: ='（別紙１）車両内訳表'!$F19 -> 0 | AV19: =INT(AU19*0.1) -> 0 | AW19: =SUM(AU19:AV19) -> 0 | AX19: ='（別紙１）車両内訳表'!$F19 -> 0 | AY19: =INT(AX19*0.1) -> 0 | AZ19: =SUM(AX19:AY19) -> 0 | BA19: ='（別紙１）車両内訳表'!$F19 -> 0 | BB19: =INT(BA19*0.1) -> 0 | BC19: =SUM(BA19:BB19) -> 0 | BD19: ='（別紙１）車両内訳表'!$F19 -> 0 | BE19: =INT(BD19*0.1) -> 0 | BF19: =SUM(BD19:BE19) -> 0 | BG19: ='（別紙１）車両内訳表'!$F19 -> 0 | BH19: =INT(BG19*0.1) -> 0 | BI19: =SUM(BG19:BH19) -> 0 | BJ19: ='（別紙１）車両内訳表'!$F19 -> 0 | BK19: =INT(BJ19*0.1) -> 0 | BL19: =SUM(BJ19:BK19) -> 0 | BM19: ='（別紙１）車両内訳表'!$F19 -> 0 | BN19: =INT(BM19*0.1) -> 0 | BO19: =SUM(BM19:BN19) -> 0 | BP19: ='（別紙１）車両内訳表'!$F19 -> 0 | BQ19: =INT(BP19*0.1) -> 0 | BR19: =SUM(BP19:BQ19) -> 0 | BS19: ='（別紙１）車両内訳表'!$F19 -> 0 | BT19: =INT(BS19*0.1) -> 0 | BU19: =SUM(BS19:BT19) -> 0 | BV19: ='（別紙１）車両内訳表'!$F19 -> 0 | BW19: =INT(BV19*0.1) -> 0 | BX19: =SUM(BV19:BW19) -> 0 | BY19: ='（別紙１）車両内訳表'!$F19 -> 0 | BZ19: =INT(BY19*0.1) -> 0 | CA19: =SUM(BY19:BZ19) -> 0 | CB19: ='（別紙１）車両内訳表'!$F19 -> 0 | CC19: =INT(CB19*0.1) -> 0 | CD19: =SUM(CB19:CC19) -> 0 | CE19: ='（別紙１）車両内訳表'!$F19 -> 0 | CF19: =INT(CE19*0.1) -> 0 | CG19: =SUM(CE19:CF19) -> 0 | CH19: ='（別紙１）車両内訳表'!$F19 -> 0 | CI19: =INT(CH19*0.1) -> 0 | CJ19: =SUM(CH19:CI19) -> 0 | CK19: ='（別紙１）車両内訳表'!$F19 -> 0 | CL19: =INT(CK19*0.1) -> 0 | CM19: =SUM(CK19:CL19) -> 0 | CN19: ='（別紙１）車両内訳表'!$F19 -> 0 | CO19: =INT(CN19*0.1) -> 0 | CP19: =SUM(CN19:CO19) -> 0 | CQ19: ='（別紙１）車両内訳表'!$F19 -> 0 | CR19: =INT(CQ19*0.1) -> 0 | CS19: =SUM(CQ19:CR19) -> 0 | CT19: ='（別紙１）車両内訳表'!$F19 -> 0 | CU19: =INT(CT19*0.1) -> 0 | CV19: =SUM(CT19:CU19) -> 0 | CW19: ='（別紙１）車両内訳表'!$F19 -> 0 | CX19: =INT(CW19*0.1) -> 0 | CY19: =SUM(CW19:CX19) -> 0 | CZ19: ='（別紙１）車両内訳表'!$F19 -> 0 | DA19: =INT(CZ19*0.1) -> 0 | DB19: =SUM(CZ19:DA19) -> 0 | DC19: ='（別紙１）車両内訳表'!$F19 -> 0 | DD19: =INT(DC19*0.1) -> 0 | DE19: =SUM(DC19:DD19) -> 0 | DF19: ='（別紙１）車両内訳表'!$F19 -> 0 | DG19: =INT(DF19*0.1) -> 0 | DH19: =SUM(DF19:DG19) -> 0 | DI19: ='（別紙１）車両内訳表'!$F19 -> 0 | DJ19: =INT(DI19*0.1) -> 0 | DK19: =SUM(DI19:DJ19) -> 0 | DL19: ='（別紙１）車両内訳表'!$F19 -> 0 | DM19: =INT(DL19*0.1) -> 0 | DN19: =SUM(DL19:DM19) -> 0 | DO19: ='（別紙１）車両内訳表'!$F19 -> 0 | DP19: =INT(DO19*0.1) -> 0 | DQ19: =SUM(DO19:DP19) -> 0 | DR19: ='（別紙１）車両内訳表'!$F19 -> 0 | DS19: =INT(DR19*0.1) -> 0 | DT19: =SUM(DR19:DS19) -> 0 | DU19: ='（別紙１）車両内訳表'!$F19 -> 0 | DV19: =INT(DU19*0.1) -> 0 | DW19: =SUM(DU19:DV19) -> 0 | DX19: ='（別紙１）車両内訳表'!$F19 -> 0 | DY19: =INT(DX19*0.1) -> 0 | DZ19: =SUM(DX19:DY19) -> 0 | EA19: ='（別紙１）車両内訳表'!$F19 -> 0 | EB19: =INT(EA19*0.1) -> 0 | EC19: =SUM(EA19:EB19) -> 0 | ED19: ='（別紙１）車両内訳表'!$F19 -> 0 | EE19: =INT(ED19*0.1) -> 0 | EF19: =SUM(ED19:EE19) -> 0 | EG19: ='（別紙１）車両内訳表'!$F19 -> 0 | EH19: =INT(EG19*0.1) -> 0 | EI19: =SUM(EG19:EH19) -> 0 | EJ19: ='（別紙１）車両内訳表'!$F19 -> 0 | EK19: =INT(EJ19*0.1) -> 0 | EL19: =SUM(EJ19:EK19) -> 0 | EM19: ='（別紙１）車両内訳表'!$F19 -> 0 | EN19: =INT(EM19*0.1) -> 0 | EO19: =SUM(EM19:EN19) -> 0 | EP19: ='（別紙１）車両内訳表'!$F19 -> 0 | EQ19: =INT(EP19*0.1) -> 0 | ER19: =SUM(EP19:EQ19) -> 0 | ES19: ='（別紙１）車両内訳表'!$F19 -> 0 | ET19: =INT(ES19*0.1) -> 0 | EU19: =SUM(ES19:ET19) -> 0 | EV19: ='（別紙１）車両内訳表'!$F19 -> 0 | EW19: =INT(EV19*0.1) -> 0 | EX19: =SUM(EV19:EW19) -> 0 | EY19: ='（別紙１）車両内訳表'!$F19 -> 0 | EZ19: =INT(EY19*0.1) -> 0 | FA19: =SUM(EY19:EZ19) -> 0 | FB19: ='（別紙１）車両内訳表'!$F19 -> 0 | FC19: =INT(FB19*0.1) -> 0 | FD19: =SUM(FB19:FC19) -> 0 | FE19: ='（別紙１）車両内訳表'!$F19 -> 0 | FF19: =INT(FE19*0.1) -> 0 | FG19: =SUM(FE19:FF19) -> 0 | FH19: ='（別紙１）車両内訳表'!$F19 -> 0 | FI19: =INT(FH19*0.1) -> 0 | FJ19: =SUM(FH19:FI19) -> 0 | FK19: ='（別紙１）車両内訳表'!$F19 -> 0 | FL19: =INT(FK19*0.1) -> 0 | FM19: =SUM(FK19:FL19) -> 0 | FN19: ='（別紙１）車両内訳表'!$F19 -> 0 | FO19: =INT(FN19*0.1) -> 0 | FP19: =SUM(FN19:FO19) -> 0 | FQ19: ='（別紙１）車両内訳表'!$F19 -> 0 | FR19: =INT(FQ19*0.1) -> 0 | FS19: =SUM(FQ19:FR19) -> 0 | FT19: ='（別紙１）車両内訳表'!$F19 -> 0 | FU19: =INT(FT19*0.1) -> 0 | FV19: =SUM(FT19:FU19) -> 0 | FW19: ='（別紙１）車両内訳表'!$F19 -> 0 | FX19: =INT(FW19*0.1) -> 0 | FY19: =SUM(FW19:FX19) -> 0 | FZ19: ='（別紙１）車両内訳表'!$F19 -> 0 | GA19: =INT(FZ19*0.1) -> 0 | GB19: =SUM(FZ19:GA19) -> 0 | GC19: ='（別紙１）車両内訳表'!$F19 -> 0 | GD19: =INT(GC19*0.1) -> 0 | GE19: =SUM(GC19:GD19) -> 0 | GF19: ='（別紙１）車両内訳表'!$F19 -> 0 | GG19: =INT(GF19*0.1) -> 0 | GH19: =SUM(GF19:GG19) -> 0 | GI19: ='（別紙１）車両内訳表'!$F19 -> 0 | GJ19: =INT(GI19*0.1) -> 0 | GK19: =SUM(GI19:GJ19) -> 0 | GL19: ='（別紙１）車両内訳表'!$F19 -> 0 | GM19: =INT(GL19*0.1) -> 0 | GN19: =SUM(GL19:GM19) -> 0 | GO19: ='（別紙１）車両内訳表'!$F19 -> 0 | GP19: =INT(GO19*0.1) -> 0 | GQ19: =SUM(GO19:GP19) -> 0 | GR19: ='（別紙１）車両内訳表'!$F19 -> 0 | GS19: =INT(GR19*0.1) -> 0 | GT19: =SUM(GR19:GS19) -> 0 | GU19: ='（別紙１）車両内訳表'!$F19 -> 0 | GV19: =INT(GU19*0.1) -> 0 | GW19: =SUM(GU19:GV19) -> 0 | GX19: ='（別紙１）車両内訳表'!$F19 -> 0 | GY19: =INT(GX19*0.1) -> 0 | GZ19: =SUM(GX19:GY19) -> 0
A20: 17 | B20: 第１事業所 | C20: 46813 | D20: =EDATE(C20,59)-1 -> 48610 | AL20: ='（別紙１）車両内訳表'!$F20 -> 0 | AM20: =INT(AL20*0.1) -> 0 | AN20: =SUM(AL20:AM20) -> 0 | AO20: ='（別紙１）車両内訳表'!$F20 -> 0 | AP20: =INT(AO20*0.1) -> 0 | AQ20: =SUM(AO20:AP20) -> 0 | AR20: ='（別紙１）車両内訳表'!$F20 -> 0 | AS20: =INT(AR20*0.1) -> 0 | AT20: =SUM(AR20:AS20) -> 0 | AU20: ='（別紙１）車両内訳表'!$F20 -> 0 | AV20: =INT(AU20*0.1) -> 0 | AW20: =SUM(AU20:AV20) -> 0 | AX20: ='（別紙１）車両内訳表'!$F20 -> 0 | AY20: =INT(AX20*0.1) -> 0 | AZ20: =SUM(AX20:AY20) -> 0 | BA20: ='（別紙１）車両内訳表'!$F20 -> 0 | BB20: =INT(BA20*0.1) -> 0 | BC20: =SUM(BA20:BB20) -> 0 | BD20: ='（別紙１）車両内訳表'!$F20 -> 0 | BE20: =INT(BD20*0.1) -> 0 | BF20: =SUM(BD20:BE20) -> 0 | BG20: ='（別紙１）車両内訳表'!$F20 -> 0 | BH20: =INT(BG20*0.1) -> 0 | BI20: =SUM(BG20:BH20) -> 0 | BJ20: ='（別紙１）車両内訳表'!$F20 -> 0 | BK20: =INT(BJ20*0.1) -> 0 | BL20: =SUM(BJ20:BK20) -> 0 | BM20: ='（別紙１）車両内訳表'!$F20 -> 0 | BN20: =INT(BM20*0.1) -> 0 | BO20: =SUM(BM20:BN20) -> 0 | BP20: ='（別紙１）車両内訳表'!$F20 -> 0 | BQ20: =INT(BP20*0.1) -> 0 | BR20: =SUM(BP20:BQ20) -> 0 | BS20: ='（別紙１）車両内訳表'!$F20 -> 0 | BT20: =INT(BS20*0.1) -> 0 | BU20: =SUM(BS20:BT20) -> 0 | BV20: ='（別紙１）車両内訳表'!$F20 -> 0 | BW20: =INT(BV20*0.1) -> 0 | BX20: =SUM(BV20:BW20) -> 0 | BY20: ='（別紙１）車両内訳表'!$F20 -> 0 | BZ20: =INT(BY20*0.1) -> 0 | CA20: =SUM(BY20:BZ20) -> 0 | CB20: ='（別紙１）車両内訳表'!$F20 -> 0 | CC20: =INT(CB20*0.1) -> 0 | CD20: =SUM(CB20:CC20) -> 0 | CE20: ='（別紙１）車両内訳表'!$F20 -> 0 | CF20: =INT(CE20*0.1) -> 0 | CG20: =SUM(CE20:CF20) -> 0 | CH20: ='（別紙１）車両内訳表'!$F20 -> 0 | CI20: =INT(CH20*0.1) -> 0 | CJ20: =SUM(CH20:CI20) -> 0 | CK20: ='（別紙１）車両内訳表'!$F20 -> 0 | CL20: =INT(CK20*0.1) -> 0 | CM20: =SUM(CK20:CL20) -> 0 | CN20: ='（別紙１）車両内訳表'!$F20 -> 0 | CO20: =INT(CN20*0.1) -> 0 | CP20: =SUM(CN20:CO20) -> 0 | CQ20: ='（別紙１）車両内訳表'!$F20 -> 0 | CR20: =INT(CQ20*0.1) -> 0 | CS20: =SUM(CQ20:CR20) -> 0 | CT20: ='（別紙１）車両内訳表'!$F20 -> 0 | CU20: =INT(CT20*0.1) -> 0 | CV20: =SUM(CT20:CU20) -> 0 | CW20: ='（別紙１）車両内訳表'!$F20 -> 0 | CX20: =INT(CW20*0.1) -> 0 | CY20: =SUM(CW20:CX20) -> 0 | CZ20: ='（別紙１）車両内訳表'!$F20 -> 0 | DA20: =INT(CZ20*0.1) -> 0 | DB20: =SUM(CZ20:DA20) -> 0 | DC20: ='（別紙１）車両内訳表'!$F20 -> 0 | DD20: =INT(DC20*0.1) -> 0 | DE20: =SUM(DC20:DD20) -> 0 | DF20: ='（別紙１）車両内訳表'!$F20 -> 0 | DG20: =INT(DF20*0.1) -> 0 | DH20: =SUM(DF20:DG20) -> 0 | DI20: ='（別紙１）車両内訳表'!$F20 -> 0 | DJ20: =INT(DI20*0.1) -> 0 | DK20: =SUM(DI20:DJ20) -> 0 | DL20: ='（別紙１）車両内訳表'!$F20 -> 0 | DM20: =INT(DL20*0.1) -> 0 | DN20: =SUM(DL20:DM20) -> 0 | DO20: ='（別紙１）車両内訳表'!$F20 -> 0 | DP20: =INT(DO20*0.1) -> 0 | DQ20: =SUM(DO20:DP20) -> 0 | DR20: ='（別紙１）車両内訳表'!$F20 -> 0 | DS20: =INT(DR20*0.1) -> 0 | DT20: =SUM(DR20:DS20) -> 0 | DU20: ='（別紙１）車両内訳表'!$F20 -> 0 | DV20: =INT(DU20*0.1) -> 0 | DW20: =SUM(DU20:DV20) -> 0 | DX20: ='（別紙１）車両内訳表'!$F20 -> 0 | DY20: =INT(DX20*0.1) -> 0 | DZ20: =SUM(DX20:DY20) -> 0 | EA20: ='（別紙１）車両内訳表'!$F20 -> 0 | EB20: =INT(EA20*0.1) -> 0 | EC20: =SUM(EA20:EB20) -> 0 | ED20: ='（別紙１）車両内訳表'!$F20 -> 0 | EE20: =INT(ED20*0.1) -> 0 | EF20: =SUM(ED20:EE20) -> 0 | EG20: ='（別紙１）車両内訳表'!$F20 -> 0 | EH20: =INT(EG20*0.1) -> 0 | EI20: =SUM(EG20:EH20) -> 0 | EJ20: ='（別紙１）車両内訳表'!$F20 -> 0 | EK20: =INT(EJ20*0.1) -> 0 | EL20: =SUM(EJ20:EK20) -> 0 | EM20: ='（別紙１）車両内訳表'!$F20 -> 0 | EN20: =INT(EM20*0.1) -> 0 | EO20: =SUM(EM20:EN20) -> 0 | EP20: ='（別紙１）車両内訳表'!$F20 -> 0 | EQ20: =INT(EP20*0.1) -> 0 | ER20: =SUM(EP20:EQ20) -> 0 | ES20: ='（別紙１）車両内訳表'!$F20 -> 0 | ET20: =INT(ES20*0.1) -> 0 | EU20: =SUM(ES20:ET20) -> 0 | EV20: ='（別紙１）車両内訳表'!$F20 -> 0 | EW20: =INT(EV20*0.1) -> 0 | EX20: =SUM(EV20:EW20) -> 0 | EY20: ='（別紙１）車両内訳表'!$F20 -> 0 | EZ20: =INT(EY20*0.1) -> 0 | FA20: =SUM(EY20:EZ20) -> 0 | FB20: ='（別紙１）車両内訳表'!$F20 -> 0 | FC20: =INT(FB20*0.1) -> 0 | FD20: =SUM(FB20:FC20) -> 0 | FE20: ='（別紙１）車両内訳表'!$F20 -> 0 | FF20: =INT(FE20*0.1) -> 0 | FG20: =SUM(FE20:FF20) -> 0 | FH20: ='（別紙１）車両内訳表'!$F20 -> 0 | FI20: =INT(FH20*0.1) -> 0 | FJ20: =SUM(FH20:FI20) -> 0 | FK20: ='（別紙１）車両内訳表'!$F20 -> 0 | FL20: =INT(FK20*0.1) -> 0 | FM20: =SUM(FK20:FL20) -> 0 | FN20: ='（別紙１）車両内訳表'!$F20 -> 0 | FO20: =INT(FN20*0.1) -> 0 | FP20: =SUM(FN20:FO20) -> 0 | FQ20: ='（別紙１）車両内訳表'!$F20 -> 0 | FR20: =INT(FQ20*0.1) -> 0 | FS20: =SUM(FQ20:FR20) -> 0 | FT20: ='（別紙１）車両内訳表'!$F20 -> 0 | FU20: =INT(FT20*0.1) -> 0 | FV20: =SUM(FT20:FU20) -> 0 | FW20: ='（別紙１）車両内訳表'!$F20 -> 0 | FX20: =INT(FW20*0.1) -> 0 | FY20: =SUM(FW20:FX20) -> 0 | FZ20: ='（別紙１）車両内訳表'!$F20 -> 0 | GA20: =INT(FZ20*0.1) -> 0 | GB20: =SUM(FZ20:GA20) -> 0 | GC20: ='（別紙１）車両内訳表'!$F20 -> 0 | GD20: =INT(GC20*0.1) -> 0 | GE20: =SUM(GC20:GD20) -> 0 | GF20: ='（別紙１）車両内訳表'!$F20 -> 0 | GG20: =INT(GF20*0.1) -> 0 | GH20: =SUM(GF20:GG20) -> 0 | GI20: ='（別紙１）車両内訳表'!$F20 -> 0 | GJ20: =INT(GI20*0.1) -> 0 | GK20: =SUM(GI20:GJ20) -> 0 | GL20: ='（別紙１）車両内訳表'!$F20 -> 0 | GM20: =INT(GL20*0.1) -> 0 | GN20: =SUM(GL20:GM20) -> 0 | GO20: ='（別紙１）車両内訳表'!$F20 -> 0 | GP20: =INT(GO20*0.1) -> 0 | GQ20: =SUM(GO20:GP20) -> 0 | GR20: ='（別紙１）車両内訳表'!$F20 -> 0 | GS20: =INT(GR20*0.1) -> 0 | GT20: =SUM(GR20:GS20) -> 0 | GU20: ='（別紙１）車両内訳表'!$F20 -> 0 | GV20: =INT(GU20*0.1) -> 0 | GW20: =SUM(GU20:GV20) -> 0 | GX20: ='（別紙１）車両内訳表'!$F20 -> 0 | GY20: =INT(GX20*0.1) -> 0 | GZ20: =SUM(GX20:GY20) -> 0 | HA20: ='（別紙１）車両内訳表'!$F20 -> 0 | HB20: =INT(HA20*0.1) -> 0 | HC20: =SUM(HA20:HB20) -> 0 | HD20: ='（別紙１）車両内訳表'!$F20 -> 0 | HE20: =INT(HD20*0.1) -> 0 | HF20: =SUM(HD20:HE20) -> 0
A21: 18 | B21: 北区役所津高地域センター | C21: 46813 | D21: =EDATE(C21,59)-1 -> 48610 | AL21: ='（別紙１）車両内訳表'!$F21 -> 0 | AM21: =INT(AL21*0.1) -> 0 | AN21: =SUM(AL21:AM21) -> 0 | AO21: ='（別紙１）車両内訳表'!$F21 -> 0 | AP21: =INT(AO21*0.1) -> 0 | AQ21: =SUM(AO21:AP21) -> 0 | AR21: ='（別紙１）車両内訳表'!$F21 -> 0 | AS21: =INT(AR21*0.1) -> 0 | AT21: =SUM(AR21:AS21) -> 0 | AU21: ='（別紙１）車両内訳表'!$F21 -> 0 | AV21: =INT(AU21*0.1) -> 0 | AW21: =SUM(AU21:AV21) -> 0 | AX21: ='（別紙１）車両内訳表'!$F21 -> 0 | AY21: =INT(AX21*0.1) -> 0 | AZ21: =SUM(AX21:AY21) -> 0 | BA21: ='（別紙１）車両内訳表'!$F21 -> 0 | BB21: =INT(BA21*0.1) -> 0 | BC21: =SUM(BA21:BB21) -> 0 | BD21: ='（別紙１）車両内訳表'!$F21 -> 0 | BE21: =INT(BD21*0.1) -> 0 | BF21: =SUM(BD21:BE21) -> 0 | BG21: ='（別紙１）車両内訳表'!$F21 -> 0 | BH21: =INT(BG21*0.1) -> 0 | BI21: =SUM(BG21:BH21) -> 0 | BJ21: ='（別紙１）車両内訳表'!$F21 -> 0 | BK21: =INT(BJ21*0.1) -> 0 | BL21: =SUM(BJ21:BK21) -> 0 | BM21: ='（別紙１）車両内訳表'!$F21 -> 0 | BN21: =INT(BM21*0.1) -> 0 | BO21: =SUM(BM21:BN21) -> 0 | BP21: ='（別紙１）車両内訳表'!$F21 -> 0 | BQ21: =INT(BP21*0.1) -> 0 | BR21: =SUM(BP21:BQ21) -> 0 | BS21: ='（別紙１）車両内訳表'!$F21 -> 0 | BT21: =INT(BS21*0.1) -> 0 | BU21: =SUM(BS21:BT21) -> 0 | BV21: ='（別紙１）車両内訳表'!$F21 -> 0 | BW21: =INT(BV21*0.1) -> 0 | BX21: =SUM(BV21:BW21) -> 0 | BY21: ='（別紙１）車両内訳表'!$F21 -> 0 | BZ21: =INT(BY21*0.1) -> 0 | CA21: =SUM(BY21:BZ21) -> 0 | CB21: ='（別紙１）車両内訳表'!$F21 -> 0 | CC21: =INT(CB21*0.1) -> 0 | CD21: =SUM(CB21:CC21) -> 0 | CE21: ='（別紙１）車両内訳表'!$F21 -> 0 | CF21: =INT(CE21*0.1) -> 0 | CG21: =SUM(CE21:CF21) -> 0 | CH21: ='（別紙１）車両内訳表'!$F21 -> 0 | CI21: =INT(CH21*0.1) -> 0 | CJ21: =SUM(CH21:CI21) -> 0 | CK21: ='（別紙１）車両内訳表'!$F21 -> 0 | CL21: =INT(CK21*0.1) -> 0 | CM21: =SUM(CK21:CL21) -> 0 | CN21: ='（別紙１）車両内訳表'!$F21 -> 0 | CO21: =INT(CN21*0.1) -> 0 | CP21: =SUM(CN21:CO21) -> 0 | CQ21: ='（別紙１）車両内訳表'!$F21 -> 0 | CR21: =INT(CQ21*0.1) -> 0 | CS21: =SUM(CQ21:CR21) -> 0 | CT21: ='（別紙１）車両内訳表'!$F21 -> 0 | CU21: =INT(CT21*0.1) -> 0 | CV21: =SUM(CT21:CU21) -> 0 | CW21: ='（別紙１）車両内訳表'!$F21 -> 0 | CX21: =INT(CW21*0.1) -> 0 | CY21: =SUM(CW21:CX21) -> 0 | CZ21: ='（別紙１）車両内訳表'!$F21 -> 0 | DA21: =INT(CZ21*0.1) -> 0 | DB21: =SUM(CZ21:DA21) -> 0 | DC21: ='（別紙１）車両内訳表'!$F21 -> 0 | DD21: =INT(DC21*0.1) -> 0 | DE21: =SUM(DC21:DD21) -> 0 | DF21: ='（別紙１）車両内訳表'!$F21 -> 0 | DG21: =INT(DF21*0.1) -> 0 | DH21: =SUM(DF21:DG21) -> 0 | DI21: ='（別紙１）車両内訳表'!$F21 -> 0 | DJ21: =INT(DI21*0.1) -> 0 | DK21: =SUM(DI21:DJ21) -> 0 | DL21: ='（別紙１）車両内訳表'!$F21 -> 0 | DM21: =INT(DL21*0.1) -> 0 | DN21: =SUM(DL21:DM21) -> 0 | DO21: ='（別紙１）車両内訳表'!$F21 -> 0 | DP21: =INT(DO21*0.1) -> 0 | DQ21: =SUM(DO21:DP21) -> 0 | DR21: ='（別紙１）車両内訳表'!$F21 -> 0 | DS21: =INT(DR21*0.1) -> 0 | DT21: =SUM(DR21:DS21) -> 0 | DU21: ='（別紙１）車両内訳表'!$F21 -> 0 | DV21: =INT(DU21*0.1) -> 0 | DW21: =SUM(DU21:DV21) -> 0 | DX21: ='（別紙１）車両内訳表'!$F21 -> 0 | DY21: =INT(DX21*0.1) -> 0 | DZ21: =SUM(DX21:DY21) -> 0 | EA21: ='（別紙１）車両内訳表'!$F21 -> 0 | EB21: =INT(EA21*0.1) -> 0 | EC21: =SUM(EA21:EB21) -> 0 | ED21: ='（別紙１）車両内訳表'!$F21 -> 0 | EE21: =INT(ED21*0.1) -> 0 | EF21: =SUM(ED21:EE21) -> 0 | EG21: ='（別紙１）車両内訳表'!$F21 -> 0 | EH21: =INT(EG21*0.1) -> 0 | EI21: =SUM(EG21:EH21) -> 0 | EJ21: ='（別紙１）車両内訳表'!$F21 -> 0 | EK21: =INT(EJ21*0.1) -> 0 | EL21: =SUM(EJ21:EK21) -> 0 | EM21: ='（別紙１）車両内訳表'!$F21 -> 0 | EN21: =INT(EM21*0.1) -> 0 | EO21: =SUM(EM21:EN21) -> 0 | EP21: ='（別紙１）車両内訳表'!$F21 -> 0 | EQ21: =INT(EP21*0.1) -> 0 | ER21: =SUM(EP21:EQ21) -> 0 | ES21: ='（別紙１）車両内訳表'!$F21 -> 0 | ET21: =INT(ES21*0.1) -> 0 | EU21: =SUM(ES21:ET21) -> 0 | EV21: ='（別紙１）車両内訳表'!$F21 -> 0 | EW21: =INT(EV21*0.1) -> 0 | EX21: =SUM(EV21:EW21) -> 0 | EY21: ='（別紙１）車両内訳表'!$F21 -> 0 | EZ21: =INT(EY21*0.1) -> 0 | FA21: =SUM(EY21:EZ21) -> 0 | FB21: ='（別紙１）車両内訳表'!$F21 -> 0 | FC21: =INT(FB21*0.1) -> 0 | FD21: =SUM(FB21:FC21) -> 0 | FE21: ='（別紙１）車両内訳表'!$F21 -> 0 | FF21: =INT(FE21*0.1) -> 0 | FG21: =SUM(FE21:FF21) -> 0 | FH21: ='（別紙１）車両内訳表'!$F21 -> 0 | FI21: =INT(FH21*0.1) -> 0 | FJ21: =SUM(FH21:FI21) -> 0 | FK21: ='（別紙１）車両内訳表'!$F21 -> 0 | FL21: =INT(FK21*0.1) -> 0 | FM21: =SUM(FK21:FL21) -> 0 | FN21: ='（別紙１）車両内訳表'!$F21 -> 0 | FO21: =INT(FN21*0.1) -> 0 | FP21: =SUM(FN21:FO21) -> 0 | FQ21: ='（別紙１）車両内訳表'!$F21 -> 0 | FR21: =INT(FQ21*0.1) -> 0 | FS21: =SUM(FQ21:FR21) -> 0 | FT21: ='（別紙１）車両内訳表'!$F21 -> 0 | FU21: =INT(FT21*0.1) -> 0 | FV21: =SUM(FT21:FU21) -> 0 | FW21: ='（別紙１）車両内訳表'!$F21 -> 0 | FX21: =INT(FW21*0.1) -> 0 | FY21: =SUM(FW21:FX21) -> 0 | FZ21: ='（別紙１）車両内訳表'!$F21 -> 0 | GA21: =INT(FZ21*0.1) -> 0 | GB21: =SUM(FZ21:GA21) -> 0 | GC21: ='（別紙１）車両内訳表'!$F21 -> 0 | GD21: =INT(GC21*0.1) -> 0 | GE21: =SUM(GC21:GD21) -> 0 | GF21: ='（別紙１）車両内訳表'!$F21 -> 0 | GG21: =INT(GF21*0.1) -> 0 | GH21: =SUM(GF21:GG21) -> 0 | GI21: ='（別紙１）車両内訳表'!$F21 -> 0 | GJ21: =INT(GI21*0.1) -> 0 | GK21: =SUM(GI21:GJ21) -> 0 | GL21: ='（別紙１）車両内訳表'!$F21 -> 0 | GM21: =INT(GL21*0.1) -> 0 | GN21: =SUM(GL21:GM21) -> 0 | GO21: ='（別紙１）車両内訳表'!$F21 -> 0 | GP21: =INT(GO21*0.1) -> 0 | GQ21: =SUM(GO21:GP21) -> 0 | GR21: ='（別紙１）車両内訳表'!$F21 -> 0 | GS21: =INT(GR21*0.1) -> 0 | GT21: =SUM(GR21:GS21) -> 0 | GU21: ='（別紙１）車両内訳表'!$F21 -> 0 | GV21: =INT(GU21*0.1) -> 0 | GW21: =SUM(GU21:GV21) -> 0 | GX21: ='（別紙１）車両内訳表'!$F21 -> 0 | GY21: =INT(GX21*0.1) -> 0 | GZ21: =SUM(GX21:GY21) -> 0 | HA21: ='（別紙１）車両内訳表'!$F21 -> 0 | HB21: =INT(HA21*0.1) -> 0 | HC21: =SUM(HA21:HB21) -> 0 | HD21: ='（別紙１）車両内訳表'!$F21 -> 0 | HE21: =INT(HD21*0.1) -> 0 | HF21: =SUM(HD21:HE21) -> 0
A22: 19 | B22: 南区西福祉事務所 | C22: 46813 | D22: =EDATE(C22,59)-1 -> 48610 | AL22: ='（別紙１）車両内訳表'!$F22 -> 0 | AM22: =INT(AL22*0.1) -> 0 | AN22: =SUM(AL22:AM22) -> 0 | AO22: ='（別紙１）車両内訳表'!$F22 -> 0 | AP22: =INT(AO22*0.1) -> 0 | AQ22: =SUM(AO22:AP22) -> 0 | AR22: ='（別紙１）車両内訳表'!$F22 -> 0 | AS22: =INT(AR22*0.1) -> 0 | AT22: =SUM(AR22:AS22) -> 0 | AU22: ='（別紙１）車両内訳表'!$F22 -> 0 | AV22: =INT(AU22*0.1) -> 0 | AW22: =SUM(AU22:AV22) -> 0 | AX22: ='（別紙１）車両内訳表'!$F22 -> 0 | AY22: =INT(AX22*0.1) -> 0 | AZ22: =SUM(AX22:AY22) -> 0 | BA22: ='（別紙１）車両内訳表'!$F22 -> 0 | BB22: =INT(BA22*0.1) -> 0 | BC22: =SUM(BA22:BB22) -> 0 | BD22: ='（別紙１）車両内訳表'!$F22 -> 0 | BE22: =INT(BD22*0.1) -> 0 | BF22: =SUM(BD22:BE22) -> 0 | BG22: ='（別紙１）車両内訳表'!$F22 -> 0 | BH22: =INT(BG22*0.1) -> 0 | BI22: =SUM(BG22:BH22) -> 0 | BJ22: ='（別紙１）車両内訳表'!$F22 -> 0 | BK22: =INT(BJ22*0.1) -> 0 | BL22: =SUM(BJ22:BK22) -> 0 | BM22: ='（別紙１）車両内訳表'!$F22 -> 0 | BN22: =INT(BM22*0.1) -> 0 | BO22: =SUM(BM22:BN22) -> 0 | BP22: ='（別紙１）車両内訳表'!$F22 -> 0 | BQ22: =INT(BP22*0.1) -> 0 | BR22: =SUM(BP22:BQ22) -> 0 | BS22: ='（別紙１）車両内訳表'!$F22 -> 0 | BT22: =INT(BS22*0.1) -> 0 | BU22: =SUM(BS22:BT22) -> 0 | BV22: ='（別紙１）車両内訳表'!$F22 -> 0 | BW22: =INT(BV22*0.1) -> 0 | BX22: =SUM(BV22:BW22) -> 0 | BY22: ='（別紙１）車両内訳表'!$F22 -> 0 | BZ22: =INT(BY22*0.1) -> 0 | CA22: =SUM(BY22:BZ22) -> 0 | CB22: ='（別紙１）車両内訳表'!$F22 -> 0 | CC22: =INT(CB22*0.1) -> 0 | CD22: =SUM(CB22:CC22) -> 0 | CE22: ='（別紙１）車両内訳表'!$F22 -> 0 | CF22: =INT(CE22*0.1) -> 0 | CG22: =SUM(CE22:CF22) -> 0 | CH22: ='（別紙１）車両内訳表'!$F22 -> 0 | CI22: =INT(CH22*0.1) -> 0 | CJ22: =SUM(CH22:CI22) -> 0 | CK22: ='（別紙１）車両内訳表'!$F22 -> 0 | CL22: =INT(CK22*0.1) -> 0 | CM22: =SUM(CK22:CL22) -> 0 | CN22: ='（別紙１）車両内訳表'!$F22 -> 0 | CO22: =INT(CN22*0.1) -> 0 | CP22: =SUM(CN22:CO22) -> 0 | CQ22: ='（別紙１）車両内訳表'!$F22 -> 0 | CR22: =INT(CQ22*0.1) -> 0 | CS22: =SUM(CQ22:CR22) -> 0 | CT22: ='（別紙１）車両内訳表'!$F22 -> 0 | CU22: =INT(CT22*0.1) -> 0 | CV22: =SUM(CT22:CU22) -> 0 | CW22: ='（別紙１）車両内訳表'!$F22 -> 0 | CX22: =INT(CW22*0.1) -> 0 | CY22: =SUM(CW22:CX22) -> 0 | CZ22: ='（別紙１）車両内訳表'!$F22 -> 0 | DA22: =INT(CZ22*0.1) -> 0 | DB22: =SUM(CZ22:DA22) -> 0 | DC22: ='（別紙１）車両内訳表'!$F22 -> 0 | DD22: =INT(DC22*0.1) -> 0 | DE22: =SUM(DC22:DD22) -> 0 | DF22: ='（別紙１）車両内訳表'!$F22 -> 0 | DG22: =INT(DF22*0.1) -> 0 | DH22: =SUM(DF22:DG22) -> 0 | DI22: ='（別紙１）車両内訳表'!$F22 -> 0 | DJ22: =INT(DI22*0.1) -> 0 | DK22: =SUM(DI22:DJ22) -> 0 | DL22: ='（別紙１）車両内訳表'!$F22 -> 0 | DM22: =INT(DL22*0.1) -> 0 | DN22: =SUM(DL22:DM22) -> 0 | DO22: ='（別紙１）車両内訳表'!$F22 -> 0 | DP22: =INT(DO22*0.1) -> 0 | DQ22: =SUM(DO22:DP22) -> 0 | DR22: ='（別紙１）車両内訳表'!$F22 -> 0 | DS22: =INT(DR22*0.1) -> 0 | DT22: =SUM(DR22:DS22) -> 0 | DU22: ='（別紙１）車両内訳表'!$F22 -> 0 | DV22: =INT(DU22*0.1) -> 0 | DW22: =SUM(DU22:DV22) -> 0 | DX22: ='（別紙１）車両内訳表'!$F22 -> 0 | DY22: =INT(DX22*0.1) -> 0 | DZ22: =SUM(DX22:DY22) -> 0 | EA22: ='（別紙１）車両内訳表'!$F22 -> 0 | EB22: =INT(EA22*0.1) -> 0 | EC22: =SUM(EA22:EB22) -> 0 | ED22: ='（別紙１）車両内訳表'!$F22 -> 0 | EE22: =INT(ED22*0.1) -> 0 | EF22: =SUM(ED22:EE22) -> 0 | EG22: ='（別紙１）車両内訳表'!$F22 -> 0 | EH22: =INT(EG22*0.1) -> 0 | EI22: =SUM(EG22:EH22) -> 0 | EJ22: ='（別紙１）車両内訳表'!$F22 -> 0 | EK22: =INT(EJ22*0.1) -> 0 | EL22: =SUM(EJ22:EK22) -> 0 | EM22: ='（別紙１）車両内訳表'!$F22 -> 0 | EN22: =INT(EM22*0.1) -> 0 | EO22: =SUM(EM22:EN22) -> 0 | EP22: ='（別紙１）車両内訳表'!$F22 -> 0 | EQ22: =INT(EP22*0.1) -> 0 | ER22: =SUM(EP22:EQ22) -> 0 | ES22: ='（別紙１）車両内訳表'!$F22 -> 0 | ET22: =INT(ES22*0.1) -> 0 | EU22: =SUM(ES22:ET22) -> 0 | EV22: ='（別紙１）車両内訳表'!$F22 -> 0 | EW22: =INT(EV22*0.1) -> 0 | EX22: =SUM(EV22:EW22) -> 0 | EY22: ='（別紙１）車両内訳表'!$F22 -> 0 | EZ22: =INT(EY22*0.1) -> 0 | FA22: =SUM(EY22:EZ22) -> 0 | FB22: ='（別紙１）車両内訳表'!$F22 -> 0 | FC22: =INT(FB22*0.1) -> 0 | FD22: =SUM(FB22:FC22) -> 0 | FE22: ='（別紙１）車両内訳表'!$F22 -> 0 | FF22: =INT(FE22*0.1) -> 0 | FG22: =SUM(FE22:FF22) -> 0 | FH22: ='（別紙１）車両内訳表'!$F22 -> 0 | FI22: =INT(FH22*0.1) -> 0 | FJ22: =SUM(FH22:FI22) -> 0 | FK22: ='（別紙１）車両内訳表'!$F22 -> 0 | FL22: =INT(FK22*0.1) -> 0 | FM22: =SUM(FK22:FL22) -> 0 | FN22: ='（別紙１）車両内訳表'!$F22 -> 0 | FO22: =INT(FN22*0.1) -> 0 | FP22: =SUM(FN22:FO22) -> 0 | FQ22: ='（別紙１）車両内訳表'!$F22 -> 0 | FR22: =INT(FQ22*0.1) -> 0 | FS22: =SUM(FQ22:FR22) -> 0 | FT22: ='（別紙１）車両内訳表'!$F22 -> 0 | FU22: =INT(FT22*0.1) -> 0 | FV22: =SUM(FT22:FU22) -> 0 | FW22: ='（別紙１）車両内訳表'!$F22 -> 0 | FX22: =INT(FW22*0.1) -> 0 | FY22: =SUM(FW22:FX22) -> 0 | FZ22: ='（別紙１）車両内訳表'!$F22 -> 0 | GA22: =INT(FZ22*0.1) -> 0 | GB22: =SUM(FZ22:GA22) -> 0 | GC22: ='（別紙１）車両内訳表'!$F22 -> 0 | GD22: =INT(GC22*0.1) -> 0 | GE22: =SUM(GC22:GD22) -> 0 | GF22: ='（別紙１）車両内訳表'!$F22 -> 0 | GG22: =INT(GF22*0.1) -> 0 | GH22: =SUM(GF22:GG22) -> 0 | GI22: ='（別紙１）車両内訳表'!$F22 -> 0 | GJ22: =INT(GI22*0.1) -> 0 | GK22: =SUM(GI22:GJ22) -> 0 | GL22: ='（別紙１）車両内訳表'!$F22 -> 0 | GM22: =INT(GL22*0.1) -> 0 | GN22: =SUM(GL22:GM22) -> 0 | GO22: ='（別紙１）車両内訳表'!$F22 -> 0 | GP22: =INT(GO22*0.1) -> 0 | GQ22: =SUM(GO22:GP22) -> 0 | GR22: ='（別紙１）車両内訳表'!$F22 -> 0 | GS22: =INT(GR22*0.1) -> 0 | GT22: =SUM(GR22:GS22) -> 0 | GU22: ='（別紙１）車両内訳表'!$F22 -> 0 | GV22: =INT(GU22*0.1) -> 0 | GW22: =SUM(GU22:GV22) -> 0 | GX22: ='（別紙１）車両内訳表'!$F22 -> 0 | GY22: =INT(GX22*0.1) -> 0 | GZ22: =SUM(GX22:GY22) -> 0 | HA22: ='（別紙１）車両内訳表'!$F22 -> 0 | HB22: =INT(HA22*0.1) -> 0 | HC22: =SUM(HA22:HB22) -> 0 | HD22: ='（別紙１）車両内訳表'!$F22 -> 0 | HE22: =INT(HD22*0.1) -> 0 | HF22: =SUM(HD22:HE22) -> 0
D23: 月額(税抜) | E23: =SUM(E4:E22) -> 0 | H23: =SUM(H4:H22) -> 0 | K23: =SUM(K4:K22) -> 0 | N23: =SUM(N4:N22) -> 0 | Q23: =SUM(Q4:Q22) -> 0 | T23: =SUM(T4:T22) -> 0 | W23: =SUM(W4:W22) -> 0 | Z23: =SUM(Z4:Z22) -> 0 | AC23: =SUM(AC4:AC22) -> 0 | AF23: =SUM(AF4:AF22) -> 0 | AI23: =SUM(AI4:AI22) -> 0 | AL23: =SUM(AL4:AL22) -> 0 | AO23: =SUM(AO4:AO22) -> 0 | AR23: =SUM(AR4:AR22) -> 0 | AU23: =SUM(AU4:AU22) -> 0 | AX23: =SUM(AX4:AX22) -> 0 | BA23: =SUM(BA4:BA22) -> 0 | BD23: =SUM(BD4:BD22) -> 0 | BG23: =SUM(BG4:BG22) -> 0 | BJ23: =SUM(BJ4:BJ22) -> 0 | BM23: =SUM(BM4:BM22) -> 0 | BP23: =SUM(BP4:BP22) -> 0 | BS23: =SUM(BS4:BS22) -> 0 | BV23: =SUM(BV4:BV22) -> 0 | BY23: =SUM(BY4:BY22) -> 0 | CB23: =SUM(CB4:CB22) -> 0 | CE23: =SUM(CE4:CE22) -> 0 | CH23: =SUM(CH4:CH22) -> 0 | CK23: =SUM(CK4:CK22) -> 0 | CN23: =SUM(CN4:CN22) -> 0 | CQ23: =SUM(CQ4:CQ22) -> 0 | CT23: =SUM(CT4:CT22) -> 0 | CW23: =SUM(CW4:CW22) -> 0 | CZ23: =SUM(CZ4:CZ22) -> 0 | DC23: =SUM(DC4:DC22) -> 0 | DF23: =SUM(DF4:DF22) -> 0 | DI23: =SUM(DI4:DI22) -> 0 | DL23: =SUM(DL4:DL22) -> 0 | DO23: =SUM(DO4:DO22) -> 0 | DR23: =SUM(DR4:DR22) -> 0 | DU23: =SUM(DU4:DU22) -> 0 | DX23: =SUM(DX4:DX22) -> 0 | EA23: =SUM(EA4:EA22) -> 0 | ED23: =SUM(ED4:ED22) -> 0 | EG23: =SUM(EG4:EG22) -> 0 | EJ23: =SUM(EJ4:EJ22) -> 0 | EM23: =SUM(EM4:EM22) -> 0 | EP23: =SUM(EP4:EP22) -> 0 | ES23: =SUM(ES4:ES22) -> 0 | EV23: =SUM(EV4:EV22) -> 0 | EY23: =SUM(EY4:EY22) -> 0 | FB23: =SUM(FB4:FB22) -> 0 | FE23: =SUM(FE4:FE22) -> 0 | FH23: =SUM(FH4:FH22) -> 0 | FK23: =SUM(FK4:FK22) -> 0 | FN23: =SUM(FN4:FN22) -> 0 | FQ23: =SUM(FQ4:FQ22) -> 0 | FT23: =SUM(FT4:FT22) -> 0 | FW23: =SUM(FW4:FW22) -> 0 | FZ23: =SUM(FZ4:FZ22) -> 0 | GC23: =SUM(GC4:GC22) -> 0 | GF23: =SUM(GF4:GF22) -> 0 | GI23: =SUM(GI4:GI22) -> 0 | GL23: =SUM(GL4:GL22) -> 0 | GO23: =SUM(GO4:GO22) -> 0 | GR23: =SUM(GR4:GR22) -> 0 | GU23: =SUM(GU4:GU22) -> 0 | GX23: =SUM(GX4:GX22) -> 0 | HA23: =SUM(HA4:HA22) -> 0 | HD23: =SUM(HD4:HD22) -> 0 | HG23: =SUM(HG4:HG22) -> 0 | HJ23: =SUM(HJ4:HJ22) -> 0
D24: 消費税額 | E24: =SUM(F4:F22) -> 0 | H24: =SUM(I4:I22) -> 0 | K24: =SUM(L4:L22) -> 0 | N24: =SUM(O4:O22) -> 0 | Q24: =SUM(R4:R22) -> 0 | T24: =SUM(U4:U22) -> 0 | W24: =SUM(X4:X22) -> 0 | Z24: =SUM(AA4:AA22) -> 0 | AC24: =SUM(AD4:AD22) -> 0 | AF24: =SUM(AG4:AG22) -> 0 | AI24: =SUM(AJ4:AJ22) -> 0 | AL24: =SUM(AM4:AM22) -> 0 | AO24: =SUM(AP4:AP22) -> 0 | AR24: =SUM(AS4:AS22) -> 0 | AU24: =SUM(AV4:AV22) -> 0 | AX24: =SUM(AY4:AY22) -> 0 | BA24: =SUM(BB4:BB22) -> 0 | BD24: =SUM(BE4:BE22) -> 0 | BG24: =SUM(BH4:BH22) -> 0 | BJ24: =SUM(BK4:BK22) -> 0 | BM24: =SUM(BN4:BN22) -> 0 | BP24: =SUM(BQ4:BQ22) -> 0 | BS24: =SUM(BT4:BT22) -> 0 | BV24: =SUM(BW4:BW22) -> 0 | BY24: =SUM(BZ4:BZ22) -> 0 | CB24: =SUM(CC4:CC22) -> 0 | CE24: =SUM(CF4:CF22) -> 0 | CH24: =SUM(CI4:CI22) -> 0 | CK24: =SUM(CL4:CL22) -> 0 | CN24: =SUM(CO4:CO22) -> 0 | CQ24: =SUM(CR4:CR22) -> 0 | CT24: =SUM(CU4:CU22) -> 0 | CW24: =SUM(CX4:CX22) -> 0 | CZ24: =SUM(DA4:DA22) -> 0 | DC24: =SUM(DD4:DD22) -> 0 | DF24: =SUM(DG4:DG22) -> 0 | DI24: =SUM(DJ4:DJ22) -> 0 | DL24: =SUM(DM4:DM22) -> 0 | DO24: =SUM(DP4:DP22) -> 0 | DR24: =SUM(DS4:DS22) -> 0 | DU24: =SUM(DV4:DV22) -> 0 | DX24: =SUM(DY4:DY22) -> 0 | EA24: =SUM(EB4:EB22) -> 0 | ED24: =SUM(EE4:EE22) -> 0 | EG24: =SUM(EH4:EH22) -> 0 | EJ24: =SUM(EK4:EK22) -> 0 | EM24: =SUM(EN4:EN22) -> 0 | EP24: =SUM(EQ4:EQ22) -> 0 | ES24: =SUM(ET4:ET22) -> 0 | EV24: =SUM(EW4:EW22) -> 0 | EY24: =SUM(EZ4:EZ22) -> 0 | FB24: =SUM(FC4:FC22) -> 0 | FE24: =SUM(FF4:FF22) -> 0 | FH24: =SUM(FI4:FI22) -> 0 | FK24: =SUM(FL4:FL22) -> 0 | FN24: =SUM(FO4:FO22) -> 0 | FQ24: =SUM(FR4:FR22) -> 0 | FT24: =SUM(FU4:FU22) -> 0 | FW24: =SUM(FX4:FX22) -> 0 | FZ24: =SUM(GA4:GA22) -> 0 | GC24: =SUM(GD4:GD22) -> 0 | GF24: =SUM(GG4:GG22) -> 0 | GI24: =SUM(GJ4:GJ22) -> 0 | GL24: =SUM(GM4:GM22) -> 0 | GO24: =SUM(GP4:GP22) -> 0 | GR24: =SUM(GS4:GS22) -> 0 | GU24: =SUM(GV4:GV22) -> 0 | GX24: =SUM(GY4:GY22) -> 0 | HA24: =SUM(HB4:HB22) -> 0 | HD24: =SUM(HE4:HE22) -> 0 | HG24: =SUM(HH4:HH22) -> 0 | HJ24: =SUM(HK4:HK22) -> 0
D25: 月額(税込) | E25: =SUM(G4:G22) -> 0 | H25: =SUM(J4:J22) -> 0 | K25: =SUM(M4:M22) -> 0 | N25: =SUM(P4:P22) -> 0 | Q25: =SUM(S4:S22) -> 0 | T25: =SUM(V4:V22) -> 0 | W25: =SUM(Y4:Y22) -> 0 | Z25: =SUM(AB4:AB22) -> 0 | AC25: =SUM(AE4:AE22) -> 0 | AF25: =SUM(AH4:AH22) -> 0 | AI25: =SUM(AK4:AK22) -> 0 | AL25: =SUM(AN4:AN22) -> 0 | AO25: =SUM(AQ4:AQ22) -> 0 | AR25: =SUM(AT4:AT22) -> 0 | AU25: =SUM(AW4:AW22) -> 0 | AX25: =SUM(AZ4:AZ22) -> 0 | BA25: =SUM(BC4:BC22) -> 0 | BD25: =SUM(BF4:BF22) -> 0 | BG25: =SUM(BI4:BI22) -> 0 | BJ25: =SUM(BL4:BL22) -> 0 | BM25: =SUM(BO4:BO22) -> 0 | BP25: =SUM(BR4:BR22) -> 0 | BS25: =SUM(BU4:BU22) -> 0 | BV25: =SUM(BX4:BX22) -> 0 | BY25: =SUM(CA4:CA22) -> 0 | CB25: =SUM(CD4:CD22) -> 0 | CE25: =SUM(CG4:CG22) -> 0 | CH25: =SUM(CJ4:CJ22) -> 0 | CK25: =SUM(CM4:CM22) -> 0 | CN25: =SUM(CP4:CP22) -> 0 | CQ25: =SUM(CS4:CS22) -> 0 | CT25: =SUM(CV4:CV22) -> 0 | CW25: =SUM(CY4:CY22) -> 0 | CZ25: =SUM(DB4:DB22) -> 0 | DC25: =SUM(DE4:DE22) -> 0 | DF25: =SUM(DH4:DH22) -> 0 | DI25: =SUM(DK4:DK22) -> 0 | DL25: =SUM(DN4:DN22) -> 0 | DO25: =SUM(DQ4:DQ22) -> 0 | DR25: =SUM(DT4:DT22) -> 0 | DU25: =SUM(DW4:DW22) -> 0 | DX25: =SUM(DZ4:DZ22) -> 0 | EA25: =SUM(EC4:EC22) -> 0 | ED25: =SUM(EF4:EF22) -> 0 | EG25: =SUM(EI4:EI22) -> 0 | EJ25: =SUM(EL4:EL22) -> 0 | EM25: =SUM(EO4:EO22) -> 0 | EP25: =SUM(ER4:ER22) -> 0 | ES25: =SUM(EU4:EU22) -> 0 | EV25: =SUM(EX4:EX22) -> 0 | EY25: =SUM(FA4:FA22) -> 0 | FB25: =SUM(FD4:FD22) -> 0 | FE25: =SUM(FG4:FG22) -> 0 | FH25: =SUM(FJ4:FJ22) -> 0 | FK25: =SUM(FM4:FM22) -> 0 | FN25: =SUM(FP4:FP22) -> 0 | FQ25: =SUM(FS4:FS22) -> 0 | FT25: =SUM(FV4:FV22) -> 0 | FW25: =SUM(FY4:FY22) -> 0 | FZ25: =SUM(GB4:GB22) -> 0 | GC25: =SUM(GE4:GE22) -> 0 | GF25: =SUM(GH4:GH22) -> 0 | GI25: =SUM(GK4:GK22) -> 0 | GL25: =SUM(GN4:GN22) -> 0 | GO25: =SUM(GQ4:GQ22) -> 0 | GR25: =SUM(GT4:GT22) -> 0 | GU25: =SUM(GW4:GW22) -> 0 | GX25: =SUM(GZ4:GZ22) -> 0 | HA25: =SUM(HC4:HC22) -> 0 | HD25: =SUM(HF4:HF22) -> 0 | HG25: =SUM(HI4:HI22) -> 0 | HJ25: =SUM(HL4:HL22) -> 0
D26: 支払額 | E26: =SUM(E25:M25) -> 0 | N26: =SUM(N25:V25) -> 0 | W26: =SUM(W25:AE25) -> 0 | AF26: =SUM(AF25:AN25) -> 0 | AO26: =SUM(AO25:AW25) -> 0 | AX26: =SUM(AX25:BF25) -> 0 | BG26: =SUM(BG25:BO25) -> 0 | BP26: =SUM(BP25:BX25) -> 0 | BY26: =SUM(BY25:CG25) -> 0 | CH26: =SUM(CH25:CP25) -> 0 | CQ26: =SUM(CQ25:CY25) -> 0 | CZ26: =SUM(CZ25:DH25) -> 0 | DI26: =SUM(DI25:DQ25) -> 0 | DR26: =SUM(DR25:DZ25) -> 0 | EA26: =SUM(EA25:EI25) -> 0 | EJ26: =SUM(EJ25:ER25) -> 0 | ES26: =SUM(ES25:FA25) -> 0 | FB26: =SUM(FB25:FJ25) -> 0 | FK26: =SUM(FK25:FS25) -> 0 | FT26: =SUM(FT25:GB25) -> 0 | GC26: =SUM(GC25:GK25) -> 0 | GL26: =SUM(GL25:GT25) -> 0 | GU26: =SUM(GU25:HC25) -> 0 | HD26: =SUM(HD25:HL25) -> 0
AI27: 9年度 | AJ27: 税抜計 | AL27: =SUM(E23:AN23) -> 0 | BS27: 10年度 | BT27: 税抜計 | BV27: =SUM(AO23:BX23) -> 0 | DC27: 11年度 | DD27: 税抜計 | DF27: =SUM(BY23:DH23) -> 0 | EM27: 12年度 | EN27: 税抜計 | EP27: =SUM(DI23:ER23) -> 0 | FW27: 13年度 | FX27: 税抜計 | FZ27: =SUM(ES23:GB23) -> 0 | HG27: 14年度 | HH27: 税抜計 | HJ27: =SUM(GC23:HL23) -> 0
AJ28: 消費税 | AL28: =SUM(E24:AN24) -> 0 | BT28: 消費税 | BV28: =SUM(AO24:BX24) -> 0 | DD28: 消費税 | DF28: =SUM(BY24:DH24) -> 0 | EN28: 消費税 | EP28: =SUM(DI24:ER24) -> 0 | FX28: 消費税 | FZ28: =SUM(ES24:GB24) -> 0 | HH28: 消費税 | HJ28: =SUM(GC24:HL24) -> 0
AJ29: 税込計 | AL29: =SUM(E25:AN25) -> 0 | BT29: 税込計 | BV29: =SUM(AO25:BX25) -> 0 | DD29: 税込計 | DF29: =SUM(BY25:DH25) -> 0 | EN29: 税込計 | EP29: =SUM(DI25:ER25) -> 0 | FX29: 税込計 | FZ29: =SUM(ES25:GB25) -> 0 | HH29: 税込計 | HJ29: =SUM(GC25:HL25) -> 0
